Workbook

Sheet Dashboard
B2: WFM ATTENDANCE & AUX DASHBOARD | AA2: ='Attendance View'!$AC$3 -> 1
B3: ="Source: "&'Attendance View'!$C$3&" · Report date: "&TEXT('Attendance View'!$A$3,"ddd dd mmm yyyy")&" · Active checkpoint: "&TEXT('Attendance View'!$AF$3/1440,"hh:mm")&" CET · "&'Attendance View'!$G$3&" (change the selector in 'Attendance View' row 3)" -> Source: Snapshot 10:30 · Report date: Tue 09 Jun 2026 · Active checkpoint: 10:30 CET · ✔ 1086 text lines → 181 agent blocks parsed · checkpoint 10:30 CET (change the selector in 'Attendance View' row 3) | AA3: ='Attendance View'!$AF$3 -> 630
B5: SCHEDULED | F5: WORKING | J5: ABSENT / OFFLINE | N5: NON-PRODUCTIVE AUX | R5: ATTENDANCE % | V5: PRODUCTIVE %
B6: =COUNTIFS('Attendance View'!$M:$M,"<="&$AA$3,'Attendance View'!$N:$N,">"&$AA$3) -> 60 | F6: =COUNTIFS('Attendance View'!$M:$M,"<="&$AA$3,'Attendance View'!$N:$N,">"&$AA$3,'Attendance View'!$J:$J,"Yes") -> 49 | J6: =COUNTIFS('Attendance View'!$M:$M,"<="&$AA$3,'Attendance View'!$N:$N,">"&$AA$3,'Attendance View'!$J:$J,"No") -> 1 | N6: =COUNTIFS('Attendance View'!$M:$M,"<="&$AA$3,'Attendance View'!$N:$N,">"&$AA$3,'Attendance View'!$J:$J,"Not Productive") -> 10 | R6: =IF($B$6=0,0,($F$6+$N$6)/$B$6) -> 0.98333333 | V6: =IF($B$6=0,0,$F$6/$B$6) -> 0.81666667
B8: ="agents on shift at "&TEXT($AA$3/1440,"hh:mm") -> agents on shift at 10:30 | F8: =TEXT(IF($B$6=0,0,$F$6/B6),"0.0%")&" of scheduled" -> 81.7% of scheduled | J8: =TEXT(IF($B$6=0,0,$J$6/B6),"0.0%")&" absence rate" -> 1.7% absence rate | N8: =TEXT(IF($B$6=0,0,$N$6/B6),"0.0%")&" NP shrinkage" -> 16.7% NP shrinkage | R8: Working + NP / Scheduled | V8: ="Working ÷ Scheduled" -> Working ÷ Scheduled
B10: CLIENT CHECKPOINT MATRIX · 10:30 / 13:30 / 18:30 CET | R10: DATA QUALITY & RECONCILIATION
B11: LOB | E11: 0.4375 | I11: 0.5625 | M11: 0.77083333
E12: Scheduled | F12: Working | G12: Absent | H12: NP AUXs | I12: Scheduled | J12: Working | K12: Absent | L12: NP AUXs | M12: Scheduled | N12: Working | O12: Absent | P12: NP AUXs | R12: Rostered agents (shift sheet) | X12: =COUNTIF('Attendance View'!$A$5:$A$1504,">0") -> 145
B13: LOB_1 | E13: =COUNTIFS('Attendance View'!$C:$C,$B13,'Attendance View'!$M:$M,"<="&ROUND($E$11*1440,0),'Attendance View'!$N:$N,">"&ROUND($E$11*1440,0)) -> 25 | F13: =COUNTIFS('Attendance View'!$C:$C,$B13,'Attendance View'!$M:$M,"<="&ROUND($E$11*1440,0),'Attendance View'!$N:$N,">"&ROUND($E$11*1440,0),'Attendance View'!$J:$J,"Yes") -> 17 | G13: =COUNTIFS('Attendance View'!$C:$C,$B13,'Attendance View'!$M:$M,"<="&ROUND($E$11*1440,0),'Attendance View'!$N:$N,">"&ROUND($E$11*1440,0),'Attendance View'!$J:$J,"No") -> 0 | H13: =COUNTIFS('Attendance View'!$C:$C,$B13,'Attendance View'!$M:$M,"<="&ROUND($E$11*1440,0),'Attendance View'!$N:$N,">"&ROUND($E$11*1440,0),'Attendance View'!$J:$J,"Not Productive") -> 8 | I13: =COUNTIFS('Attendance View'!$C:$C,$B13,'Attendance View'!$M:$M,"<="&ROUND($I$11*1440,0),'Attendance View'!$N:$N,">"&ROUND($I$11*1440,0)) -> 25 | J13: =COUNTIFS('Attendance View'!$C:$C,$B13,'Attendance View'!$M:$M,"<="&ROUND($I$11*1440,0),'Attendance View'!$N:$N,">"&ROUND($I$11*1440,0),'Attendance View'!$J:$J,"Yes") -> 17 | K13: =COUNTIFS('Attendance View'!$C:$C,$B13,'Attendance View'!$M:$M,"<="&ROUND($I$11*1440,0),'Attendance View'!$N:$N,">"&ROUND($I$11*1440,0),'Attendance View'!$J:$J,"No") -> 0 | L13: =COUNTIFS('Attendance View'!$C:$C,$B13,'Attendance View'!$M:$M,"<="&ROUND($I$11*1440,0),'Attendance View'!$N:$N,">"&ROUND($I$11*1440,0),'Attendance View'!$J:$J,"Not Productive") -> 8 | M13: =COUNTIFS('Attendance View'!$C:$C,$B13,'Attendance View'!$M:$M,"<="&ROUND($M$11*1440,0),'Attendance View'!$N:$N,">"&ROUND($M$11*1440,0)) -> 23 | N13: =COUNTIFS('Attendance View'!$C:$C,$B13,'Attendance View'!$M:$M,"<="&ROUND($M$11*1440,0),'Attendance View'!$N:$N,">"&ROUND($M$11*1440,0),'Attendance View'!$J:$J,"Yes") -> 0 | O13: =COUNTIFS('Attendance View'!$C:$C,$B13,'Attendance View'!$M:$M,"<="&ROUND($M$11*1440,0),'Attendance View'!$N:$N,">"&ROUND($M$11*1440,0),'Attendance View'!$J:$J,"No") -> 22 | P13: =COUNTIFS('Attendance View'!$C:$C,$B13,'Attendance View'!$M:$M,"<="&ROUND($M$11*1440,0),'Attendance View'!$N:$N,">"&ROUND($M$11*1440,0),'Attendance View'!$J:$J,"Not Productive") -> 1 | R13: Agent blocks parsed from text | X13: ='Attendance View'!$AH$3 -> 181
B14: LOB_2 | E14: =COUNTIFS('Attendance View'!$C:$C,$B14,'Attendance View'!$M:$M,"<="&ROUND($E$11*1440,0),'Attendance View'!$N:$N,">"&ROUND($E$11*1440,0)) -> 28 | F14: =COUNTIFS('Attendance View'!$C:$C,$B14,'Attendance View'!$M:$M,"<="&ROUND($E$11*1440,0),'Attendance View'!$N:$N,">"&ROUND($E$11*1440,0),'Attendance View'!$J:$J,"Yes") -> 25 | G14: =COUNTIFS('Attendance View'!$C:$C,$B14,'Attendance View'!$M:$M,"<="&ROUND($E$11*1440,0),'Attendance View'!$N:$N,">"&ROUND($E$11*1440,0),'Attendance View'!$J:$J,"No") -> 1 | H14: =COUNTIFS('Attendance View'!$C:$C,$B14,'Attendance View'!$M:$M,"<="&ROUND($E$11*1440,0),'Attendance View'!$N:$N,">"&ROUND($E$11*1440,0),'Attendance View'!$J:$J,"Not Productive") -> 2 | I14: =COUNTIFS('Attendance View'!$C:$C,$B14,'Attendance View'!$M:$M,"<="&ROUND($I$11*1440,0),'Attendance View'!$N:$N,">"&ROUND($I$11*1440,0)) -> 30 | J14: =COUNTIFS('Attendance View'!$C:$C,$B14,'Attendance View'!$M:$M,"<="&ROUND($I$11*1440,0),'Attendance View'!$N:$N,">"&ROUND($I$11*1440,0),'Attendance View'!$J:$J,"Yes") -> 27 | K14: =COUNTIFS('Attendance View'!$C:$C,$B14,'Attendance View'!$M:$M,"<="&ROUND($I$11*1440,0),'Attendance View'!$N:$N,">"&ROUND($I$11*1440,0),'Attendance View'!$J:$J,"No") -> 1 | L14: =COUNTIFS('Attendance View'!$C:$C,$B14,'Attendance View'!$M:$M,"<="&ROUND($I$11*1440,0),'Attendance View'!$N:$N,">"&ROUND($I$11*1440,0),'Attendance View'!$J:$J,"Not Productive") -> 2 | M14: =COUNTIFS('Attendance View'!$C:$C,$B14,'Attendance View'!$M:$M,"<="&ROUND($M$11*1440,0),'Attendance View'!$N:$N,">"&ROUND($M$11*1440,0)) -> 19 | N14: =COUNTIFS('Attendance View'!$C:$C,$B14,'Attendance View'!$M:$M,"<="&ROUND($M$11*1440,0),'Attendance View'!$N:$N,">"&ROUND($M$11*1440,0),'Attendance View'!$J:$J,"Yes") -> 2 | O14: =COUNTIFS('Attendance View'!$C:$C,$B14,'Attendance View'!$M:$M,"<="&ROUND($M$11*1440,0),'Attendance View'!$N:$N,">"&ROUND($M$11*1440,0),'Attendance View'!$J:$J,"No") -> 15 | P14: =COUNTIFS('Attendance View'!$C:$C,$B14,'Attendance View'!$M:$M,"<="&ROUND($M$11*1440,0),'Attendance View'!$N:$N,">"&ROUND($M$11*1440,0),'Attendance View'!$J:$J,"Not Productive") -> 2 | R14: Web Tool users not in HC | X14: =COUNTIF('Attendance View'!$AA$5:$AA$1504,"N") -> 3
B15: LOB_3 | E15: =COUNTIFS('Attendance View'!$C:$C,$B15,'Attendance View'!$M:$M,"<="&ROUND($E$11*1440,0),'Attendance View'!$N:$N,">"&ROUND($E$11*1440,0)) -> 7 | F15: =COUNTIFS('Attendance View'!$C:$C,$B15,'Attendance View'!$M:$M,"<="&ROUND($E$11*1440,0),'Attendance View'!$N:$N,">"&ROUND($E$11*1440,0),'Attendance View'!$J:$J,"Yes") -> 7 | G15: =COUNTIFS('Attendance View'!$C:$C,$B15,'Attendance View'!$M:$M,"<="&ROUND($E$11*1440,0),'Attendance View'!$N:$N,">"&ROUND($E$11*1440,0),'Attendance View'!$J:$J,"No") -> 0 | H15: =COUNTIFS('Attendance View'!$C:$C,$B15,'Attendance View'!$M:$M,"<="&ROUND($E$11*1440,0),'Attendance View'!$N:$N,">"&ROUND($E$11*1440,0),'Attendance View'!$J:$J,"Not Productive") -> 0 | I15: =COUNTIFS('Attendance View'!$C:$C,$B15,'Attendance View'!$M:$M,"<="&ROUND($I$11*1440,0),'Attendance View'!$N:$N,">"&ROUND($I$11*1440,0)) -> 14 | J15: =COUNTIFS('Attendance View'!$C:$C,$B15,'Attendance View'!$M:$M,"<="&ROUND($I$11*1440,0),'Attendance View'!$N:$N,">"&ROUND($I$11*1440,0),'Attendance View'!$J:$J,"Yes") -> 11 | K15: =COUNTIFS('Attendance View'!$C:$C,$B15,'Attendance View'!$M:$M,"<="&ROUND($I$11*1440,0),'Attendance View'!$N:$N,">"&ROUND($I$11*1440,0),'Attendance View'!$J:$J,"No") -> 2 | L15: =COUNTIFS('Attendance View'!$C:$C,$B15,'Attendance View'!$M:$M,"<="&ROUND($I$11*1440,0),'Attendance View'!$N:$N,">"&ROUND($I$11*1440,0),'Attendance View'!$J:$J,"Not Productive") -> 1 | M15: =COUNTIFS('Attendance View'!$C:$C,$B15,'Attendance View'!$M:$M,"<="&ROUND($M$11*1440,0),'Attendance View'!$N:$N,">"&ROUND($M$11*1440,0)) -> 7 | N15: =COUNTIFS('Attendance View'!$C:$C,$B15,'Attendance View'!$M:$M,"<="&ROUND($M$11*1440,0),'Attendance View'!$N:$N,">"&ROUND($M$11*1440,0),'Attendance View'!$J:$J,"Yes") -> 4 | O15: =COUNTIFS('Attendance View'!$C:$C,$B15,'Attendance View'!$M:$M,"<="&ROUND($M$11*1440,0),'Attendance View'!$N:$N,">"&ROUND($M$11*1440,0),'Attendance View'!$J:$J,"No") -> 2 | P15: =COUNTIFS('Attendance View'!$C:$C,$B15,'Attendance View'!$M:$M,"<="&ROUND($M$11*1440,0),'Attendance View'!$N:$N,">"&ROUND($M$11*1440,0),'Attendance View'!$J:$J,"Not Productive") -> 1 | R15: Scheduled but not found in Web Tool | X15: =COUNTIFS('Attendance View'!$J:$J,"Unmatched",'Attendance View'!$M:$M,"<="&$AA$3,'Attendance View'!$N:$N,">"&$AA$3) -> 0
B16: LOB_4 | E16: =COUNTIFS('Attendance View'!$C:$C,$B16,'Attendance View'!$M:$M,"<="&ROUND($E$11*1440,0),'Attendance View'!$N:$N,">"&ROUND($E$11*1440,0)) -> 0 | F16: =COUNTIFS('Attendance View'!$C:$C,$B16,'Attendance View'!$M:$M,"<="&ROUND($E$11*1440,0),'Attendance View'!$N:$N,">"&ROUND($E$11*1440,0),'Attendance View'!$J:$J,"Yes") -> 0 | G16: =COUNTIFS('Attendance View'!$C:$C,$B16,'Attendance View'!$M:$M,"<="&ROUND($E$11*1440,0),'Attendance View'!$N:$N,">"&ROUND($E$11*1440,0),'Attendance View'!$J:$J,"No") -> 0 | H16: =COUNTIFS('Attendance View'!$C:$C,$B16,'Attendance View'!$M:$M,"<="&ROUND($E$11*1440,0),'Attendance View'!$N:$N,">"&ROUND($E$11*1440,0),'Attendance View'!$J:$J,"Not Productive") -> 0 | I16: =COUNTIFS('Attendance View'!$C:$C,$B16,'Attendance View'!$M:$M,"<="&ROUND($I$11*1440,0),'Attendance View'!$N:$N,">"&ROUND($I$11*1440,0)) -> 0 | J16: =COUNTIFS('Attendance View'!$C:$C,$B16,'Attendance View'!$M:$M,"<="&ROUND($I$11*1440,0),'Attendance View'!$N:$N,">"&ROUND($I$11*1440,0),'Attendance View'!$J:$J,"Yes") -> 0 | K16: =COUNTIFS('Attendance View'!$C:$C,$B16,'Attendance View'!$M:$M,"<="&ROUND($I$11*1440,0),'Attendance View'!$N:$N,">"&ROUND($I$11*1440,0),'Attendance View'!$J:$J,"No") -> 0 | L16: =COUNTIFS('Attendance View'!$C:$C,$B16,'Attendance View'!$M:$M,"<="&ROUND($I$11*1440,0),'Attendance View'!$N:$N,">"&ROUND($I$11*1440,0),'Attendance View'!$J:$J,"Not Productive") -> 0 | M16: =COUNTIFS('Attendance View'!$C:$C,$B16,'Attendance View'!$M:$M,"<="&ROUND($M$11*1440,0),'Attendance View'!$N:$N,">"&ROUND($M$11*1440,0)) -> 0 | N16: =COUNTIFS('Attendance View'!$C:$C,$B16,'Attendance View'!$M:$M,"<="&ROUND($M$11*1440,0),'Attendance View'!$N:$N,">"&ROUND($M$11*1440,0),'Attendance View'!$J:$J,"Yes") -> 0 | O16: =COUNTIFS('Attendance View'!$C:$C,$B16,'Attendance View'!$M:$M,"<="&ROUND($M$11*1440,0),'Attendance View'!$N:$N,">"&ROUND($M$11*1440,0),'Attendance View'!$J:$J,"No") -> 0 | P16: =COUNTIFS('Attendance View'!$C:$C,$B16,'Attendance View'!$M:$M,"<="&ROUND($M$11*1440,0),'Attendance View'!$N:$N,">"&ROUND($M$11*1440,0),'Attendance View'!$J:$J,"Not Productive") -> 0 | R16: Scheduled with unmapped AUX code | X16: =COUNTIFS('Attendance View'!$J:$J,"Unmapped",'Attendance View'!$M:$M,"<="&$AA$3,'Attendance View'!$N:$N,">"&$AA$3) -> 0
B17: TOTAL | E17: =COUNTIFS('Attendance View'!$M:$M,"<="&ROUND($E$11*1440,0),'Attendance View'!$N:$N,">"&ROUND($E$11*1440,0)) -> 60 | F17: =COUNTIFS('Attendance View'!$M:$M,"<="&ROUND($E$11*1440,0),'Attendance View'!$N:$N,">"&ROUND($E$11*1440,0),'Attendance View'!$J:$J,"Yes") -> 49 | G17: =COUNTIFS('Attendance View'!$M:$M,"<="&ROUND($E$11*1440,0),'Attendance View'!$N:$N,">"&ROUND($E$11*1440,0),'Attendance View'!$J:$J,"No") -> 1 | H17: =COUNTIFS('Attendance View'!$M:$M,"<="&ROUND($E$11*1440,0),'Attendance View'!$N:$N,">"&ROUND($E$11*1440,0),'Attendance View'!$J:$J,"Not Productive") -> 10 | I17: =COUNTIFS('Attendance View'!$M:$M,"<="&ROUND($I$11*1440,0),'Attendance View'!$N:$N,">"&ROUND($I$11*1440,0)) -> 69 | J17: =COUNTIFS('Attendance View'!$M:$M,"<="&ROUND($I$11*1440,0),'Attendance View'!$N:$N,">"&ROUND($I$11*1440,0),'Attendance View'!$J:$J,"Yes") -> 55 | K17: =COUNTIFS('Attendance View'!$M:$M,"<="&ROUND($I$11*1440,0),'Attendance View'!$N:$N,">"&ROUND($I$11*1440,0),'Attendance View'!$J:$J,"No") -> 3 | L17: =COUNTIFS('Attendance View'!$M:$M,"<="&ROUND($I$11*1440,0),'Attendance View'!$N:$N,">"&ROUND($I$11*1440,0),'Attendance View'!$J:$J,"Not Productive") -> 11 | M17: =COUNTIFS('Attendance View'!$M:$M,"<="&ROUND($M$11*1440,0),'Attendance View'!$N:$N,">"&ROUND($M$11*1440,0)) -> 49 | N17: =COUNTIFS('Attendance View'!$M:$M,"<="&ROUND($M$11*1440,0),'Attendance View'!$N:$N,">"&ROUND($M$11*1440,0),'Attendance View'!$J:$J,"Yes") -> 6 | O17: =COUNTIFS('Attendance View'!$M:$M,"<="&ROUND($M$11*1440,0),'Attendance View'!$N:$N,">"&ROUND($M$11*1440,0),'Attendance View'!$J:$J,"No") -> 39 | P17: =COUNTIFS('Attendance View'!$M:$M,"<="&ROUND($M$11*1440,0),'Attendance View'!$N:$N,">"&ROUND($M$11*1440,0),'Attendance View'!$J:$J,"Not Productive") -> 4 | R17: Duplicate HR IDs in roster | X17: =SUMPRODUCT(('Attendance View'!$A$5:$A$1504<>"")*(COUNTIF('Attendance View'!$A$5:$A$1504,'Attendance View'!$A$5:$A$1504)>1)) -> 0
B18: Attendance % | E18: =IF(E17=0,0,(F17+H17)/E17) -> 0.98333333 | I18: =IF(I17=0,0,(J17+L17)/I17) -> 0.95652174 | M18: =IF(M17=0,0,(N17+P17)/M17) -> 0.20408163 | R18: Roster capacity used | X18: =COUNTIF('Attendance View'!$A$5:$A$1504,">0")/1500 -> 0.096666667
B19: Productive % | E19: =IF(E17=0,0,F17/E17) -> 0.81666667 | I19: =IF(I17=0,0,J17/I17) -> 0.79710145 | M19: =IF(M17=0,0,N17/M17) -> 0.12244898 | R19: Amber = needs attention. Unmatched Web Tool users (leavers / test accounts) are kept out of HC on purpose and never counted.
B20: NP Shrinkage % | E20: =IF(E17=0,0,H17/E17) -> 0.16666667 | I20: =IF(I17=0,0,L17/I17) -> 0.15942029 | M20: =IF(M17=0,0,P17/M17) -> 0.081632653
B21: =IF(AND(SUM(E13:E16)=E17,SUM(I13:I16)=I17,SUM(M13:M16)=M17),"✔ LOB rows reconcile to Total at all checkpoints.","⚠ LOB rows do not reconcile to Total – check HC for blank / unknown LOB values.")&" Highlighted block = checkpoint the loaded AUX snapshot belongs to; dimmed blocks project that same snapshot onto their shift window." -> ✔ LOB rows reconcile to Total at all checkpoints. Highlighted block = checkpoint the loaded AUX snapshot belongs to; dimmed blocks project that same snapshot onto their shift window.
B22: VISUAL ANALYSIS
B23: Scheduled vs Working vs Absent vs NP · by checkpoint | K23: ="Live NP AUX Breakdown · "&TEXT($AA$3/1440,"hh:mm")&" CET" -> Live NP AUX Breakdown · 10:30 CET | R23: ="LOB conformance · "&TEXT($AA$3/1440,"hh:mm")&" CET" -> LOB conformance · 10:30 CET
B35: FORMULA ENGINEERING SHOWCASE · a 6-row text-parsing engine built with native formulas only
B36: WHAT THE WEB TOOL GIVES US (Ctrl+A → Ctrl+C → paste) – one 6-line block per agent | N36: FORMULA CHAIN (simplified)
B37: 1 | C37: Employee State | H37: constant marker – block start | N37: 1 · Step | P37: # Setup = previous + 6 (3, 9, 15, …)
B38: 2 | C38: DA | H38: agent initials (ignored)
B39: 3 | C39: Dummy_USR 1 ⍽ 29016 | H39: username + NBSP (CHAR 160) + 5-digit EXT | N39: 2 · Fetch | P39: Pack = XLOOKUP(# Setup, Line#, Active Text)
B40: 4 | C40: Break (NON MAN) ⍽·⍽ 06:36 | H40: current AUX + duration in that AUX
B41: 5 | C41: ⍽ 0 ⍽⍽ 0 ⍽⍽ 3 | H41: counters (not used) | N41: 3 · Split | P41: Agent = TEXTBEFORE(Pack, UNICHAR(160)) EXT = TEXTAFTER (Pack, UNICHAR(160))
B42: 6 | C42: ⍽ 00:35:32 ⍽⍽ 00:00:00 … | H42: timestamps (not used)
N43: 4 · AUX | P43: AUX = TEXTBEFORE(Pack 2, NBSP) · Duration = TEXTAFTER(Pack 2, NBSP&"·")
B44: THE TRICK · rows 3 and 4 of block n sit at 3 + 6·(n−1) and 4 + 6·(n−1)
B45: A counter column ('# Setup', 'Pack') starts at 3 and adds +6 per row, so one XLOOKUP per agent lands exactly on that agent's line – no Ctrl+F, no sorting, no VBA. Blocks 1…1,500 are pre-wired. | N45: 5 · Join | P45: Productive = XLOOKUP(AUX, 'RAW Data'!J:J, K:K) Shift = INDEX / MATCH on 'Agents Shift' by date
N47: 6 · Count | P47: COUNTIFS(LOB, Start≤T, End>T, Productive=…) → whole-column, grows with HC
B48: RESULT · scheduled agents × live AUX × productivity class → client-ready counts for 10:30, 13:30 and 18:30 CET in under a minute. Every paste can be archived in 'Extraction History' = the audit trail the web tool never had.
N49: Impact: 45+ min/day of manual Ctrl+F work → < 1 min per report, 3 reports/day.
B52: CHART DATA · formula-driven feeds for the charts above (do not overwrite)
B53: Chkpt | C53: Scheduled | D53: Working | E53: Absent | F53: NP AUXs | H53: Live NP AUX code | K53: Agents | M53: LOB | N53: Attendance % | O53: Productive % | P53: NP Shrink %
B54: =TEXT(E11,"hh:mm") -> 10:30 | C54: =E17 -> 60 | D54: =F17 -> 49 | E54: =G17 -> 1 | F54: =H17 -> 10 | H54: Lunch | K54: =COUNTIFS('Attendance View'!$H:$H,$H54,'Attendance View'!$J:$J,"Not Productive",'Attendance View'!$M:$M,"<="&$AA$3,'Attendance View'!$N:$N,">"&$AA$3) -> 3 | M54: LOB_1 | N54: =IF(COUNTIFS('Attendance View'!$C:$C,$M54,'Attendance View'!$M:$M,"<="&$AA$3,'Attendance View'!$N:$N,">"&$AA$3)=0,0,(COUNTIFS('Attendance View'!$C:$C,$M54,'Attendance View'!$M:$M,"<="&$AA$3,'Attendance View'!$N:$N,">"&$AA$3,'Attendance View'!$J:$J,"Yes")+COUNTIFS('Attendance View'!$C:$C,$M54,'Attendance View'!$M:$M,"<="&$AA$3,'Attendance View'!$N:$N,">"&$AA$3,'Attendance View'!$J:$J,"Not Productive"))/COUNTIFS('Attendance View'!$C:$C,$M54,'Attendance View'!$M:$M,"<="&$AA$3,'Attendance View'!$N:$N,">"&$AA$3)) -> 1 | O54: =IF(COUNTIFS('Attendance View'!$C:$C,$M54,'Attendance View'!$M:$M,"<="&$AA$3,'Attendance View'!$N:$N,">"&$AA$3)=0,0,COUNTIFS('Attendance View'!$C:$C,$M54,'Attendance View'!$M:$M,"<="&$AA$3,'Attendance View'!$N:$N,">"&$AA$3,'Attendance View'!$J:$J,"Yes")/COUNTIFS('Attendance View'!$C:$C,$M54,'Attendance View'!$M:$M,"<="&$AA$3,'Attendance View'!$N:$N,">"&$AA$3)) -> 0.68 | P54: =IF(COUNTIFS('Attendance View'!$C:$C,$M54,'Attendance View'!$M:$M,"<="&$AA$3,'Attendance View'!$N:$N,">"&$AA$3)=0,0,COUNTIFS('Attendance View'!$C:$C,$M54,'Attendance View'!$M:$M,"<="&$AA$3,'Attendance View'!$N:$N,">"&$AA$3,'Attendance View'!$J:$J,"Not Productive")/COUNTIFS('Attendance View'!$C:$C,$M54,'Attendance View'!$M:$M,"<="&$AA$3,'Attendance View'!$N:$N,">"&$AA$3)) -> 0.32
B55: =TEXT(I11,"hh:mm") -> 13:30 | C55: =I17 -> 69 | D55: =J17 -> 55 | E55: =K17 -> 3 | F55: =L17 -> 11 | H55: Break (NON MAN) | K55: =COUNTIFS('Attendance View'!$H:$H,$H55,'Attendance View'!$J:$J,"Not Productive",'Attendance View'!$M:$M,"<="&$AA$3,'Attendance View'!$N:$N,">"&$AA$3) -> 2 | M55: LOB_2 | N55: =IF(COUNTIFS('Attendance View'!$C:$C,$M55,'Attendance View'!$M:$M,"<="&$AA$3,'Attendance View'!$N:$N,">"&$AA$3)=0,0,(COUNTIFS('Attendance View'!$C:$C,$M55,'Attendance View'!$M:$M,"<="&$AA$3,'Attendance View'!$N:$N,">"&$AA$3,'Attendance View'!$J:$J,"Yes")+COUNTIFS('Attendance View'!$C:$C,$M55,'Attendance View'!$M:$M,"<="&$AA$3,'Attendance View'!$N:$N,">"&$AA$3,'Attendance View'!$J:$J,"Not Productive"))/COUNTIFS('Attendance View'!$C:$C,$M55,'Attendance View'!$M:$M,"<="&$AA$3,'Attendance View'!$N:$N,">"&$AA$3)) -> 0.96428571 | O55: =IF(COUNTIFS('Attendance View'!$C:$C,$M55,'Attendance View'!$M:$M,"<="&$AA$3,'Attendance View'!$N:$N,">"&$AA$3)=0,0,COUNTIFS('Attendance View'!$C:$C,$M55,'Attendance View'!$M:$M,"<="&$AA$3,'Attendance View'!$N:$N,">"&$AA$3,'Attendance View'!$J:$J,"Yes")/COUNTIFS('Attendance View'!$C:$C,$M55,'Attendance View'!$M:$M,"<="&$AA$3,'Attendance View'!$N:$N,">"&$AA$3)) -> 0.89285714 | P55: =IF(COUNTIFS('Attendance View'!$C:$C,$M55,'Attendance View'!$M:$M,"<="&$AA$3,'Attendance View'!$N:$N,">"&$AA$3)=0,0,COUNTIFS('Attendance View'!$C:$C,$M55,'Attendance View'!$M:$M,"<="&$AA$3,'Attendance View'!$N:$N,">"&$AA$3,'Attendance View'!$J:$J,"Not Productive")/COUNTIFS('Attendance View'!$C:$C,$M55,'Attendance View'!$M:$M,"<="&$AA$3,'Attendance View'!$N:$N,">"&$AA$3)) -> 0.071428571
B56: =TEXT(M11,"hh:mm") -> 18:30 | C56: =M17 -> 49 | D56: =N17 -> 6 | E56: =O17 -> 39 | F56: =P17 -> 4 | H56: Break (MAN) | K56: =COUNTIFS('Attendance View'!$H:$H,$H56,'Attendance View'!$J:$J,"Not Productive",'Attendance View'!$M:$M,"<="&$AA$3,'Attendance View'!$N:$N,">"&$AA$3) -> 0 | M56: LOB_3 | N56: =IF(COUNTIFS('Attendance View'!$C:$C,$M56,'Attendance View'!$M:$M,"<="&$AA$3,'Attendance View'!$N:$N,">"&$AA$3)=0,0,(COUNTIFS('Attendance View'!$C:$C,$M56,'Attendance View'!$M:$M,"<="&$AA$3,'Attendance View'!$N:$N,">"&$AA$3,'Attendance View'!$J:$J,"Yes")+COUNTIFS('Attendance View'!$C:$C,$M56,'Attendance View'!$M:$M,"<="&$AA$3,'Attendance View'!$N:$N,">"&$AA$3,'Attendance View'!$J:$J,"Not Productive"))/COUNTIFS('Attendance View'!$C:$C,$M56,'Attendance View'!$M:$M,"<="&$AA$3,'Attendance View'!$N:$N,">"&$AA$3)) -> 1 | O56: =IF(COUNTIFS('Attendance View'!$C:$C,$M56,'Attendance View'!$M:$M,"<="&$AA$3,'Attendance View'!$N:$N,">"&$AA$3)=0,0,COUNTIFS('Attendance View'!$C:$C,$M56,'Attendance View'!$M:$M,"<="&$AA$3,'Attendance View'!$N:$N,">"&$AA$3,'Attendance View'!$J:$J,"Yes")/COUNTIFS('Attendance View'!$C:$C,$M56,'Attendance View'!$M:$M,"<="&$AA$3,'Attendance View'!$N:$N,">"&$AA$3)) -> 1 | P56: =IF(COUNTIFS('Attendance View'!$C:$C,$M56,'Attendance View'!$M:$M,"<="&$AA$3,'Attendance View'!$N:$N,">"&$AA$3)=0,0,COUNTIFS('Attendance View'!$C:$C,$M56,'Attendance View'!$M:$M,"<="&$AA$3,'Attendance View'!$N:$N,">"&$AA$3,'Attendance View'!$J:$J,"Not Productive")/COUNTIFS('Attendance View'!$C:$C,$M56,'Attendance View'!$M:$M,"<="&$AA$3,'Attendance View'!$N:$N,">"&$AA$3)) -> 0
H57: Coaching | K57: =COUNTIFS('Attendance View'!$H:$H,$H57,'Attendance View'!$J:$J,"Not Productive",'Attendance View'!$M:$M,"<="&$AA$3,'Attendance View'!$N:$N,">"&$AA$3) -> 4 | M57: LOB_4 | N57: =IF(COUNTIFS('Attendance View'!$C:$C,$M57,'Attendance View'!$M:$M,"<="&$AA$3,'Attendance View'!$N:$N,">"&$AA$3)=0,0,(COUNTIFS('Attendance View'!$C:$C,$M57,'Attendance View'!$M:$M,"<="&$AA$3,'Attendance View'!$N:$N,">"&$AA$3,'Attendance View'!$J:$J,"Yes")+COUNTIFS('Attendance View'!$C:$C,$M57,'Attendance View'!$M:$M,"<="&$AA$3,'Attendance View'!$N:$N,">"&$AA$3,'Attendance View'!$J:$J,"Not Productive"))/COUNTIFS('Attendance View'!$C:$C,$M57,'Attendance View'!$M:$M,"<="&$AA$3,'Attendance View'!$N:$N,">"&$AA$3)) -> 0 | O57: =IF(COUNTIFS('Attendance View'!$C:$C,$M57,'Attendance View'!$M:$M,"<="&$AA$3,'Attendance View'!$N:$N,">"&$AA$3)=0,0,COUNTIFS('Attendance View'!$C:$C,$M57,'Attendance View'!$M:$M,"<="&$AA$3,'Attendance View'!$N:$N,">"&$AA$3,'Attendance View'!$J:$J,"Yes")/COUNTIFS('Attendance View'!$C:$C,$M57,'Attendance View'!$M:$M,"<="&$AA$3,'Attendance View'!$N:$N,">"&$AA$3)) -> 0 | P57: =IF(COUNTIFS('Attendance View'!$C:$C,$M57,'Attendance View'!$M:$M,"<="&$AA$3,'Attendance View'!$N:$N,">"&$AA$3)=0,0,COUNTIFS('Attendance View'!$C:$C,$M57,'Attendance View'!$M:$M,"<="&$AA$3,'Attendance View'!$N:$N,">"&$AA$3,'Attendance View'!$J:$J,"Not Productive")/COUNTIFS('Attendance View'!$C:$C,$M57,'Attendance View'!$M:$M,"<="&$AA$3,'Attendance View'!$N:$N,">"&$AA$3)) -> 0
H58: Training | K58: =COUNTIFS('Attendance View'!$H:$H,$H58,'Attendance View'!$J:$J,"Not Productive",'Attendance View'!$M:$M,"<="&$AA$3,'Attendance View'!$N:$N,">"&$AA$3) -> 0
H59: Personal | K59: =COUNTIFS('Attendance View'!$H:$H,$H59,'Attendance View'!$J:$J,"Not Productive",'Attendance View'!$M:$M,"<="&$AA$3,'Attendance View'!$N:$N,">"&$AA$3) -> 0
H60: System Busy | K60: =COUNTIFS('Attendance View'!$H:$H,$H60,'Attendance View'!$J:$J,"Not Productive",'Attendance View'!$M:$M,"<="&$AA$3,'Attendance View'!$N:$N,">"&$AA$3) -> 0
H61: Supporting Others | K61: =COUNTIFS('Attendance View'!$H:$H,$H61,'Attendance View'!$J:$J,"Not Productive",'Attendance View'!$M:$M,"<="&$AA$3,'Attendance View'!$N:$N,">"&$AA$3) -> 0
H62: Other NP codes | K62: =MAX(0,$N$6-SUM(K54:K61)) -> 1
B64: All three feeds are plain COUNTIFS on whole columns of 'Attendance View' – add agents and every KPI, table and chart follows.

Sheet Attendance View
A1: ATTENDANCE VIEW · agent-level roster | Web Tool text drop-zone → column P | P1: ▼ PASTE WEB TOOL PAGE TEXT HERE (Ctrl+A, Ctrl+C on the web tool → paste in P5)
A2: REPORT DATE | C2: STATE SOURCE | E2: LIVE-PASTE CHECKPOINT | G2: STATUS | AC2: Checkpoint # | AD2: Snapshot col | AE2: Shift col | AF2: Active T (min) | AG2: Lines found | AH2: Blocks parsed
A3: 46182 | C3: Snapshot 10:30 | E3: 10:30 CET | G3: =IF($AE$3="","⚠ No published shifts for this date in 'Agents Shift' – Scheduled will show 0.",IF($AG$3=0,IF($C$3="Live Paste","⚠ Drop zone is empty – paste the Web Tool page text in column P.","⚠ No archived extraction for this date / time in 'Extraction History'."),"✔ "&$AG$3&" text lines → "&$AH$3&" agent blocks parsed · checkpoint "&TEXT($AF$3/1440,"hh:mm")&" CET")) -> ✔ 1086 text lines → 181 agent blocks parsed · checkpoint 10:30 CET | AC3: =IFERROR(IF($C$3="Live Paste",MATCH($E$3,{"10:30 CET","13:30 CET","18:30 CET"},0),MATCH($C$3,{"Snapshot 10:30","Snapshot 13:30","Snapshot 18:30"},0)),2) -> 1 | AD3: =IF($C$3="Live Paste","",IFERROR(MATCH(INT($A$3),'Extraction History'!$1:$1,0)+$AC$3-1,"")) -> 33 | AE3: =IFERROR(MATCH(INT($A$3),'Agents Shift'!$F$2:$S$2,0),"") -> 3 | AF3: =CHOOSE($AC$3,630,810,1110) -> 630 | AG3: =IF($C$3="Live Paste",COUNTA($P$5:$P$9104),IF($AD$3="",0,COUNTA(INDEX('Extraction History'!$A$3:$DT$9102,0,$AD$3)))) -> 1086 | AH3: =COUNTIF($U$5:$U$1504,"?*") -> 181
A4: HR ID | B4: Agent Name | C4: LOB | D4: Team Leader | E4: Start | F4: End | G4: Web Tool Username | H4: Current AUX | I4: In AUX for | J4: Productive | K4: Comment | M4: Start (min) | N4: End (min) | P4: Web Tool Extraction (drop zone) | Q4: Line # | R4: Active Text | S4: # Setup | T4: Pack | U4: Agent | V4: EXT | W4: 2# Setup | X4: Pack 2 | Y4: Duration | Z4: AUXs | AA4: In HC?
A5: =IF(INDEX('Agents Shift'!$B:$B,ROW())="","",INDEX('Agents Shift'!$B:$B,ROW())) -> 100041 | B5: =IF($A5="","",_xlfn.XLOOKUP($A5,HC!$A:$A,HC!$B:$B,"")) -> Dummy_AG 41 | C5: =IF($A5="","",_xlfn.XLOOKUP($A5,HC!$A:$A,HC!$E:$E,"")) -> LOB_2 | D5: =IF($A5="","",_xlfn.XLOOKUP($A5,HC!$A:$A,HC!$D:$D,"")) -> Dummy_TL 4 | E5: =IF(OR($A5="",$AE$3=""),"",IFERROR(IF(ISBLANK(INDEX('Agents Shift'!$F:$S,MATCH($A5,'Agents Shift'!$B:$B,0),$AE$3)),"",INDEX('Agents Shift'!$F:$S,MATCH($A5,'Agents Shift'!$B:$B,0),$AE$3)),"")) -> 0.33333333 | F5: =IF(OR($A5="",$AE$3=""),"",IFERROR(IF(ISBLANK(INDEX('Agents Shift'!$F:$S,MATCH($A5,'Agents Shift'!$B:$B,0),$AE$3+1)),"",INDEX('Agents Shift'!$F:$S,MATCH($A5,'Agents Shift'!$B:$B,0),$AE$3+1)),"")) -> 0.66666667 | G5: =IF($A5="","",_xlfn.XLOOKUP($A5,HC!$A:$A,HC!$C:$C,"")) -> Dummy_USR 41 | H5: =IF($G5="","",_xlfn.XLOOKUP($G5,$U:$U,$Z:$Z,"Not in Web Tool")) -> Available | I5: =IF($G5="","",_xlfn.XLOOKUP($G5,$U:$U,$Y:$Y,"")) -> 05:17 | J5: =IF(OR($A5="",$H5=""),"",IF($H5="Not in Web Tool","Unmatched",_xlfn.XLOOKUP($H5,'RAW Data'!$E:$E,'RAW Data'!$F:$F,"Unmapped"))) -> Yes | K5: =_xlfn.IFS($J5="Yes","YES",$J5="","",$J5="No","NO",$J5="Not Productive",$H5,TRUE,$J5) -> YES | M5: =IF(ISNUMBER($E5),ROUND($E5*1440,0),"") -> 480 | N5: =IF(AND(ISNUMBER($E5),ISNUMBER($F5)),ROUND($F5*1440,0)+IF($F5<=$E5,1440,0),"") -> 960 | P5: Employee State | Q5: 1 | R5: =IF($C$3="Live Paste",IF($P5="","",$P5&""),IF($AD$3="","",INDEX('Extraction History'!$A$3:$DT$9102,$Q5,$AD$3)&"")) -> Employee State | S5: 3 | T5: =_xlfn.XLOOKUP($S5,$Q$5:$Q$9104,$R$5:$R$9104,"") -> Dummy_USR 27 29137 | U5: =IFERROR(_xlfn.TEXTBEFORE($T5,_xlfn.UNICHAR(160),1),"") -> Dummy_USR 27 | V5: =IF($U5="","",_xlfn.TEXTAFTER($T5,_xlfn.UNICHAR(160),1)) -> 29137 | W5: 4 | X5: =_xlfn.XLOOKUP($W5,$Q$5:$Q$9104,$R$5:$R$9104,"") -> Offline · 21:00:02 | Y5: =IFERROR(IF($Z5="","",TRIM(SUBSTITUTE(_xlfn.TEXTAFTER($X5,_xlfn.UNICHAR(160)&"·",1),_xlfn.UNICHAR(160)," "))),"") -> 21:00:02 | Z5: =IFERROR(_xlfn.TEXTBEFORE($X5,_xlfn.UNICHAR(160),1),$X5) -> Offline | AA5: =IF($U5="","",IF(COUNTIF(HC!$C:$C,$U5)>0,"Y",IF(COUNTIF($U$5:$U5,$U5)=1,"N","dup"))) -> Y
A6: =IF(INDEX('Agents Shift'!$B:$B,ROW())="","",INDEX('Agents Shift'!$B:$B,ROW())) -> 100062 | B6: =IF($A6="","",_xlfn.XLOOKUP($A6,HC!$A:$A,HC!$B:$B,"")) -> Dummy_AG 62 | C6: =IF($A6="","",_xlfn.XLOOKUP($A6,HC!$A:$A,HC!$E:$E,"")) -> LOB_2 | D6: =IF($A6="","",_xlfn.XLOOKUP($A6,HC!$A:$A,HC!$D:$D,"")) -> Dummy_TL 5 | E6: =IF(OR($A6="",$AE$3=""),"",IFERROR(IF(ISBLANK(INDEX('Agents Shift'!$F:$S,MATCH($A6,'Agents Shift'!$B:$B,0),$AE$3)),"",INDEX('Agents Shift'!$F:$S,MATCH($A6,'Agents Shift'!$B:$B,0),$AE$3)),"")) -> OFF | F6: =IF(OR($A6="",$AE$3=""),"",IFERROR(IF(ISBLANK(INDEX('Agents Shift'!$F:$S,MATCH($A6,'Agents Shift'!$B:$B,0),$AE$3+1)),"",INDEX('Agents Shift'!$F:$S,MATCH($A6,'Agents Shift'!$B:$B,0),$AE$3+1)),"")) -> OFF | G6: =IF($A6="","",_xlfn.XLOOKUP($A6,HC!$A:$A,HC!$C:$C,"")) -> Dummy_USR 62 | H6: =IF($G6="","",_xlfn.XLOOKUP($G6,$U:$U,$Z:$Z,"Not in Web Tool")) -> Offline | I6: =IF($G6="","",_xlfn.XLOOKUP($G6,$U:$U,$Y:$Y,"")) -> 20:59:35 | J6: =IF(OR($A6="",$H6=""),"",IF($H6="Not in Web Tool","Unmatched",_xlfn.XLOOKUP($H6,'RAW Data'!$E:$E,'RAW Data'!$F:$F,"Unmapped"))) -> No | K6: =_xlfn.IFS($J6="Yes","YES",$J6="","",$J6="No","NO",$J6="Not Productive",$H6,TRUE,$J6) -> NO | M6: =IF(ISNUMBER($E6),ROUND($E6*1440,0),"") | N6: =IF(AND(ISNUMBER($E6),ISNUMBER($F6)),ROUND($F6*1440,0)+IF($F6<=$E6,1440,0),"") | P6: DA | Q6: 2 | R6: =IF($C$3="Live Paste",IF($P6="","",$P6&""),IF($AD$3="","",INDEX('Extraction History'!$A$3:$DT$9102,$Q6,$AD$3)&"")) -> DA | S6: =S5+6 -> 9 | T6: =_xlfn.XLOOKUP($S6,$Q$5:$Q$9104,$R$5:$R$9104,"") -> Dummy_USR 33 29135 | U6: =IFERROR(_xlfn.TEXTBEFORE($T6,_xlfn.UNICHAR(160),1),"") -> Dummy_USR 33 | V6: =IF($U6="","",_xlfn.TEXTAFTER($T6,_xlfn.UNICHAR(160),1)) -> 29135 | W6: =W5+6 -> 10 | X6: =_xlfn.XLOOKUP($W6,$Q$5:$Q$9104,$R$5:$R$9104,"") -> Offline · 4:20:58:41 | Y6: =IFERROR(IF($Z6="","",TRIM(SUBSTITUTE(_xlfn.TEXTAFTER($X6,_xlfn.UNICHAR(160)&"·",1),_xlfn.UNICHAR(160)," "))),"") -> 4:20:58:41 | Z6: =IFERROR(_xlfn.TEXTBEFORE($X6,_xlfn.UNICHAR(160),1),$X6) -> Offline | AA6: =IF($U6="","",IF(COUNTIF(HC!$C:$C,$U6)>0,"Y",IF(COUNTIF($U$5:$U6,$U6)=1,"N","dup"))) -> Y
A7: =IF(INDEX('Agents Shift'!$B:$B,ROW())="","",INDEX('Agents Shift'!$B:$B,ROW())) -> 100092 | B7: =IF($A7="","",_xlfn.XLOOKUP($A7,HC!$A:$A,HC!$B:$B,"")) -> Dummy_AG 92 | C7: =IF($A7="","",_xlfn.XLOOKUP($A7,HC!$A:$A,HC!$E:$E,"")) -> LOB_1 | D7: =IF($A7="","",_xlfn.XLOOKUP($A7,HC!$A:$A,HC!$D:$D,"")) -> Dummy_TL 2 | E7: =IF(OR($A7="",$AE$3=""),"",IFERROR(IF(ISBLANK(INDEX('Agents Shift'!$F:$S,MATCH($A7,'Agents Shift'!$B:$B,0),$AE$3)),"",INDEX('Agents Shift'!$F:$S,MATCH($A7,'Agents Shift'!$B:$B,0),$AE$3)),"")) -> 0.33333333 | F7: =IF(OR($A7="",$AE$3=""),"",IFERROR(IF(ISBLANK(INDEX('Agents Shift'!$F:$S,MATCH($A7,'Agents Shift'!$B:$B,0),$AE$3+1)),"",INDEX('Agents Shift'!$F:$S,MATCH($A7,'Agents Shift'!$B:$B,0),$AE$3+1)),"")) -> 0.66666667 | G7: =IF($A7="","",_xlfn.XLOOKUP($A7,HC!$A:$A,HC!$C:$C,"")) -> Dummy_USR 92 | H7: =IF($G7="","",_xlfn.XLOOKUP($G7,$U:$U,$Z:$Z,"Not in Web Tool")) -> Lunch | I7: =IF($G7="","",_xlfn.XLOOKUP($G7,$U:$U,$Y:$Y,"")) -> 15:42 | J7: =IF(OR($A7="",$H7=""),"",IF($H7="Not in Web Tool","Unmatched",_xlfn.XLOOKUP($H7,'RAW Data'!$E:$E,'RAW Data'!$F:$F,"Unmapped"))) -> Not Productive | K7: =_xlfn.IFS($J7="Yes","YES",$J7="","",$J7="No","NO",$J7="Not Productive",$H7,TRUE,$J7) -> Lunch | M7: =IF(ISNUMBER($E7),ROUND($E7*1440,0),"") -> 480 | N7: =IF(AND(ISNUMBER($E7),ISNUMBER($F7)),ROUND($F7*1440,0)+IF($F7<=$E7,1440,0),"") -> 960 | P7: Dummy_USR 27 29137 | Q7: 3 | R7: =IF($C$3="Live Paste",IF($P7="","",$P7&""),IF($AD$3="","",INDEX('Extraction History'!$A$3:$DT$9102,$Q7,$AD$3)&"")) -> Dummy_USR 27 29137 | S7: =S6+6 -> 15 | T7: =_xlfn.XLOOKUP($S7,$Q$5:$Q$9104,$R$5:$R$9104,"") -> Dummy_USR 85 20123 | U7: =IFERROR(_xlfn.TEXTBEFORE($T7,_xlfn.UNICHAR(160),1),"") -> Dummy_USR 85 | V7: =IF($U7="","",_xlfn.TEXTAFTER($T7,_xlfn.UNICHAR(160),1)) -> 20123 | W7: =W6+6 -> 16 | X7: =_xlfn.XLOOKUP($W7,$Q$5:$Q$9104,$R$5:$R$9104,"") -> Offline · 14:00:11 | Y7: =IFERROR(IF($Z7="","",TRIM(SUBSTITUTE(_xlfn.TEXTAFTER($X7,_xlfn.UNICHAR(160)&"·",1),_xlfn.UNICHAR(160)," "))),"") -> 14:00:11 | Z7: =IFERROR(_xlfn.TEXTBEFORE($X7,_xlfn.UNICHAR(160),1),$X7) -> Offline | AA7: =IF($U7="","",IF(COUNTIF(HC!$C:$C,$U7)>0,"Y",IF(COUNTIF($U$5:$U7,$U7)=1,"N","dup"))) -> Y
A8: =IF(INDEX('Agents Shift'!$B:$B,ROW())="","",INDEX('Agents Shift'!$B:$B,ROW())) -> 100073 | B8: =IF($A8="","",_xlfn.XLOOKUP($A8,HC!$A:$A,HC!$B:$B,"")) -> Dummy_AG 73 | C8: =IF($A8="","",_xlfn.XLOOKUP($A8,HC!$A:$A,HC!$E:$E,"")) -> LOB_1 | D8: =IF($A8="","",_xlfn.XLOOKUP($A8,HC!$A:$A,HC!$D:$D,"")) -> Dummy_TL 5 | E8: =IF(OR($A8="",$AE$3=""),"",IFERROR(IF(ISBLANK(INDEX('Agents Shift'!$F:$S,MATCH($A8,'Agents Shift'!$B:$B,0),$AE$3)),"",INDEX('Agents Shift'!$F:$S,MATCH($A8,'Agents Shift'!$B:$B,0),$AE$3)),"")) -> 0.33333333 | F8: =IF(OR($A8="",$AE$3=""),"",IFERROR(IF(ISBLANK(INDEX('Agents Shift'!$F:$S,MATCH($A8,'Agents Shift'!$B:$B,0),$AE$3+1)),"",INDEX('Agents Shift'!$F:$S,MATCH($A8,'Agents Shift'!$B:$B,0),$AE$3+1)),"")) -> 0.66666667 | G8: =IF($A8="","",_xlfn.XLOOKUP($A8,HC!$A:$A,HC!$C:$C,"")) -> Dummy_USR 73 | H8: =IF($G8="","",_xlfn.XLOOKUP($G8,$U:$U,$Z:$Z,"Not in Web Tool")) -> Outbound | I8: =IF($G8="","",_xlfn.XLOOKUP($G8,$U:$U,$Y:$Y,"")) -> 12:29 | J8: =IF(OR($A8="",$H8=""),"",IF($H8="Not in Web Tool","Unmatched",_xlfn.XLOOKUP($H8,'RAW Data'!$E:$E,'RAW Data'!$F:$F,"Unmapped"))) -> Yes | K8: =_xlfn.IFS($J8="Yes","YES",$J8="","",$J8="No","NO",$J8="Not Productive",$H8,TRUE,$J8) -> YES | M8: =IF(ISNUMBER($E8),ROUND($E8*1440,0),"") -> 480 | N8: =IF(AND(ISNUMBER($E8),ISNUMBER($F8)),ROUND($F8*1440,0)+IF($F8<=$E8,1440,0),"") -> 960 | P8: Offline · 21:00:02 | Q8: 4 | R8: =IF($C$3="Live Paste",IF($P8="","",$P8&""),IF($AD$3="","",INDEX('Extraction History'!$A$3:$DT$9102,$Q8,$AD$3)&"")) -> Offline · 21:00:02 | S8: =S7+6 -> 21 | T8: =_xlfn.XLOOKUP($S8,$Q$5:$Q$9104,$R$5:$R$9104,"") -> Dummy_USR 38 20248 | U8: =IFERROR(_xlfn.TEXTBEFORE($T8,_xlfn.UNICHAR(160),1),"") -> Dummy_USR 38 | V8: =IF($U8="","",_xlfn.TEXTAFTER($T8,_xlfn.UNICHAR(160),1)) -> 20248 | W8: =W7+6 -> 22 | X8: =_xlfn.XLOOKUP($W8,$Q$5:$Q$9104,$R$5:$R$9104,"") -> Available · 01:15 | Y8: =IFERROR(IF($Z8="","",TRIM(SUBSTITUTE(_xlfn.TEXTAFTER($X8,_xlfn.UNICHAR(160)&"·",1),_xlfn.UNICHAR(160)," "))),"") -> 01:15 | Z8: =IFERROR(_xlfn.TEXTBEFORE($X8,_xlfn.UNICHAR(160),1),$X8) -> Available | AA8: =IF($U8="","",IF(COUNTIF(HC!$C:$C,$U8)>0,"Y",IF(COUNTIF($U$5:$U8,$U8)=1,"N","dup"))) -> Y
A9: =IF(INDEX('Agents Shift'!$B:$B,ROW())="","",INDEX('Agents Shift'!$B:$B,ROW())) -> 100002 | B9: =IF($A9="","",_xlfn.XLOOKUP($A9,HC!$A:$A,HC!$B:$B,"")) -> Dummy_AG 2 | C9: =IF($A9="","",_xlfn.XLOOKUP($A9,HC!$A:$A,HC!$E:$E,"")) -> LOB_2 | D9: =IF($A9="","",_xlfn.XLOOKUP($A9,HC!$A:$A,HC!$D:$D,"")) -> Dummy_TL 2 | E9: =IF(OR($A9="",$AE$3=""),"",IFERROR(IF(ISBLANK(INDEX('Agents Shift'!$F:$S,MATCH($A9,'Agents Shift'!$B:$B,0),$AE$3)),"",INDEX('Agents Shift'!$F:$S,MATCH($A9,'Agents Shift'!$B:$B,0),$AE$3)),"")) -> 0.33333333 | F9: =IF(OR($A9="",$AE$3=""),"",IFERROR(IF(ISBLANK(INDEX('Agents Shift'!$F:$S,MATCH($A9,'Agents Shift'!$B:$B,0),$AE$3+1)),"",INDEX('Agents Shift'!$F:$S,MATCH($A9,'Agents Shift'!$B:$B,0),$AE$3+1)),"")) -> 0.66666667 | G9: =IF($A9="","",_xlfn.XLOOKUP($A9,HC!$A:$A,HC!$C:$C,"")) -> Dummy_USR 2 | H9: =IF($G9="","",_xlfn.XLOOKUP($G9,$U:$U,$Z:$Z,"Not in Web Tool")) -> Available | I9: =IF($G9="","",_xlfn.XLOOKUP($G9,$U:$U,$Y:$Y,"")) -> 06:39 | J9: =IF(OR($A9="",$H9=""),"",IF($H9="Not in Web Tool","Unmatched",_xlfn.XLOOKUP($H9,'RAW Data'!$E:$E,'RAW Data'!$F:$F,"Unmapped"))) -> Yes | K9: =_xlfn.IFS($J9="Yes","YES",$J9="","",$J9="No","NO",$J9="Not Productive",$H9,TRUE,$J9) -> YES | M9: =IF(ISNUMBER($E9),ROUND($E9*1440,0),"") -> 480 | N9: =IF(AND(ISNUMBER($E9),ISNUMBER($F9)),ROUND($F9*1440,0)+IF($F9<=$E9,1440,0),"") -> 960 | P9: 0 0 0 | Q9: 5 | R9: =IF($C$3="Live Paste",IF($P9="","",$P9&""),IF($AD$3="","",INDEX('Extraction History'!$A$3:$DT$9102,$Q9,$AD$3)&"")) -> 0 0 0 | S9: =S8+6 -> 27 | T9: =_xlfn.XLOOKUP($S9,$Q$5:$Q$9104,$R$5:$R$9104,"") -> Dummy_USR 152 25260 | U9: =IFERROR(_xlfn.TEXTBEFORE($T9,_xlfn.UNICHAR(160),1),"") -> Dummy_USR 152 | V9: =IF($U9="","",_xlfn.TEXTAFTER($T9,_xlfn.UNICHAR(160),1)) -> 25260 | W9: =W8+6 -> 28 | X9: =_xlfn.XLOOKUP($W9,$Q$5:$Q$9104,$R$5:$R$9104,"") -> Offline · 15:21:50 | Y9: =IFERROR(IF($Z9="","",TRIM(SUBSTITUTE(_xlfn.TEXTAFTER($X9,_xlfn.UNICHAR(160)&"·",1),_xlfn.UNICHAR(160)," "))),"") -> 15:21:50 | Z9: =IFERROR(_xlfn.TEXTBEFORE($X9,_xlfn.UNICHAR(160),1),$X9) -> Offline | AA9: =IF($U9="","",IF(COUNTIF(HC!$C:$C,$U9)>0,"Y",IF(COUNTIF($U$5:$U9,$U9)=1,"N","dup"))) -> Y
A10: =IF(INDEX('Agents Shift'!$B:$B,ROW())="","",INDEX('Agents Shift'!$B:$B,ROW())) -> 100008 | B10: =IF($A10="","",_xlfn.XLOOKUP($A10,HC!$A:$A,HC!$B:$B,"")) -> Dummy_AG 8 | C10: =IF($A10="","",_xlfn.XLOOKUP($A10,HC!$A:$A,HC!$E:$E,"")) -> LOB_2 | D10: =IF($A10="","",_xlfn.XLOOKUP($A10,HC!$A:$A,HC!$D:$D,"")) -> Dummy_TL 5 | E10: =IF(OR($A10="",$AE$3=""),"",IFERROR(IF(ISBLANK(INDEX('Agents Shift'!$F:$S,MATCH($A10,'Agents Shift'!$B:$B,0),$AE$3)),"",INDEX('Agents Shift'!$F:$S,MATCH($A10,'Agents Shift'!$B:$B,0),$AE$3)),"")) -> 0.33333333 | F10: =IF(OR($A10="",$AE$3=""),"",IFERROR(IF(ISBLANK(INDEX('Agents Shift'!$F:$S,MATCH($A10,'Agents Shift'!$B:$B,0),$AE$3+1)),"",INDEX('Agents Shift'!$F:$S,MATCH($A10,'Agents Shift'!$B:$B,0),$AE$3+1)),"")) -> 0.66666667 | G10: =IF($A10="","",_xlfn.XLOOKUP($A10,HC!$A:$A,HC!$C:$C,"")) -> Dummy_USR 8 | H10: =IF($G10="","",_xlfn.XLOOKUP($G10,$U:$U,$Z:$Z,"Not in Web Tool")) -> Available | I10: =IF($G10="","",_xlfn.XLOOKUP($G10,$U:$U,$Y:$Y,"")) -> 04:24 | J10: =IF(OR($A10="",$H10=""),"",IF($H10="Not in Web Tool","Unmatched",_xlfn.XLOOKUP($H10,'RAW Data'!$E:$E,'RAW Data'!$F:$F,"Unmapped"))) -> Yes | K10: =_xlfn.IFS($J10="Yes","YES",$J10="","",$J10="No","NO",$J10="Not Productive",$H10,TRUE,$J10) -> YES | M10: =IF(ISNUMBER($E10),ROUND($E10*1440,0),"") -> 480 | N10: =IF(AND(ISNUMBER($E10),ISNUMBER($F10)),ROUND($F10*1440,0)+IF($F10<=$E10,1440,0),"") -> 960 | P10: 00:00:00 00:00:00 --:--:-- | Q10: 6 | R10: =IF($C$3="Live Paste",IF($P10="","",$P10&""),IF($AD$3="","",INDEX('Extraction History'!$A$3:$DT$9102,$Q10,$AD$3)&"")) -> 00:00:00 00:00:00 --:--:-- | S10: =S9+6 -> 33 | T10: =_xlfn.XLOOKUP($S10,$Q$5:$Q$9104,$R$5:$R$9104,"") -> Dummy_USR 125 25193 | U10: =IFERROR(_xlfn.TEXTBEFORE($T10,_xlfn.UNICHAR(160),1),"") -> Dummy_USR 125 | V10: =IF($U10="","",_xlfn.TEXTAFTER($T10,_xlfn.UNICHAR(160),1)) -> 25193 | W10: =W9+6 -> 34 | X10: =_xlfn.XLOOKUP($W10,$Q$5:$Q$9104,$R$5:$R$9104,"") -> Offline · 13:59:28 | Y10: =IFERROR(IF($Z10="","",TRIM(SUBSTITUTE(_xlfn.TEXTAFTER($X10,_xlfn.UNICHAR(160)&"·",1),_xlfn.UNICHAR(160)," "))),"") -> 13:59:28 | Z10: =IFERROR(_xlfn.TEXTBEFORE($X10,_xlfn.UNICHAR(160),1),$X10) -> Offline | AA10: =IF($U10="","",IF(COUNTIF(HC!$C:$C,$U10)>0,"Y",IF(COUNTIF($U$5:$U10,$U10)=1,"N","dup"))) -> Y
A11: =IF(INDEX('Agents Shift'!$B:$B,ROW())="","",INDEX('Agents Shift'!$B:$B,ROW())) -> 100085 | B11: =IF($A11="","",_xlfn.XLOOKUP($A11,HC!$A:$A,HC!$B:$B,"")) -> Dummy_AG 85 | C11: =IF($A11="","",_xlfn.XLOOKUP($A11,HC!$A:$A,HC!$E:$E,"")) -> LOB_1 | D11: =IF($A11="","",_xlfn.XLOOKUP($A11,HC!$A:$A,HC!$D:$D,"")) -> Dummy_TL 7 | E11: =IF(OR($A11="",$AE$3=""),"",IFERROR(IF(ISBLANK(INDEX('Agents Shift'!$F:$S,MATCH($A11,'Agents Shift'!$B:$B,0),$AE$3)),"",INDEX('Agents Shift'!$F:$S,MATCH($A11,'Agents Shift'!$B:$B,0),$AE$3)),"")) -> 0.625 | F11: =IF(OR($A11="",$AE$3=""),"",IFERROR(IF(ISBLANK(INDEX('Agents Shift'!$F:$S,MATCH($A11,'Agents Shift'!$B:$B,0),$AE$3+1)),"",INDEX('Agents Shift'!$F:$S,MATCH($A11,'Agents Shift'!$B:$B,0),$AE$3+1)),"")) -> 0.95833333 | G11: =IF($A11="","",_xlfn.XLOOKUP($A11,HC!$A:$A,HC!$C:$C,"")) -> Dummy_USR 85 | H11: =IF($G11="","",_xlfn.XLOOKUP($G11,$U:$U,$Z:$Z,"Not in Web Tool")) -> Offline | I11: =IF($G11="","",_xlfn.XLOOKUP($G11,$U:$U,$Y:$Y,"")) -> 14:00:11 | J11: =IF(OR($A11="",$H11=""),"",IF($H11="Not in Web Tool","Unmatched",_xlfn.XLOOKUP($H11,'RAW Data'!$E:$E,'RAW Data'!$F:$F,"Unmapped"))) -> No | K11: =_xlfn.IFS($J11="Yes","YES",$J11="","",$J11="No","NO",$J11="Not Productive",$H11,TRUE,$J11) -> NO | M11: =IF(ISNUMBER($E11),ROUND($E11*1440,0),"") -> 900 | N11: =IF(AND(ISNUMBER($E11),ISNUMBER($F11)),ROUND($F11*1440,0)+IF($F11<=$E11,1440,0),"") -> 1380 | P11: Employee State | Q11: 7 | R11: =IF($C$3="Live Paste",IF($P11="","",$P11&""),IF($AD$3="","",INDEX('Extraction History'!$A$3:$DT$9102,$Q11,$AD$3)&"")) -> Employee State | S11: =S10+6 -> 39 | T11: =_xlfn.XLOOKUP($S11,$Q$5:$Q$9104,$R$5:$R$9104,"") -> Dummy_USR 168 25263 | U11: =IFERROR(_xlfn.TEXTBEFORE($T11,_xlfn.UNICHAR(160),1),"") -> Dummy_USR 168 | V11: =IF($U11="","",_xlfn.TEXTAFTER($T11,_xlfn.UNICHAR(160),1)) -> 25263 | W11: =W10+6 -> 40 | X11: =_xlfn.XLOOKUP($W11,$Q$5:$Q$9104,$R$5:$R$9104,"") -> Offline · 13:58:54 | Y11: =IFERROR(IF($Z11="","",TRIM(SUBSTITUTE(_xlfn.TEXTAFTER($X11,_xlfn.UNICHAR(160)&"·",1),_xlfn.UNICHAR(160)," "))),"") -> 13:58:54 | Z11: =IFERROR(_xlfn.TEXTBEFORE($X11,_xlfn.UNICHAR(160),1),$X11) -> Offline | AA11: =IF($U11="","",IF(COUNTIF(HC!$C:$C,$U11)>0,"Y",IF(COUNTIF($U$5:$U11,$U11)=1,"N","dup"))) -> Y
A12: =IF(INDEX('Agents Shift'!$B:$B,ROW())="","",INDEX('Agents Shift'!$B:$B,ROW())) -> 100107 | B12: =IF($A12="","",_xlfn.XLOOKUP($A12,HC!$A:$A,HC!$B:$B,"")) -> Dummy_AG 107 | C12: =IF($A12="","",_xlfn.XLOOKUP($A12,HC!$A:$A,HC!$E:$E,"")) -> LOB_1 | D12: =IF($A12="","",_xlfn.XLOOKUP($A12,HC!$A:$A,HC!$D:$D,"")) -> Dummy_TL 7 | E12: =IF(OR($A12="",$AE$3=""),"",IFERROR(IF(ISBLANK(INDEX('Agents Shift'!$F:$S,MATCH($A12,'Agents Shift'!$B:$B,0),$AE$3)),"",INDEX('Agents Shift'!$F:$S,MATCH($A12,'Agents Shift'!$B:$B,0),$AE$3)),"")) -> 0.625 | F12: =IF(OR($A12="",$AE$3=""),"",IFERROR(IF(ISBLANK(INDEX('Agents Shift'!$F:$S,MATCH($A12,'Agents Shift'!$B:$B,0),$AE$3+1)),"",INDEX('Agents Shift'!$F:$S,MATCH($A12,'Agents Shift'!$B:$B,0),$AE$3+1)),"")) -> 0.91666667 | G12: =IF($A12="","",_xlfn.XLOOKUP($A12,HC!$A:$A,HC!$C:$C,"")) -> Dummy_USR 107 | H12: =IF($G12="","",_xlfn.XLOOKUP($G12,$U:$U,$Z:$Z,"Not in Web Tool")) -> Offline | I12: =IF($G12="","",_xlfn.XLOOKUP($G12,$U:$U,$Y:$Y,"")) -> 13:59:40 | J12: =IF(OR($A12="",$H12=""),"",IF($H12="Not in Web Tool","Unmatched",_xlfn.XLOOKUP($H12,'RAW Data'!$E:$E,'RAW Data'!$F:$F,"Unmapped"))) -> No | K12: =_xlfn.IFS($J12="Yes","YES",$J12="","",$J12="No","NO",$J12="Not Productive",$H12,TRUE,$J12) -> NO | M12: =IF(ISNUMBER($E12),ROUND($E12*1440,0),"") -> 900 | N12: =IF(AND(ISNUMBER($E12),ISNUMBER($F12)),ROUND($F12*1440,0)+IF($F12<=$E12,1440,0),"") -> 1320 | P12: DA | Q12: 8 | R12: =IF($C$3="Live Paste",IF($P12="","",$P12&""),IF($AD$3="","",INDEX('Extraction History'!$A$3:$DT$9102,$Q12,$AD$3)&"")) -> DA | S12: =S11+6 -> 45 | T12: =_xlfn.XLOOKUP($S12,$Q$5:$Q$9104,$R$5:$R$9104,"") -> Dummy_USR 167 25250 | U12: =IFERROR(_xlfn.TEXTBEFORE($T12,_xlfn.UNICHAR(160),1),"") -> Dummy_USR 167 | V12: =IF($U12="","",_xlfn.TEXTAFTER($T12,_xlfn.UNICHAR(160),1)) -> 25250 | W12: =W11+6 -> 46 | X12: =_xlfn.XLOOKUP($W12,$Q$5:$Q$9104,$R$5:$R$9104,"") -> Offline · 13:59:55 | Y12: =IFERROR(IF($Z12="","",TRIM(SUBSTITUTE(_xlfn.TEXTAFTER($X12,_xlfn.UNICHAR(160)&"·",1),_xlfn.UNICHAR(160)," "))),"") -> 13:59:55 | Z12: =IFERROR(_xlfn.TEXTBEFORE($X12,_xlfn.UNICHAR(160),1),$X12) -> Offline | AA12: =IF($U12="","",IF(COUNTIF(HC!$C:$C,$U12)>0,"Y",IF(COUNTIF($U$5:$U12,$U12)=1,"N","dup"))) -> Y
A13: =IF(INDEX('Agents Shift'!$B:$B,ROW())="","",INDEX('Agents Shift'!$B:$B,ROW())) -> 100097 | B13: =IF($A13="","",_xlfn.XLOOKUP($A13,HC!$A:$A,HC!$B:$B,"")) -> Dummy_AG 97 | C13: =IF($A13="","",_xlfn.XLOOKUP($A13,HC!$A:$A,HC!$E:$E,"")) -> LOB_2 | D13: =IF($A13="","",_xlfn.XLOOKUP($A13,HC!$A:$A,HC!$D:$D,"")) -> Dummy_TL 10 | E13: =IF(OR($A13="",$AE$3=""),"",IFERROR(IF(ISBLANK(INDEX('Agents Shift'!$F:$S,MATCH($A13,'Agents Shift'!$B:$B,0),$AE$3)),"",INDEX('Agents Shift'!$F:$S,MATCH($A13,'Agents Shift'!$B:$B,0),$AE$3)),"")) -> 0.66666667 | F13: =IF(OR($A13="",$AE$3=""),"",IFERROR(IF(ISBLANK(INDEX('Agents Shift'!$F:$S,MATCH($A13,'Agents Shift'!$B:$B,0),$AE$3+1)),"",INDEX('Agents Shift'!$F:$S,MATCH($A13,'Agents Shift'!$B:$B,0),$AE$3+1)),"")) -> 0.9375 | G13: =IF($A13="","",_xlfn.XLOOKUP($A13,HC!$A:$A,HC!$C:$C,"")) -> Dummy_USR 97 | H13: =IF($G13="","",_xlfn.XLOOKUP($G13,$U:$U,$Z:$Z,"Not in Web Tool")) -> Offline | I13: =IF($G13="","",_xlfn.XLOOKUP($G13,$U:$U,$Y:$Y,"")) -> 13:59:56 | J13: =IF(OR($A13="",$H13=""),"",IF($H13="Not in Web Tool","Unmatched",_xlfn.XLOOKUP($H13,'RAW Data'!$E:$E,'RAW Data'!$F:$F,"Unmapped"))) -> No | K13: =_xlfn.IFS($J13="Yes","YES",$J13="","",$J13="No","NO",$J13="Not Productive",$H13,TRUE,$J13) -> NO | M13: =IF(ISNUMBER($E13),ROUND($E13*1440,0),"") -> 960 | N13: =IF(AND(ISNUMBER($E13),ISNUMBER($F13)),ROUND($F13*1440,0)+IF($F13<=$E13,1440,0),"") -> 1350 | P13: Dummy_USR 33 29135 | Q13: 9 | R13: =IF($C$3="Live Paste",IF($P13="","",$P13&""),IF($AD$3="","",INDEX('Extraction History'!$A$3:$DT$9102,$Q13,$AD$3)&"")) -> Dummy_USR 33 29135 | S13: =S12+6 -> 51 | T13: =_xlfn.XLOOKUP($S13,$Q$5:$Q$9104,$R$5:$R$9104,"") -> Dummy_USR 166 25246 | U13: =IFERROR(_xlfn.TEXTBEFORE($T13,_xlfn.UNICHAR(160),1),"") -> Dummy_USR 166 | V13: =IF($U13="","",_xlfn.TEXTAFTER($T13,_xlfn.UNICHAR(160),1)) -> 25246 | W13: =W12+6 -> 52 | X13: =_xlfn.XLOOKUP($W13,$Q$5:$Q$9104,$R$5:$R$9104,"") -> Offline · 8:14:00:35 | Y13: =IFERROR(IF($Z13="","",TRIM(SUBSTITUTE(_xlfn.TEXTAFTER($X13,_xlfn.UNICHAR(160)&"·",1),_xlfn.UNICHAR(160)," "))),"") -> 8:14:00:35 | Z13: =IFERROR(_xlfn.TEXTBEFORE($X13,_xlfn.UNICHAR(160),1),$X13) -> Offline | AA13: =IF($U13="","",IF(COUNTIF(HC!$C:$C,$U13)>0,"Y",IF(COUNTIF($U$5:$U13,$U13)=1,"N","dup"))) -> Y
A14: =IF(INDEX('Agents Shift'!$B:$B,ROW())="","",INDEX('Agents Shift'!$B:$B,ROW())) -> 100017 | B14: =IF($A14="","",_xlfn.XLOOKUP($A14,HC!$A:$A,HC!$B:$B,"")) -> Dummy_AG 17 | C14: =IF($A14="","",_xlfn.XLOOKUP($A14,HC!$A:$A,HC!$E:$E,"")) -> LOB_2 | D14: =IF($A14="","",_xlfn.XLOOKUP($A14,HC!$A:$A,HC!$D:$D,"")) -> Dummy_TL 2 | E14: =IF(OR($A14="",$AE$3=""),"",IFERROR(IF(ISBLANK(INDEX('Agents Shift'!$F:$S,MATCH($A14,'Agents Shift'!$B:$B,0),$AE$3)),"",INDEX('Agents Shift'!$F:$S,MATCH($A14,'Agents Shift'!$B:$B,0),$AE$3)),"")) -> VAC | F14: =IF(OR($A14="",$AE$3=""),"",IFERROR(IF(ISBLANK(INDEX('Agents Shift'!$F:$S,MATCH($A14,'Agents Shift'!$B:$B,0),$AE$3+1)),"",INDEX('Agents Shift'!$F:$S,MATCH($A14,'Agents Shift'!$B:$B,0),$AE$3+1)),"")) -> VAC | G14: =IF($A14="","",_xlfn.XLOOKUP($A14,HC!$A:$A,HC!$C:$C,"")) -> Dummy_USR 17 | H14: =IF($G14="","",_xlfn.XLOOKUP($G14,$U:$U,$Z:$Z,"Not in Web Tool")) -> Unknown | I14: =IF($G14="","",_xlfn.XLOOKUP($G14,$U:$U,$Y:$Y,"")) | J14: =IF(OR($A14="",$H14=""),"",IF($H14="Not in Web Tool","Unmatched",_xlfn.XLOOKUP($H14,'RAW Data'!$E:$E,'RAW Data'!$F:$F,"Unmapped"))) -> Not Productive | K14: =_xlfn.IFS($J14="Yes","YES",$J14="","",$J14="No","NO",$J14="Not Productive",$H14,TRUE,$J14) -> Unknown | M14: =IF(ISNUMBER($E14),ROUND($E14*1440,0),"") | N14: =IF(AND(ISNUMBER($E14),ISNUMBER($F14)),ROUND($F14*1440,0)+IF($F14<=$E14,1440,0),"") | P14: Offline · 4:20:58:41 | Q14: 10 | R14: =IF($C$3="Live Paste",IF($P14="","",$P14&""),IF($AD$3="","",INDEX('Extraction History'!$A$3:$DT$9102,$Q14,$AD$3)&"")) -> Offline · 4:20:58:41 | S14: =S13+6 -> 57 | T14: =_xlfn.XLOOKUP($S14,$Q$5:$Q$9104,$R$5:$R$9104,"") -> Dummy_USR 165 25256 | U14: =IFERROR(_xlfn.TEXTBEFORE($T14,_xlfn.UNICHAR(160),1),"") -> Dummy_USR 165 | V14: =IF($U14="","",_xlfn.TEXTAFTER($T14,_xlfn.UNICHAR(160),1)) -> 25256 | W14: =W13+6 -> 58 | X14: =_xlfn.XLOOKUP($W14,$Q$5:$Q$9104,$R$5:$R$9104,"") -> Unknown | Y14: =IFERROR(IF($Z14="","",TRIM(SUBSTITUTE(_xlfn.TEXTAFTER($X14,_xlfn.UNICHAR(160)&"·",1),_xlfn.UNICHAR(160)," "))),"") | Z14: =IFERROR(_xlfn.TEXTBEFORE($X14,_xlfn.UNICHAR(160),1),$X14) -> Unknown | AA14: =IF($U14="","",IF(COUNTIF(HC!$C:$C,$U14)>0,"Y",IF(COUNTIF($U$5:$U14,$U14)=1,"N","dup"))) -> Y
A15: =IF(INDEX('Agents Shift'!$B:$B,ROW())="","",INDEX('Agents Shift'!$B:$B,ROW())) -> 100110 | B15: =IF($A15="","",_xlfn.XLOOKUP($A15,HC!$A:$A,HC!$B:$B,"")) -> Dummy_AG 110 | C15: =IF($A15="","",_xlfn.XLOOKUP($A15,HC!$A:$A,HC!$E:$E,"")) -> LOB_1 | D15: =IF($A15="","",_xlfn.XLOOKUP($A15,HC!$A:$A,HC!$D:$D,"")) -> Dummy_TL 1 | E15: =IF(OR($A15="",$AE$3=""),"",IFERROR(IF(ISBLANK(INDEX('Agents Shift'!$F:$S,MATCH($A15,'Agents Shift'!$B:$B,0),$AE$3)),"",INDEX('Agents Shift'!$F:$S,MATCH($A15,'Agents Shift'!$B:$B,0),$AE$3)),"")) -> OFF | F15: =IF(OR($A15="",$AE$3=""),"",IFERROR(IF(ISBLANK(INDEX('Agents Shift'!$F:$S,MATCH($A15,'Agents Shift'!$B:$B,0),$AE$3+1)),"",INDEX('Agents Shift'!$F:$S,MATCH($A15,'Agents Shift'!$B:$B,0),$AE$3+1)),"")) -> OFF | G15: =IF($A15="","",_xlfn.XLOOKUP($A15,HC!$A:$A,HC!$C:$C,"")) -> Dummy_USR 110 | H15: =IF($G15="","",_xlfn.XLOOKUP($G15,$U:$U,$Z:$Z,"Not in Web Tool")) -> Offline | I15: =IF($G15="","",_xlfn.XLOOKUP($G15,$U:$U,$Y:$Y,"")) -> 21:00:08 | J15: =IF(OR($A15="",$H15=""),"",IF($H15="Not in Web Tool","Unmatched",_xlfn.XLOOKUP($H15,'RAW Data'!$E:$E,'RAW Data'!$F:$F,"Unmapped"))) -> No | K15: =_xlfn.IFS($J15="Yes","YES",$J15="","",$J15="No","NO",$J15="Not Productive",$H15,TRUE,$J15) -> NO | M15: =IF(ISNUMBER($E15),ROUND($E15*1440,0),"") | N15: =IF(AND(ISNUMBER($E15),ISNUMBER($F15)),ROUND($F15*1440,0)+IF($F15<=$E15,1440,0),"") | P15: 0 0 0 | Q15: 11 | R15: =IF($C$3="Live Paste",IF($P15="","",$P15&""),IF($AD$3="","",INDEX('Extraction History'!$A$3:$DT$9102,$Q15,$AD$3)&"")) -> 0 0 0 | S15: =S14+6 -> 63 | T15: =_xlfn.XLOOKUP($S15,$Q$5:$Q$9104,$R$5:$R$9104,"") -> Dummy_USR 164 25253 | U15: =IFERROR(_xlfn.TEXTBEFORE($T15,_xlfn.UNICHAR(160),1),"") -> Dummy_USR 164 | V15: =IF($U15="","",_xlfn.TEXTAFTER($T15,_xlfn.UNICHAR(160),1)) -> 25253 | W15: =W14+6 -> 64 | X15: =_xlfn.XLOOKUP($W15,$Q$5:$Q$9104,$R$5:$R$9104,"") -> Unknown | Y15: =IFERROR(IF($Z15="","",TRIM(SUBSTITUTE(_xlfn.TEXTAFTER($X15,_xlfn.UNICHAR(160)&"·",1),_xlfn.UNICHAR(160)," "))),"") | Z15: =IFERROR(_xlfn.TEXTBEFORE($X15,_xlfn.UNICHAR(160),1),$X15) -> Unknown | AA15: =IF($U15="","",IF(COUNTIF(HC!$C:$C,$U15)>0,"Y",IF(COUNTIF($U$5:$U15,$U15)=1,"N","dup"))) -> Y
A16: =IF(INDEX('Agents Shift'!$B:$B,ROW())="","",INDEX('Agents Shift'!$B:$B,ROW())) -> 100071 | B16: =IF($A16="","",_xlfn.XLOOKUP($A16,HC!$A:$A,HC!$B:$B,"")) -> Dummy_AG 71 | C16: =IF($A16="","",_xlfn.XLOOKUP($A16,HC!$A:$A,HC!$E:$E,"")) -> LOB_2 | D16: =IF($A16="","",_xlfn.XLOOKUP($A16,HC!$A:$A,HC!$D:$D,"")) -> Dummy_TL 5 | E16: =IF(OR($A16="",$AE$3=""),"",IFERROR(IF(ISBLANK(INDEX('Agents Shift'!$F:$S,MATCH($A16,'Agents Shift'!$B:$B,0),$AE$3)),"",INDEX('Agents Shift'!$F:$S,MATCH($A16,'Agents Shift'!$B:$B,0),$AE$3)),"")) -> 0.33333333 | F16: =IF(OR($A16="",$AE$3=""),"",IFERROR(IF(ISBLANK(INDEX('Agents Shift'!$F:$S,MATCH($A16,'Agents Shift'!$B:$B,0),$AE$3+1)),"",INDEX('Agents Shift'!$F:$S,MATCH($A16,'Agents Shift'!$B:$B,0),$AE$3+1)),"")) -> 0.66666667 | G16: =IF($A16="","",_xlfn.XLOOKUP($A16,HC!$A:$A,HC!$C:$C,"")) -> Dummy_USR 71 | H16: =IF($G16="","",_xlfn.XLOOKUP($G16,$U:$U,$Z:$Z,"Not in Web Tool")) -> Available | I16: =IF($G16="","",_xlfn.XLOOKUP($G16,$U:$U,$Y:$Y,"")) -> 12:42 | J16: =IF(OR($A16="",$H16=""),"",IF($H16="Not in Web Tool","Unmatched",_xlfn.XLOOKUP($H16,'RAW Data'!$E:$E,'RAW Data'!$F:$F,"Unmapped"))) -> Yes | K16: =_xlfn.IFS($J16="Yes","YES",$J16="","",$J16="No","NO",$J16="Not Productive",$H16,TRUE,$J16) -> YES | M16: =IF(ISNUMBER($E16),ROUND($E16*1440,0),"") -> 480 | N16: =IF(AND(ISNUMBER($E16),ISNUMBER($F16)),ROUND($F16*1440,0)+IF($F16<=$E16,1440,0),"") -> 960 | P16: 00:00:00 00:00:00 --:--:-- | Q16: 12 | R16: =IF($C$3="Live Paste",IF($P16="","",$P16&""),IF($AD$3="","",INDEX('Extraction History'!$A$3:$DT$9102,$Q16,$AD$3)&"")) -> 00:00:00 00:00:00 --:--:-- | S16: =S15+6 -> 69 | T16: =_xlfn.XLOOKUP($S16,$Q$5:$Q$9104,$R$5:$R$9104,"") -> Dummy_USR 163 25264 | U16: =IFERROR(_xlfn.TEXTBEFORE($T16,_xlfn.UNICHAR(160),1),"") -> Dummy_USR 163 | V16: =IF($U16="","",_xlfn.TEXTAFTER($T16,_xlfn.UNICHAR(160),1)) -> 25264 | W16: =W15+6 -> 70 | X16: =_xlfn.XLOOKUP($W16,$Q$5:$Q$9104,$R$5:$R$9104,"") -> Offline · 15:29:25 | Y16: =IFERROR(IF($Z16="","",TRIM(SUBSTITUTE(_xlfn.TEXTAFTER($X16,_xlfn.UNICHAR(160)&"·",1),_xlfn.UNICHAR(160)," "))),"") -> 15:29:25 | Z16: =IFERROR(_xlfn.TEXTBEFORE($X16,_xlfn.UNICHAR(160),1),$X16) -> Offline | AA16: =IF($U16="","",IF(COUNTIF(HC!$C:$C,$U16)>0,"Y",IF(COUNTIF($U$5:$U16,$U16)=1,"N","dup"))) -> Y
A17: =IF(INDEX('Agents Shift'!$B:$B,ROW())="","",INDEX('Agents Shift'!$B:$B,ROW())) -> 100039 | B17: =IF($A17="","",_xlfn.XLOOKUP($A17,HC!$A:$A,HC!$B:$B,"")) -> Dummy_AG 39 | C17: =IF($A17="","",_xlfn.XLOOKUP($A17,HC!$A:$A,HC!$E:$E,"")) -> LOB_2 | D17: =IF($A17="","",_xlfn.XLOOKUP($A17,HC!$A:$A,HC!$D:$D,"")) -> Dummy_TL 7 | E17: =IF(OR($A17="",$AE$3=""),"",IFERROR(IF(ISBLANK(INDEX('Agents Shift'!$F:$S,MATCH($A17,'Agents Shift'!$B:$B,0),$AE$3)),"",INDEX('Agents Shift'!$F:$S,MATCH($A17,'Agents Shift'!$B:$B,0),$AE$3)),"")) -> Leave | F17: =IF(OR($A17="",$AE$3=""),"",IFERROR(IF(ISBLANK(INDEX('Agents Shift'!$F:$S,MATCH($A17,'Agents Shift'!$B:$B,0),$AE$3+1)),"",INDEX('Agents Shift'!$F:$S,MATCH($A17,'Agents Shift'!$B:$B,0),$AE$3+1)),"")) -> Leave | G17: =IF($A17="","",_xlfn.XLOOKUP($A17,HC!$A:$A,HC!$C:$C,"")) -> Dummy_USR 39 | H17: =IF($G17="","",_xlfn.XLOOKUP($G17,$U:$U,$Z:$Z,"Not in Web Tool")) -> Not in Web Tool | I17: =IF($G17="","",_xlfn.XLOOKUP($G17,$U:$U,$Y:$Y,"")) | J17: =IF(OR($A17="",$H17=""),"",IF($H17="Not in Web Tool","Unmatched",_xlfn.XLOOKUP($H17,'RAW Data'!$E:$E,'RAW Data'!$F:$F,"Unmapped"))) -> Unmatched | K17: =_xlfn.IFS($J17="Yes","YES",$J17="","",$J17="No","NO",$J17="Not Productive",$H17,TRUE,$J17) -> Unmatched | M17: =IF(ISNUMBER($E17),ROUND($E17*1440,0),"") | N17: =IF(AND(ISNUMBER($E17),ISNUMBER($F17)),ROUND($F17*1440,0)+IF($F17<=$E17,1440,0),"") | P17: Employee State | Q17: 13 | R17: =IF($C$3="Live Paste",IF($P17="","",$P17&""),IF($AD$3="","",INDEX('Extraction History'!$A$3:$DT$9102,$Q17,$AD$3)&"")) -> Employee State | S17: =S16+6 -> 75 | T17: =_xlfn.XLOOKUP($S17,$Q$5:$Q$9104,$R$5:$R$9104,"") -> Dummy_USR 162 25254 | U17: =IFERROR(_xlfn.TEXTBEFORE($T17,_xlfn.UNICHAR(160),1),"") -> Dummy_USR 162 | V17: =IF($U17="","",_xlfn.TEXTAFTER($T17,_xlfn.UNICHAR(160),1)) -> 25254 | W17: =W16+6 -> 76 | X17: =_xlfn.XLOOKUP($W17,$Q$5:$Q$9104,$R$5:$R$9104,"") -> Offline · 13:59:27 | Y17: =IFERROR(IF($Z17="","",TRIM(SUBSTITUTE(_xlfn.TEXTAFTER($X17,_xlfn.UNICHAR(160)&"·",1),_xlfn.UNICHAR(160)," "))),"") -> 13:59:27 | Z17: =IFERROR(_xlfn.TEXTBEFORE($X17,_xlfn.UNICHAR(160),1),$X17) -> Offline | AA17: =IF($U17="","",IF(COUNTIF(HC!$C:$C,$U17)>0,"Y",IF(COUNTIF($U$5:$U17,$U17)=1,"N","dup"))) -> Y
... A1090: =IF(INDEX('Agents Shift'!$B:$B,ROW())="","",INDEX('Agents Shift'!$B:$B,ROW())) | B1090: =IF($A1090="","",_xlfn.XLOOKUP($A1090,HC!$A:$A,HC!$B:$B,"")) | C1090: =IF($A1090="","",_xlfn.XLOOKUP($A1090,HC!$A:$A,HC!$E:$E,"")) | D1090: =IF($A1090="","",_xlfn.XLOOKUP($A1090,HC!$A:$A,HC!$D:$D,"")) | E1090: =IF(OR($A1090="",$AE$3=""),"",IFERROR(IF(ISBLANK(INDEX('Agents Shift'!$F:$S,MATCH($A1090,'Agents Shift'!$B:$B,0),$AE$3)),"",INDEX('Agents Shift'!$F:$S,MATCH($A1090,'Agents Shift'!$B:$B,0),$AE$3)),"")) | F1090: =IF(OR($A1090="",$AE$3=""),"",IFERROR(IF(ISBLANK(INDEX('Agents Shift'!$F:$S,MATCH($A1090,'Agents Shift'!$B:$B,0),$AE$3+1)),"",INDEX('Agents Shift'!$F:$S,MATCH($A1090,'Agents Shift'!$B:$B,0),$AE$3+1)),"")) | G1090: =IF($A1090="","",_xlfn.XLOOKUP($A1090,HC!$A:$A,HC!$C:$C,"")) | H1090: =IF($G1090="","",_xlfn.XLOOKUP($G1090,$U:$U,$Z:$Z,"Not in Web Tool")) | I1090: =IF($G1090="","",_xlfn.XLOOKUP($G1090,$U:$U,$Y:$Y,"")) | J1090: =IF(OR($A1090="",$H1090=""),"",IF($H1090="Not in Web Tool","Unmatched",_xlfn.XLOOKUP($H1090,'RAW Data'!$E:$E,'RAW Data'!$F:$F,"Unmapped"))) | K1090: =_xlfn.IFS($J1090="Yes","YES",$J1090="","",$J1090="No","NO",$J1090="Not Productive",$H1090,TRUE,$J1090) | M1090: =IF(ISNUMBER($E1090),ROUND($E1090*1440,0),"") | N1090: =IF(AND(ISNUMBER($E1090),ISNUMBER($F1090)),ROUND($F1090*1440,0)+IF($F1090<=$E1090,1440,0),"") | P1090: --:--:-- --:--:-- --:--:-- | Q1090: 1086 | R1090: =IF($C$3="Live Paste",IF($P1090="","",$P1090&""),IF($AD$3="","",INDEX('Extraction History'!$A$3:$DT$9102,$Q1090,$AD$3)&"")) -> --:--:-- --:--:-- --:--:-- | S1090: =S1089+6 -> 6513 | T1090: =_xlfn.XLOOKUP($S1090,$Q$5:$Q$9104,$R$5:$R$9104,"") | U1090: =IFERROR(_xlfn.TEXTBEFORE($T1090,_xlfn.UNICHAR(160),1),"") | V1090: =IF($U1090="","",_xlfn.TEXTAFTER($T1090,_xlfn.UNICHAR(160),1)) | W1090: =W1089+6 -> 6514 | X1090: =_xlfn.XLOOKUP($W1090,$Q$5:$Q$9104,$R$5:$R$9104,"") | Y1090: =IFERROR(IF($Z1090="","",TRIM(SUBSTITUTE(_xlfn.TEXTAFTER($X1090,_xlfn.UNICHAR(160)&"·",1),_xlfn.UNICHAR(160)," "))),"") | Z1090: =IFERROR(_xlfn.TEXTBEFORE($X1090,_xlfn.UNICHAR(160),1),$X1090) | AA1090: =IF($U1090="","",IF(COUNTIF(HC!$C:$C,$U1090)>0,"Y",IF(COUNTIF($U$5:$U1090,$U1090)=1,"N","dup")))
A1091: =IF(INDEX('Agents Shift'!$B:$B,ROW())="","",INDEX('Agents Shift'!$B:$B,ROW())) | B1091: =IF($A1091="","",_xlfn.XLOOKUP($A1091,HC!$A:$A,HC!$B:$B,"")) | C1091: =IF($A1091="","",_xlfn.XLOOKUP($A1091,HC!$A:$A,HC!$E:$E,"")) | D1091: =IF($A1091="","",_xlfn.XLOOKUP($A1091,HC!$A:$A,HC!$D:$D,"")) | E1091: =IF(OR($A1091="",$AE$3=""),"",IFERROR(IF(ISBLANK(INDEX('Agents Shift'!$F:$S,MATCH($A1091,'Agents Shift'!$B:$B,0),$AE$3)),"",INDEX('Agents Shift'!$F:$S,MATCH($A1091,'Agents Shift'!$B:$B,0),$AE$3)),"")) | F1091: =IF(OR($A1091="",$AE$3=""),"",IFERROR(IF(ISBLANK(INDEX('Agents Shift'!$F:$S,MATCH($A1091,'Agents Shift'!$B:$B,0),$AE$3+1)),"",INDEX('Agents Shift'!$F:$S,MATCH($A1091,'Agents Shift'!$B:$B,0),$AE$3+1)),"")) | G1091: =IF($A1091="","",_xlfn.XLOOKUP($A1091,HC!$A:$A,HC!$C:$C,"")) | H1091: =IF($G1091="","",_xlfn.XLOOKUP($G1091,$U:$U,$Z:$Z,"Not in Web Tool")) | I1091: =IF($G1091="","",_xlfn.XLOOKUP($G1091,$U:$U,$Y:$Y,"")) | J1091: =IF(OR($A1091="",$H1091=""),"",IF($H1091="Not in Web Tool","Unmatched",_xlfn.XLOOKUP($H1091,'RAW Data'!$E:$E,'RAW Data'!$F:$F,"Unmapped"))) | K1091: =_xlfn.IFS($J1091="Yes","YES",$J1091="","",$J1091="No","NO",$J1091="Not Productive",$H1091,TRUE,$J1091) | M1091: =IF(ISNUMBER($E1091),ROUND($E1091*1440,0),"") | N1091: =IF(AND(ISNUMBER($E1091),ISNUMBER($F1091)),ROUND($F1091*1440,0)+IF($F1091<=$E1091,1440,0),"") | Q1091: 1087 | R1091: =IF($C$3="Live Paste",IF($P1091="","",$P1091&""),IF($AD$3="","",INDEX('Extraction History'!$A$3:$DT$9102,$Q1091,$AD$3)&"")) | S1091: =S1090+6 -> 6519 | T1091: =_xlfn.XLOOKUP($S1091,$Q$5:$Q$9104,$R$5:$R$9104,"") | U1091: =IFERROR(_xlfn.TEXTBEFORE($T1091,_xlfn.UNICHAR(160),1),"") | V1091: =IF($U1091="","",_xlfn.TEXTAFTER($T1091,_xlfn.UNICHAR(160),1)) | W1091: =W1090+6 -> 6520 | X1091: =_xlfn.XLOOKUP($W1091,$Q$5:$Q$9104,$R$5:$R$9104,"") | Y1091: =IFERROR(IF($Z1091="","",TRIM(SUBSTITUTE(_xlfn.TEXTAFTER($X1091,_xlfn.UNICHAR(160)&"·",1),_xlfn.UNICHAR(160)," "))),"") | Z1091: =IFERROR(_xlfn.TEXTBEFORE($X1091,_xlfn.UNICHAR(160),1),$X1091) | AA1091: =IF($U1091="","",IF(COUNTIF(HC!$C:$C,$U1091)>0,"Y",IF(COUNTIF($U$5:$U1091,$U1091)=1,"N","dup")))
A1092: =IF(INDEX('Agents Shift'!$B:$B,ROW())="","",INDEX('Agents Shift'!$B:$B,ROW())) | B1092: =IF($A1092="","",_xlfn.XLOOKUP($A1092,HC!$A:$A,HC!$B:$B,"")) | C1092: =IF($A1092="","",_xlfn.XLOOKUP($A1092,HC!$A:$A,HC!$E:$E,"")) | D1092: =IF($A1092="","",_xlfn.XLOOKUP($A1092,HC!$A:$A,HC!$D:$D,"")) | E1092: =IF(OR($A1092="",$AE$3=""),"",IFERROR(IF(ISBLANK(INDEX('Agents Shift'!$F:$S,MATCH($A1092,'Agents Shift'!$B:$B,0),$AE$3)),"",INDEX('Agents Shift'!$F:$S,MATCH($A1092,'Agents Shift'!$B:$B,0),$AE$3)),"")) | F1092: =IF(OR($A1092="",$AE$3=""),"",IFERROR(IF(ISBLANK(INDEX('Agents Shift'!$F:$S,MATCH($A1092,'Agents Shift'!$B:$B,0),$AE$3+1)),"",INDEX('Agents Shift'!$F:$S,MATCH($A1092,'Agents Shift'!$B:$B,0),$AE$3+1)),"")) | G1092: =IF($A1092="","",_xlfn.XLOOKUP($A1092,HC!$A:$A,HC!$C:$C,"")) | H1092: =IF($G1092="","",_xlfn.XLOOKUP($G1092,$U:$U,$Z:$Z,"Not in Web Tool")) | I1092: =IF($G1092="","",_xlfn.XLOOKUP($G1092,$U:$U,$Y:$Y,"")) | J1092: =IF(OR($A1092="",$H1092=""),"",IF($H1092="Not in Web Tool","Unmatched",_xlfn.XLOOKUP($H1092,'RAW Data'!$E:$E,'RAW Data'!$F:$F,"Unmapped"))) | K1092: =_xlfn.IFS($J1092="Yes","YES",$J1092="","",$J1092="No","NO",$J1092="Not Productive",$H1092,TRUE,$J1092) | M1092: =IF(ISNUMBER($E1092),ROUND($E1092*1440,0),"") | N1092: =IF(AND(ISNUMBER($E1092),ISNUMBER($F1092)),ROUND($F1092*1440,0)+IF($F1092<=$E1092,1440,0),"") | Q1092: 1088 | R1092: =IF($C$3="Live Paste",IF($P1092="","",$P1092&""),IF($AD$3="","",INDEX('Extraction History'!$A$3:$DT$9102,$Q1092,$AD$3)&"")) | S1092: =S1091+6 -> 6525 | T1092: =_xlfn.XLOOKUP($S1092,$Q$5:$Q$9104,$R$5:$R$9104,"") | U1092: =IFERROR(_xlfn.TEXTBEFORE($T1092,_xlfn.UNICHAR(160),1),"") | V1092: =IF($U1092="","",_xlfn.TEXTAFTER($T1092,_xlfn.UNICHAR(160),1)) | W1092: =W1091+6 -> 6526 | X1092: =_xlfn.XLOOKUP($W1092,$Q$5:$Q$9104,$R$5:$R$9104,"") | Y1092: =IFERROR(IF($Z1092="","",TRIM(SUBSTITUTE(_xlfn.TEXTAFTER($X1092,_xlfn.UNICHAR(160)&"·",1),_xlfn.UNICHAR(160)," "))),"") | Z1092: =IFERROR(_xlfn.TEXTBEFORE($X1092,_xlfn.UNICHAR(160),1),$X1092) | AA1092: =IF($U1092="","",IF(COUNTIF(HC!$C:$C,$U1092)>0,"Y",IF(COUNTIF($U$5:$U1092,$U1092)=1,"N","dup")))
A1093: =IF(INDEX('Agents Shift'!$B:$B,ROW())="","",INDEX('Agents Shift'!$B:$B,ROW())) | B1093: =IF($A1093="","",_xlfn.XLOOKUP($A1093,HC!$A:$A,HC!$B:$B,"")) | C1093: =IF($A1093="","",_xlfn.XLOOKUP($A1093,HC!$A:$A,HC!$E:$E,"")) | D1093: =IF($A1093="","",_xlfn.XLOOKUP($A1093,HC!$A:$A,HC!$D:$D,"")) | E1093: =IF(OR($A1093="",$AE$3=""),"",IFERROR(IF(ISBLANK(INDEX('Agents Shift'!$F:$S,MATCH($A1093,'Agents Shift'!$B:$B,0),$AE$3)),"",INDEX('Agents Shift'!$F:$S,MATCH($A1093,'Agents Shift'!$B:$B,0),$AE$3)),"")) | F1093: =IF(OR($A1093="",$AE$3=""),"",IFERROR(IF(ISBLANK(INDEX('Agents Shift'!$F:$S,MATCH($A1093,'Agents Shift'!$B:$B,0),$AE$3+1)),"",INDEX('Agents Shift'!$F:$S,MATCH($A1093,'Agents Shift'!$B:$B,0),$AE$3+1)),"")) | G1093: =IF($A1093="","",_xlfn.XLOOKUP($A1093,HC!$A:$A,HC!$C:$C,"")) | H1093: =IF($G1093="","",_xlfn.XLOOKUP($G1093,$U:$U,$Z:$Z,"Not in Web Tool")) | I1093: =IF($G1093="","",_xlfn.XLOOKUP($G1093,$U:$U,$Y:$Y,"")) | J1093: =IF(OR($A1093="",$H1093=""),"",IF($H1093="Not in Web Tool","Unmatched",_xlfn.XLOOKUP($H1093,'RAW Data'!$E:$E,'RAW Data'!$F:$F,"Unmapped"))) | K1093: =_xlfn.IFS($J1093="Yes","YES",$J1093="","",$J1093="No","NO",$J1093="Not Productive",$H1093,TRUE,$J1093) | M1093: =IF(ISNUMBER($E1093),ROUND($E1093*1440,0),"") | N1093: =IF(AND(ISNUMBER($E1093),ISNUMBER($F1093)),ROUND($F1093*1440,0)+IF($F1093<=$E1093,1440,0),"") | Q1093: 1089 | R1093: =IF($C$3="Live Paste",IF($P1093="","",$P1093&""),IF($AD$3="","",INDEX('Extraction History'!$A$3:$DT$9102,$Q1093,$AD$3)&"")) | S1093: =S1092+6 -> 6531 | T1093: =_xlfn.XLOOKUP($S1093,$Q$5:$Q$9104,$R$5:$R$9104,"") | U1093: =IFERROR(_xlfn.TEXTBEFORE($T1093,_xlfn.UNICHAR(160),1),"") | V1093: =IF($U1093="","",_xlfn.TEXTAFTER($T1093,_xlfn.UNICHAR(160),1)) | W1093: =W1092+6 -> 6532 | X1093: =_xlfn.XLOOKUP($W1093,$Q$5:$Q$9104,$R$5:$R$9104,"") | Y1093: =IFERROR(IF($Z1093="","",TRIM(SUBSTITUTE(_xlfn.TEXTAFTER($X1093,_xlfn.UNICHAR(160)&"·",1),_xlfn.UNICHAR(160)," "))),"") | Z1093: =IFERROR(_xlfn.TEXTBEFORE($X1093,_xlfn.UNICHAR(160),1),$X1093) | AA1093: =IF($U1093="","",IF(COUNTIF(HC!$C:$C,$U1093)>0,"Y",IF(COUNTIF($U$5:$U1093,$U1093)=1,"N","dup")))
A1094: =IF(INDEX('Agents Shift'!$B:$B,ROW())="","",INDEX('Agents Shift'!$B:$B,ROW())) | B1094: =IF($A1094="","",_xlfn.XLOOKUP($A1094,HC!$A:$A,HC!$B:$B,"")) | C1094: =IF($A1094="","",_xlfn.XLOOKUP($A1094,HC!$A:$A,HC!$E:$E,"")) | D1094: =IF($A1094="","",_xlfn.XLOOKUP($A1094,HC!$A:$A,HC!$D:$D,"")) | E1094: =IF(OR($A1094="",$AE$3=""),"",IFERROR(IF(ISBLANK(INDEX('Agents Shift'!$F:$S,MATCH($A1094,'Agents Shift'!$B:$B,0),$AE$3)),"",INDEX('Agents Shift'!$F:$S,MATCH($A1094,'Agents Shift'!$B:$B,0),$AE$3)),"")) | F1094: =IF(OR($A1094="",$AE$3=""),"",IFERROR(IF(ISBLANK(INDEX('Agents Shift'!$F:$S,MATCH($A1094,'Agents Shift'!$B:$B,0),$AE$3+1)),"",INDEX('Agents Shift'!$F:$S,MATCH($A1094,'Agents Shift'!$B:$B,0),$AE$3+1)),"")) | G1094: =IF($A1094="","",_xlfn.XLOOKUP($A1094,HC!$A:$A,HC!$C:$C,"")) | H1094: =IF($G1094="","",_xlfn.XLOOKUP($G1094,$U:$U,$Z:$Z,"Not in Web Tool")) | I1094: =IF($G1094="","",_xlfn.XLOOKUP($G1094,$U:$U,$Y:$Y,"")) | J1094: =IF(OR($A1094="",$H1094=""),"",IF($H1094="Not in Web Tool","Unmatched",_xlfn.XLOOKUP($H1094,'RAW Data'!$E:$E,'RAW Data'!$F:$F,"Unmapped"))) | K1094: =_xlfn.IFS($J1094="Yes","YES",$J1094="","",$J1094="No","NO",$J1094="Not Productive",$H1094,TRUE,$J1094) | M1094: =IF(ISNUMBER($E1094),ROUND($E1094*1440,0),"") | N1094: =IF(AND(ISNUMBER($E1094),ISNUMBER($F1094)),ROUND($F1094*1440,0)+IF($F1094<=$E1094,1440,0),"") | Q1094: 1090 | R1094: =IF($C$3="Live Paste",IF($P1094="","",$P1094&""),IF($AD$3="","",INDEX('Extraction History'!$A$3:$DT$9102,$Q1094,$AD$3)&"")) | S1094: =S1093+6 -> 6537 | T1094: =_xlfn.XLOOKUP($S1094,$Q$5:$Q$9104,$R$5:$R$9104,"") | U1094: =IFERROR(_xlfn.TEXTBEFORE($T1094,_xlfn.UNICHAR(160),1),"") | V1094: =IF($U1094="","",_xlfn.TEXTAFTER($T1094,_xlfn.UNICHAR(160),1)) | W1094: =W1093+6 -> 6538 | X1094: =_xlfn.XLOOKUP($W1094,$Q$5:$Q$9104,$R$5:$R$9104,"") | Y1094: =IFERROR(IF($Z1094="","",TRIM(SUBSTITUTE(_xlfn.TEXTAFTER($X1094,_xlfn.UNICHAR(160)&"·",1),_xlfn.UNICHAR(160)," "))),"") | Z1094: =IFERROR(_xlfn.TEXTBEFORE($X1094,_xlfn.UNICHAR(160),1),$X1094) | AA1094: =IF($U1094="","",IF(COUNTIF(HC!$C:$C,$U1094)>0,"Y",IF(COUNTIF($U$5:$U1094,$U1094)=1,"N","dup")))
A1095: =IF(INDEX('Agents Shift'!$B:$B,ROW())="","",INDEX('Agents Shift'!$B:$B,ROW())) | B1095: =IF($A1095="","",_xlfn.XLOOKUP($A1095,HC!$A:$A,HC!$B:$B,"")) | C1095: =IF($A1095="","",_xlfn.XLOOKUP($A1095,HC!$A:$A,HC!$E:$E,"")) | D1095: =IF($A1095="","",_xlfn.XLOOKUP($A1095,HC!$A:$A,HC!$D:$D,"")) | E1095: =IF(OR($A1095="",$AE$3=""),"",IFERROR(IF(ISBLANK(INDEX('Agents Shift'!$F:$S,MATCH($A1095,'Agents Shift'!$B:$B,0),$AE$3)),"",INDEX('Agents Shift'!$F:$S,MATCH($A1095,'Agents Shift'!$B:$B,0),$AE$3)),"")) | F1095: =IF(OR($A1095="",$AE$3=""),"",IFERROR(IF(ISBLANK(INDEX('Agents Shift'!$F:$S,MATCH($A1095,'Agents Shift'!$B:$B,0),$AE$3+1)),"",INDEX('Agents Shift'!$F:$S,MATCH($A1095,'Agents Shift'!$B:$B,0),$AE$3+1)),"")) | G1095: =IF($A1095="","",_xlfn.XLOOKUP($A1095,HC!$A:$A,HC!$C:$C,"")) | H1095: =IF($G1095="","",_xlfn.XLOOKUP($G1095,$U:$U,$Z:$Z,"Not in Web Tool")) | I1095: =IF($G1095="","",_xlfn.XLOOKUP($G1095,$U:$U,$Y:$Y,"")) | J1095: =IF(OR($A1095="",$H1095=""),"",IF($H1095="Not in Web Tool","Unmatched",_xlfn.XLOOKUP($H1095,'RAW Data'!$E:$E,'RAW Data'!$F:$F,"Unmapped"))) | K1095: =_xlfn.IFS($J1095="Yes","YES",$J1095="","",$J1095="No","NO",$J1095="Not Productive",$H1095,TRUE,$J1095) | M1095: =IF(ISNUMBER($E1095),ROUND($E1095*1440,0),"") | N1095: =IF(AND(ISNUMBER($E1095),ISNUMBER($F1095)),ROUND($F1095*1440,0)+IF($F1095<=$E1095,1440,0),"") | Q1095: 1091 | R1095: =IF($C$3="Live Paste",IF($P1095="","",$P1095&""),IF($AD$3="","",INDEX('Extraction History'!$A$3:$DT$9102,$Q1095,$AD$3)&"")) | S1095: =S1094+6 -> 6543 | T1095: =_xlfn.XLOOKUP($S1095,$Q$5:$Q$9104,$R$5:$R$9104,"") | U1095: =IFERROR(_xlfn.TEXTBEFORE($T1095,_xlfn.UNICHAR(160),1),"") | V1095: =IF($U1095="","",_xlfn.TEXTAFTER($T1095,_xlfn.UNICHAR(160),1)) | W1095: =W1094+6 -> 6544 | X1095: =_xlfn.XLOOKUP($W1095,$Q$5:$Q$9104,$R$5:$R$9104,"") | Y1095: =IFERROR(IF($Z1095="","",TRIM(SUBSTITUTE(_xlfn.TEXTAFTER($X1095,_xlfn.UNICHAR(160)&"·",1),_xlfn.UNICHAR(160)," "))),"") | Z1095: =IFERROR(_xlfn.TEXTBEFORE($X1095,_xlfn.UNICHAR(160),1),$X1095) | AA1095: =IF($U1095="","",IF(COUNTIF(HC!$C:$C,$U1095)>0,"Y",IF(COUNTIF($U$5:$U1095,$U1095)=1,"N","dup")))
A1096: =IF(INDEX('Agents Shift'!$B:$B,ROW())="","",INDEX('Agents Shift'!$B:$B,ROW())) | B1096: =IF($A1096="","",_xlfn.XLOOKUP($A1096,HC!$A:$A,HC!$B:$B,"")) | C1096: =IF($A1096="","",_xlfn.XLOOKUP($A1096,HC!$A:$A,HC!$E:$E,"")) | D1096: =IF($A1096="","",_xlfn.XLOOKUP($A1096,HC!$A:$A,HC!$D:$D,"")) | E1096: =IF(OR($A1096="",$AE$3=""),"",IFERROR(IF(ISBLANK(INDEX('Agents Shift'!$F:$S,MATCH($A1096,'Agents Shift'!$B:$B,0),$AE$3)),"",INDEX('Agents Shift'!$F:$S,MATCH($A1096,'Agents Shift'!$B:$B,0),$AE$3)),"")) | F1096: =IF(OR($A1096="",$AE$3=""),"",IFERROR(IF(ISBLANK(INDEX('Agents Shift'!$F:$S,MATCH($A1096,'Agents Shift'!$B:$B,0),$AE$3+1)),"",INDEX('Agents Shift'!$F:$S,MATCH($A1096,'Agents Shift'!$B:$B,0),$AE$3+1)),"")) | G1096: =IF($A1096="","",_xlfn.XLOOKUP($A1096,HC!$A:$A,HC!$C:$C,"")) | H1096: =IF($G1096="","",_xlfn.XLOOKUP($G1096,$U:$U,$Z:$Z,"Not in Web Tool")) | I1096: =IF($G1096="","",_xlfn.XLOOKUP($G1096,$U:$U,$Y:$Y,"")) | J1096: =IF(OR($A1096="",$H1096=""),"",IF($H1096="Not in Web Tool","Unmatched",_xlfn.XLOOKUP($H1096,'RAW Data'!$E:$E,'RAW Data'!$F:$F,"Unmapped"))) | K1096: =_xlfn.IFS($J1096="Yes","YES",$J1096="","",$J1096="No","NO",$J1096="Not Productive",$H1096,TRUE,$J1096) | M1096: =IF(ISNUMBER($E1096),ROUND($E1096*1440,0),"") | N1096: =IF(AND(ISNUMBER($E1096),ISNUMBER($F1096)),ROUND($F1096*1440,0)+IF($F1096<=$E1096,1440,0),"") | Q1096: 1092 | R1096: =IF($C$3="Live Paste",IF($P1096="","",$P1096&""),IF($AD$3="","",INDEX('Extraction History'!$A$3:$DT$9102,$Q1096,$AD$3)&"")) | S1096: =S1095+6 -> 6549 | T1096: =_xlfn.XLOOKUP($S1096,$Q$5:$Q$9104,$R$5:$R$9104,"") | U1096: =IFERROR(_xlfn.TEXTBEFORE($T1096,_xlfn.UNICHAR(160),1),"") | V1096: =IF($U1096="","",_xlfn.TEXTAFTER($T1096,_xlfn.UNICHAR(160),1)) | W1096: =W1095+6 -> 6550 | X1096: =_xlfn.XLOOKUP($W1096,$Q$5:$Q$9104,$R$5:$R$9104,"") | Y1096: =IFERROR(IF($Z1096="","",TRIM(SUBSTITUTE(_xlfn.TEXTAFTER($X1096,_xlfn.UNICHAR(160)&"·",1),_xlfn.UNICHAR(160)," "))),"") | Z1096: =IFERROR(_xlfn.TEXTBEFORE($X1096,_xlfn.UNICHAR(160),1),$X1096) | AA1096: =IF($U1096="","",IF(COUNTIF(HC!$C:$C,$U1096)>0,"Y",IF(COUNTIF($U$5:$U1096,$U1096)=1,"N","dup")))
A1097: =IF(INDEX('Agents Shift'!$B:$B,ROW())="","",INDEX('Agents Shift'!$B:$B,ROW())) | B1097: =IF($A1097="","",_xlfn.XLOOKUP($A1097,HC!$A:$A,HC!$B:$B,"")) | C1097: =IF($A1097="","",_xlfn.XLOOKUP($A1097,HC!$A:$A,HC!$E:$E,"")) | D1097: =IF($A1097="","",_xlfn.XLOOKUP($A1097,HC!$A:$A,HC!$D:$D,"")) | E1097: =IF(OR($A1097="",$AE$3=""),"",IFERROR(IF(ISBLANK(INDEX('Agents Shift'!$F:$S,MATCH($A1097,'Agents Shift'!$B:$B,0),$AE$3)),"",INDEX('Agents Shift'!$F:$S,MATCH($A1097,'Agents Shift'!$B:$B,0),$AE$3)),"")) | F1097: =IF(OR($A1097="",$AE$3=""),"",IFERROR(IF(ISBLANK(INDEX('Agents Shift'!$F:$S,MATCH($A1097,'Agents Shift'!$B:$B,0),$AE$3+1)),"",INDEX('Agents Shift'!$F:$S,MATCH($A1097,'Agents Shift'!$B:$B,0),$AE$3+1)),"")) | G1097: =IF($A1097="","",_xlfn.XLOOKUP($A1097,HC!$A:$A,HC!$C:$C,"")) | H1097: =IF($G1097="","",_xlfn.XLOOKUP($G1097,$U:$U,$Z:$Z,"Not in Web Tool")) | I1097: =IF($G1097="","",_xlfn.XLOOKUP($G1097,$U:$U,$Y:$Y,"")) | J1097: =IF(OR($A1097="",$H1097=""),"",IF($H1097="Not in Web Tool","Unmatched",_xlfn.XLOOKUP($H1097,'RAW Data'!$E:$E,'RAW Data'!$F:$F,"Unmapped"))) | K1097: =_xlfn.IFS($J1097="Yes","YES",$J1097="","",$J1097="No","NO",$J1097="Not Productive",$H1097,TRUE,$J1097) | M1097: =IF(ISNUMBER($E1097),ROUND($E1097*1440,0),"") | N1097: =IF(AND(ISNUMBER($E1097),ISNUMBER($F1097)),ROUND($F1097*1440,0)+IF($F1097<=$E1097,1440,0),"") | Q1097: 1093 | R1097: =IF($C$3="Live Paste",IF($P1097="","",$P1097&""),IF($AD$3="","",INDEX('Extraction History'!$A$3:$DT$9102,$Q1097,$AD$3)&"")) | S1097: =S1096+6 -> 6555 | T1097: =_xlfn.XLOOKUP($S1097,$Q$5:$Q$9104,$R$5:$R$9104,"") | U1097: =IFERROR(_xlfn.TEXTBEFORE($T1097,_xlfn.UNICHAR(160),1),"") | V1097: =IF($U1097="","",_xlfn.TEXTAFTER($T1097,_xlfn.UNICHAR(160),1)) | W1097: =W1096+6 -> 6556 | X1097: =_xlfn.XLOOKUP($W1097,$Q$5:$Q$9104,$R$5:$R$9104,"") | Y1097: =IFERROR(IF($Z1097="","",TRIM(SUBSTITUTE(_xlfn.TEXTAFTER($X1097,_xlfn.UNICHAR(160)&"·",1),_xlfn.UNICHAR(160)," "))),"") | Z1097: =IFERROR(_xlfn.TEXTBEFORE($X1097,_xlfn.UNICHAR(160),1),$X1097) | AA1097: =IF($U1097="","",IF(COUNTIF(HC!$C:$C,$U1097)>0,"Y",IF(COUNTIF($U$5:$U1097,$U1097)=1,"N","dup")))
A1098: =IF(INDEX('Agents Shift'!$B:$B,ROW())="","",INDEX('Agents Shift'!$B:$B,ROW())) | B1098: =IF($A1098="","",_xlfn.XLOOKUP($A1098,HC!$A:$A,HC!$B:$B,"")) | C1098: =IF($A1098="","",_xlfn.XLOOKUP($A1098,HC!$A:$A,HC!$E:$E,"")) | D1098: =IF($A1098="","",_xlfn.XLOOKUP($A1098,HC!$A:$A,HC!$D:$D,"")) | E1098: =IF(OR($A1098="",$AE$3=""),"",IFERROR(IF(ISBLANK(INDEX('Agents Shift'!$F:$S,MATCH($A1098,'Agents Shift'!$B:$B,0),$AE$3)),"",INDEX('Agents Shift'!$F:$S,MATCH($A1098,'Agents Shift'!$B:$B,0),$AE$3)),"")) | F1098: =IF(OR($A1098="",$AE$3=""),"",IFERROR(IF(ISBLANK(INDEX('Agents Shift'!$F:$S,MATCH($A1098,'Agents Shift'!$B:$B,0),$AE$3+1)),"",INDEX('Agents Shift'!$F:$S,MATCH($A1098,'Agents Shift'!$B:$B,0),$AE$3+1)),"")) | G1098: =IF($A1098="","",_xlfn.XLOOKUP($A1098,HC!$A:$A,HC!$C:$C,"")) | H1098: =IF($G1098="","",_xlfn.XLOOKUP($G1098,$U:$U,$Z:$Z,"Not in Web Tool")) | I1098: =IF($G1098="","",_xlfn.XLOOKUP($G1098,$U:$U,$Y:$Y,"")) | J1098: =IF(OR($A1098="",$H1098=""),"",IF($H1098="Not in Web Tool","Unmatched",_xlfn.XLOOKUP($H1098,'RAW Data'!$E:$E,'RAW Data'!$F:$F,"Unmapped"))) | K1098: =_xlfn.IFS($J1098="Yes","YES",$J1098="","",$J1098="No","NO",$J1098="Not Productive",$H1098,TRUE,$J1098) | M1098: =IF(ISNUMBER($E1098),ROUND($E1098*1440,0),"") | N1098: =IF(AND(ISNUMBER($E1098),ISNUMBER($F1098)),ROUND($F1098*1440,0)+IF($F1098<=$E1098,1440,0),"") | Q1098: 1094 | R1098: =IF($C$3="Live Paste",IF($P1098="","",$P1098&""),IF($AD$3="","",INDEX('Extraction History'!$A$3:$DT$9102,$Q1098,$AD$3)&"")) | S1098: =S1097+6 -> 6561 | T1098: =_xlfn.XLOOKUP($S1098,$Q$5:$Q$9104,$R$5:$R$9104,"") | U1098: =IFERROR(_xlfn.TEXTBEFORE($T1098,_xlfn.UNICHAR(160),1),"") | V1098: =IF($U1098="","",_xlfn.TEXTAFTER($T1098,_xlfn.UNICHAR(160),1)) | W1098: =W1097+6 -> 6562 | X1098: =_xlfn.XLOOKUP($W1098,$Q$5:$Q$9104,$R$5:$R$9104,"") | Y1098: =IFERROR(IF($Z1098="","",TRIM(SUBSTITUTE(_xlfn.TEXTAFTER($X1098,_xlfn.UNICHAR(160)&"·",1),_xlfn.UNICHAR(160)," "))),"") | Z1098: =IFERROR(_xlfn.TEXTBEFORE($X1098,_xlfn.UNICHAR(160),1),$X1098) | AA1098: =IF($U1098="","",IF(COUNTIF(HC!$C:$C,$U1098)>0,"Y",IF(COUNTIF($U$5:$U1098,$U1098)=1,"N","dup")))
A1099: =IF(INDEX('Agents Shift'!$B:$B,ROW())="","",INDEX('Agents Shift'!$B:$B,ROW())) | B1099: =IF($A1099="","",_xlfn.XLOOKUP($A1099,HC!$A:$A,HC!$B:$B,"")) | C1099: =IF($A1099="","",_xlfn.XLOOKUP($A1099,HC!$A:$A,HC!$E:$E,"")) | D1099: =IF($A1099="","",_xlfn.XLOOKUP($A1099,HC!$A:$A,HC!$D:$D,"")) | E1099: =IF(OR($A1099="",$AE$3=""),"",IFERROR(IF(ISBLANK(INDEX('Agents Shift'!$F:$S,MATCH($A1099,'Agents Shift'!$B:$B,0),$AE$3)),"",INDEX('Agents Shift'!$F:$S,MATCH($A1099,'Agents Shift'!$B:$B,0),$AE$3)),"")) | F1099: =IF(OR($A1099="",$AE$3=""),"",IFERROR(IF(ISBLANK(INDEX('Agents Shift'!$F:$S,MATCH($A1099,'Agents Shift'!$B:$B,0),$AE$3+1)),"",INDEX('Agents Shift'!$F:$S,MATCH($A1099,'Agents Shift'!$B:$B,0),$AE$3+1)),"")) | G1099: =IF($A1099="","",_xlfn.XLOOKUP($A1099,HC!$A:$A,HC!$C:$C,"")) | H1099: =IF($G1099="","",_xlfn.XLOOKUP($G1099,$U:$U,$Z:$Z,"Not in Web Tool")) | I1099: =IF($G1099="","",_xlfn.XLOOKUP($G1099,$U:$U,$Y:$Y,"")) | J1099: =IF(OR($A1099="",$H1099=""),"",IF($H1099="Not in Web Tool","Unmatched",_xlfn.XLOOKUP($H1099,'RAW Data'!$E:$E,'RAW Data'!$F:$F,"Unmapped"))) | K1099: =_xlfn.IFS($J1099="Yes","YES",$J1099="","",$J1099="No","NO",$J1099="Not Productive",$H1099,TRUE,$J1099) | M1099: =IF(ISNUMBER($E1099),ROUND($E1099*1440,0),"") | N1099: =IF(AND(ISNUMBER($E1099),ISNUMBER($F1099)),ROUND($F1099*1440,0)+IF($F1099<=$E1099,1440,0),"") | Q1099: 1095 | R1099: =IF($C$3="Live Paste",IF($P1099="","",$P1099&""),IF($AD$3="","",INDEX('Extraction History'!$A$3:$DT$9102,$Q1099,$AD$3)&"")) | S1099: =S1098+6 -> 6567 | T1099: =_xlfn.XLOOKUP($S1099,$Q$5:$Q$9104,$R$5:$R$9104,"") | U1099: =IFERROR(_xlfn.TEXTBEFORE($T1099,_xlfn.UNICHAR(160),1),"") | V1099: =IF($U1099="","",_xlfn.TEXTAFTER($T1099,_xlfn.UNICHAR(160),1)) | W1099: =W1098+6 -> 6568 | X1099: =_xlfn.XLOOKUP($W1099,$Q$5:$Q$9104,$R$5:$R$9104,"") | Y1099: =IFERROR(IF($Z1099="","",TRIM(SUBSTITUTE(_xlfn.TEXTAFTER($X1099,_xlfn.UNICHAR(160)&"·",1),_xlfn.UNICHAR(160)," "))),"") | Z1099: =IFERROR(_xlfn.TEXTBEFORE($X1099,_xlfn.UNICHAR(160),1),$X1099) | AA1099: =IF($U1099="","",IF(COUNTIF(HC!$C:$C,$U1099)>0,"Y",IF(COUNTIF($U$5:$U1099,$U1099)=1,"N","dup")))
A1100: =IF(INDEX('Agents Shift'!$B:$B,ROW())="","",INDEX('Agents Shift'!$B:$B,ROW())) | B1100: =IF($A1100="","",_xlfn.XLOOKUP($A1100,HC!$A:$A,HC!$B:$B,"")) | C1100: =IF($A1100="","",_xlfn.XLOOKUP($A1100,HC!$A:$A,HC!$E:$E,"")) | D1100: =IF($A1100="","",_xlfn.XLOOKUP($A1100,HC!$A:$A,HC!$D:$D,"")) | E1100: =IF(OR($A1100="",$AE$3=""),"",IFERROR(IF(ISBLANK(INDEX('Agents Shift'!$F:$S,MATCH($A1100,'Agents Shift'!$B:$B,0),$AE$3)),"",INDEX('Agents Shift'!$F:$S,MATCH($A1100,'Agents Shift'!$B:$B,0),$AE$3)),"")) | F1100: =IF(OR($A1100="",$AE$3=""),"",IFERROR(IF(ISBLANK(INDEX('Agents Shift'!$F:$S,MATCH($A1100,'Agents Shift'!$B:$B,0),$AE$3+1)),"",INDEX('Agents Shift'!$F:$S,MATCH($A1100,'Agents Shift'!$B:$B,0),$AE$3+1)),"")) | G1100: =IF($A1100="","",_xlfn.XLOOKUP($A1100,HC!$A:$A,HC!$C:$C,"")) | H1100: =IF($G1100="","",_xlfn.XLOOKUP($G1100,$U:$U,$Z:$Z,"Not in Web Tool")) | I1100: =IF($G1100="","",_xlfn.XLOOKUP($G1100,$U:$U,$Y:$Y,"")) | J1100: =IF(OR($A1100="",$H1100=""),"",IF($H1100="Not in Web Tool","Unmatched",_xlfn.XLOOKUP($H1100,'RAW Data'!$E:$E,'RAW Data'!$F:$F,"Unmapped"))) | K1100: =_xlfn.IFS($J1100="Yes","YES",$J1100="","",$J1100="No","NO",$J1100="Not Productive",$H1100,TRUE,$J1100) | M1100: =IF(ISNUMBER($E1100),ROUND($E1100*1440,0),"") | N1100: =IF(AND(ISNUMBER($E1100),ISNUMBER($F1100)),ROUND($F1100*1440,0)+IF($F1100<=$E1100,1440,0),"") | Q1100: 1096 | R1100: =IF($C$3="Live Paste",IF($P1100="","",$P1100&""),IF($AD$3="","",INDEX('Extraction History'!$A$3:$DT$9102,$Q1100,$AD$3)&"")) | S1100: =S1099+6 -> 6573 | T1100: =_xlfn.XLOOKUP($S1100,$Q$5:$Q$9104,$R$5:$R$9104,"") | U1100: =IFERROR(_xlfn.TEXTBEFORE($T1100,_xlfn.UNICHAR(160),1),"") | V1100: =IF($U1100="","",_xlfn.TEXTAFTER($T1100,_xlfn.UNICHAR(160),1)) | W1100: =W1099+6 -> 6574 | X1100: =_xlfn.XLOOKUP($W1100,$Q$5:$Q$9104,$R$5:$R$9104,"") | Y1100: =IFERROR(IF($Z1100="","",TRIM(SUBSTITUTE(_xlfn.TEXTAFTER($X1100,_xlfn.UNICHAR(160)&"·",1),_xlfn.UNICHAR(160)," "))),"") | Z1100: =IFERROR(_xlfn.TEXTBEFORE($X1100,_xlfn.UNICHAR(160),1),$X1100) | AA1100: =IF($U1100="","",IF(COUNTIF(HC!$C:$C,$U1100)>0,"Y",IF(COUNTIF($U$5:$U1100,$U1100)=1,"N","dup")))
A1101: =IF(INDEX('Agents Shift'!$B:$B,ROW())="","",INDEX('Agents Shift'!$B:$B,ROW())) | B1101: =IF($A1101="","",_xlfn.XLOOKUP($A1101,HC!$A:$A,HC!$B:$B,"")) | C1101: =IF($A1101="","",_xlfn.XLOOKUP($A1101,HC!$A:$A,HC!$E:$E,"")) | D1101: =IF($A1101="","",_xlfn.XLOOKUP($A1101,HC!$A:$A,HC!$D:$D,"")) | E1101: =IF(OR($A1101="",$AE$3=""),"",IFERROR(IF(ISBLANK(INDEX('Agents Shift'!$F:$S,MATCH($A1101,'Agents Shift'!$B:$B,0),$AE$3)),"",INDEX('Agents Shift'!$F:$S,MATCH($A1101,'Agents Shift'!$B:$B,0),$AE$3)),"")) | F1101: =IF(OR($A1101="",$AE$3=""),"",IFERROR(IF(ISBLANK(INDEX('Agents Shift'!$F:$S,MATCH($A1101,'Agents Shift'!$B:$B,0),$AE$3+1)),"",INDEX('Agents Shift'!$F:$S,MATCH($A1101,'Agents Shift'!$B:$B,0),$AE$3+1)),"")) | G1101: =IF($A1101="","",_xlfn.XLOOKUP($A1101,HC!$A:$A,HC!$C:$C,"")) | H1101: =IF($G1101="","",_xlfn.XLOOKUP($G1101,$U:$U,$Z:$Z,"Not in Web Tool")) | I1101: =IF($G1101="","",_xlfn.XLOOKUP($G1101,$U:$U,$Y:$Y,"")) | J1101: =IF(OR($A1101="",$H1101=""),"",IF($H1101="Not in Web Tool","Unmatched",_xlfn.XLOOKUP($H1101,'RAW Data'!$E:$E,'RAW Data'!$F:$F,"Unmapped"))) | K1101: =_xlfn.IFS($J1101="Yes","YES",$J1101="","",$J1101="No","NO",$J1101="Not Productive",$H1101,TRUE,$J1101) | M1101: =IF(ISNUMBER($E1101),ROUND($E1101*1440,0),"") | N1101: =IF(AND(ISNUMBER($E1101),ISNUMBER($F1101)),ROUND($F1101*1440,0)+IF($F1101<=$E1101,1440,0),"") | Q1101: 1097 | R1101: =IF($C$3="Live Paste",IF($P1101="","",$P1101&""),IF($AD$3="","",INDEX('Extraction History'!$A$3:$DT$9102,$Q1101,$AD$3)&"")) | S1101: =S1100+6 -> 6579 | T1101: =_xlfn.XLOOKUP($S1101,$Q$5:$Q$9104,$R$5:$R$9104,"") | U1101: =IFERROR(_xlfn.TEXTBEFORE($T1101,_xlfn.UNICHAR(160),1),"") | V1101: =IF($U1101="","",_xlfn.TEXTAFTER($T1101,_xlfn.UNICHAR(160),1)) | W1101: =W1100+6 -> 6580 | X1101: =_xlfn.XLOOKUP($W1101,$Q$5:$Q$9104,$R$5:$R$9104,"") | Y1101: =IFERROR(IF($Z1101="","",TRIM(SUBSTITUTE(_xlfn.TEXTAFTER($X1101,_xlfn.UNICHAR(160)&"·",1),_xlfn.UNICHAR(160)," "))),"") | Z1101: =IFERROR(_xlfn.TEXTBEFORE($X1101,_xlfn.UNICHAR(160),1),$X1101) | AA1101: =IF($U1101="","",IF(COUNTIF(HC!$C:$C,$U1101)>0,"Y",IF(COUNTIF($U$5:$U1101,$U1101)=1,"N","dup")))
A1102: =IF(INDEX('Agents Shift'!$B:$B,ROW())="","",INDEX('Agents Shift'!$B:$B,ROW())) | B1102: =IF($A1102="","",_xlfn.XLOOKUP($A1102,HC!$A:$A,HC!$B:$B,"")) | C1102: =IF($A1102="","",_xlfn.XLOOKUP($A1102,HC!$A:$A,HC!$E:$E,"")) | D1102: =IF($A1102="","",_xlfn.XLOOKUP($A1102,HC!$A:$A,HC!$D:$D,"")) | E1102: =IF(OR($A1102="",$AE$3=""),"",IFERROR(IF(ISBLANK(INDEX('Agents Shift'!$F:$S,MATCH($A1102,'Agents Shift'!$B:$B,0),$AE$3)),"",INDEX('Agents Shift'!$F:$S,MATCH($A1102,'Agents Shift'!$B:$B,0),$AE$3)),"")) | F1102: =IF(OR($A1102="",$AE$3=""),"",IFERROR(IF(ISBLANK(INDEX('Agents Shift'!$F:$S,MATCH($A1102,'Agents Shift'!$B:$B,0),$AE$3+1)),"",INDEX('Agents Shift'!$F:$S,MATCH($A1102,'Agents Shift'!$B:$B,0),$AE$3+1)),"")) | G1102: =IF($A1102="","",_xlfn.XLOOKUP($A1102,HC!$A:$A,HC!$C:$C,"")) | H1102: =IF($G1102="","",_xlfn.XLOOKUP($G1102,$U:$U,$Z:$Z,"Not in Web Tool")) | I1102: =IF($G1102="","",_xlfn.XLOOKUP($G1102,$U:$U,$Y:$Y,"")) | J1102: =IF(OR($A1102="",$H1102=""),"",IF($H1102="Not in Web Tool","Unmatched",_xlfn.XLOOKUP($H1102,'RAW Data'!$E:$E,'RAW Data'!$F:$F,"Unmapped"))) | K1102: =_xlfn.IFS($J1102="Yes","YES",$J1102="","",$J1102="No","NO",$J1102="Not Productive",$H1102,TRUE,$J1102) | M1102: =IF(ISNUMBER($E1102),ROUND($E1102*1440,0),"") | N1102: =IF(AND(ISNUMBER($E1102),ISNUMBER($F1102)),ROUND($F1102*1440,0)+IF($F1102<=$E1102,1440,0),"") | Q1102: 1098 | R1102: =IF($C$3="Live Paste",IF($P1102="","",$P1102&""),IF($AD$3="","",INDEX('Extraction History'!$A$3:$DT$9102,$Q1102,$AD$3)&"")) | S1102: =S1101+6 -> 6585 | T1102: =_xlfn.XLOOKUP($S1102,$Q$5:$Q$9104,$R$5:$R$9104,"") | U1102: =IFERROR(_xlfn.TEXTBEFORE($T1102,_xlfn.UNICHAR(160),1),"") | V1102: =IF($U1102="","",_xlfn.TEXTAFTER($T1102,_xlfn.UNICHAR(160),1)) | W1102: =W1101+6 -> 6586 | X1102: =_xlfn.XLOOKUP($W1102,$Q$5:$Q$9104,$R$5:$R$9104,"") | Y1102: =IFERROR(IF($Z1102="","",TRIM(SUBSTITUTE(_xlfn.TEXTAFTER($X1102,_xlfn.UNICHAR(160)&"·",1),_xlfn.UNICHAR(160)," "))),"") | Z1102: =IFERROR(_xlfn.TEXTBEFORE($X1102,_xlfn.UNICHAR(160),1),$X1102) | AA1102: =IF($U1102="","",IF(COUNTIF(HC!$C:$C,$U1102)>0,"Y",IF(COUNTIF($U$5:$U1102,$U1102)=1,"N","dup")))
... A1504: =IF(INDEX('Agents Shift'!$B:$B,ROW())="","",INDEX('Agents Shift'!$B:$B,ROW())) | B1504: =IF($A1504="","",_xlfn.XLOOKUP($A1504,HC!$A:$A,HC!$B:$B,"")) | C1504: =IF($A1504="","",_xlfn.XLOOKUP($A1504,HC!$A:$A,HC!$E:$E,"")) | D1504: =IF($A1504="","",_xlfn.XLOOKUP($A1504,HC!$A:$A,HC!$D:$D,"")) | E1504: =IF(OR($A1504="",$AE$3=""),"",IFERROR(IF(ISBLANK(INDEX('Agents Shift'!$F:$S,MATCH($A1504,'Agents Shift'!$B:$B,0),$AE$3)),"",INDEX('Agents Shift'!$F:$S,MATCH($A1504,'Agents Shift'!$B:$B,0),$AE$3)),"")) | F1504: =IF(OR($A1504="",$AE$3=""),"",IFERROR(IF(ISBLANK(INDEX('Agents Shift'!$F:$S,MATCH($A1504,'Agents Shift'!$B:$B,0),$AE$3+1)),"",INDEX('Agents Shift'!$F:$S,MATCH($A1504,'Agents Shift'!$B:$B,0),$AE$3+1)),"")) | G1504: =IF($A1504="","",_xlfn.XLOOKUP($A1504,HC!$A:$A,HC!$C:$C,"")) | H1504: =IF($G1504="","",_xlfn.XLOOKUP($G1504,$U:$U,$Z:$Z,"Not in Web Tool")) | I1504: =IF($G1504="","",_xlfn.XLOOKUP($G1504,$U:$U,$Y:$Y,"")) | J1504: =IF(OR($A1504="",$H1504=""),"",IF($H1504="Not in Web Tool","Unmatched",_xlfn.XLOOKUP($H1504,'RAW Data'!$E:$E,'RAW Data'!$F:$F,"Unmapped"))) | K1504: =_xlfn.IFS($J1504="Yes","YES",$J1504="","",$J1504="No","NO",$J1504="Not Productive",$H1504,TRUE,$J1504) | M1504: =IF(ISNUMBER($E1504),ROUND($E1504*1440,0),"") | N1504: =IF(AND(ISNUMBER($E1504),ISNUMBER($F1504)),ROUND($F1504*1440,0)+IF($F1504<=$E1504,1440,0),"") | Q1504: 1500 | R1504: =IF($C$3="Live Paste",IF($P1504="","",$P1504&""),IF($AD$3="","",INDEX('Extraction History'!$A$3:$DT$9102,$Q1504,$AD$3)&"")) | S1504: =S1503+6 -> 8997 | T1504: =_xlfn.XLOOKUP($S1504,$Q$5:$Q$9104,$R$5:$R$9104,"") | U1504: =IFERROR(_xlfn.TEXTBEFORE($T1504,_xlfn.UNICHAR(160),1),"") | V1504: =IF($U1504="","",_xlfn.TEXTAFTER($T1504,_xlfn.UNICHAR(160),1)) | W1504: =W1503+6 -> 8998 | X1504: =_xlfn.XLOOKUP($W1504,$Q$5:$Q$9104,$R$5:$R$9104,"") | Y1504: =IFERROR(IF($Z1504="","",TRIM(SUBSTITUTE(_xlfn.TEXTAFTER($X1504,_xlfn.UNICHAR(160)&"·",1),_xlfn.UNICHAR(160)," "))),"") | Z1504: =IFERROR(_xlfn.TEXTBEFORE($X1504,_xlfn.UNICHAR(160),1),$X1504) | AA1504: =IF($U1504="","",IF(COUNTIF(HC!$C:$C,$U1504)>0,"Y",IF(COUNTIF($U$5:$U1504,$U1504)=1,"N","dup")))
Q1505: 1501 | R1505: =IF($C$3="Live Paste",IF($P1505="","",$P1505&""),IF($AD$3="","",INDEX('Extraction History'!$A$3:$DT$9102,$Q1505,$AD$3)&""))
Q1506: 1502 | R1506: =IF($C$3="Live Paste",IF($P1506="","",$P1506&""),IF($AD$3="","",INDEX('Extraction History'!$A$3:$DT$9102,$Q1506,$AD$3)&""))
Q1507: 1503 | R1507: =IF($C$3="Live Paste",IF($P1507="","",$P1507&""),IF($AD$3="","",INDEX('Extraction History'!$A$3:$DT$9102,$Q1507,$AD$3)&""))
Q1508: 1504 | R1508: =IF($C$3="Live Paste",IF($P1508="","",$P1508&""),IF($AD$3="","",INDEX('Extraction History'!$A$3:$DT$9102,$Q1508,$AD$3)&""))
Q1509: 1505 | R1509: =IF($C$3="Live Paste",IF($P1509="","",$P1509&""),IF($AD$3="","",INDEX('Extraction History'!$A$3:$DT$9102,$Q1509,$AD$3)&""))
Q1510: 1506 | R1510: =IF($C$3="Live Paste",IF($P1510="","",$P1510&""),IF($AD$3="","",INDEX('Extraction History'!$A$3:$DT$9102,$Q1510,$AD$3)&""))
Q1511: 1507 | R1511: =IF($C$3="Live Paste",IF($P1511="","",$P1511&""),IF($AD$3="","",INDEX('Extraction History'!$A$3:$DT$9102,$Q1511,$AD$3)&""))
Q1512: 1508 | R1512: =IF($C$3="Live Paste",IF($P1512="","",$P1512&""),IF($AD$3="","",INDEX('Extraction History'!$A$3:$DT$9102,$Q1512,$AD$3)&""))
Q1513: 1509 | R1513: =IF($C$3="Live Paste",IF($P1513="","",$P1513&""),IF($AD$3="","",INDEX('Extraction History'!$A$3:$DT$9102,$Q1513,$AD$3)&""))
Q1514: 1510 | R1514: =IF($C$3="Live Paste",IF($P1514="","",$P1514&""),IF($AD$3="","",INDEX('Extraction History'!$A$3:$DT$9102,$Q1514,$AD$3)&""))
Q1515: 1511 | R1515: =IF($C$3="Live Paste",IF($P1515="","",$P1515&""),IF($AD$3="","",INDEX('Extraction History'!$A$3:$DT$9102,$Q1515,$AD$3)&""))
Q1516: 1512 | R1516: =IF($C$3="Live Paste",IF($P1516="","",$P1516&""),IF($AD$3="","",INDEX('Extraction History'!$A$3:$DT$9102,$Q1516,$AD$3)&""))
... Q9104: 9100 | R9104: =IF($C$3="Live Paste",IF($P9104="","",$P9104&""),IF($AD$3="","",INDEX('Extraction History'!$A$3:$DT$9102,$Q9104,$AD$3)&""))

Sheet Extraction History
A1: 46174 | E1: =A1+1 -> 46175 | I1: =E1+1 -> 46176 | M1: =I1+1 -> 46177 | Q1: =M1+1 -> 46178 | U1: =Q1+1 -> 46179 | Y1: =U1+1 -> 46180 | AC1: =Y1+1 -> 46181 | AG1: =AC1+1 -> 46182 | AK1: =AG1+1 -> 46183 | AO1: =AK1+1 -> 46184 | AS1: =AO1+1 -> 46185 | AW1: =AS1+1 -> 46186 | BA1: =AW1+1 -> 46187 | BE1: =BA1+1 -> 46188 | BI1: =BE1+1 -> 46189 | BM1: =BI1+1 -> 46190 | BQ1: =BM1+1 -> 46191 | BU1: =BQ1+1 -> 46192 | BY1: =BU1+1 -> 46193 | CC1: =BY1+1 -> 46194 | CG1: =CC1+1 -> 46195 | CK1: =CG1+1 -> 46196 | CO1: =CK1+1 -> 46197 | CS1: =CO1+1 -> 46198 | CW1: =CS1+1 -> 46199 | DA1: =CW1+1 -> 46200 | DE1: =DA1+1 -> 46201 | DI1: =DE1+1 -> 46202 | DM1: =DI1+1 -> 46203 | DQ1: =DM1+1 -> 46204
A2: 0.4375 | B2: 0.5625 | C2: 0.77083333 | E2: 0.4375 | F2: 0.5625 | G2: 0.77083333 | I2: 0.4375 | J2: 0.5625 | K2: 0.77083333 | M2: 0.4375 | N2: 0.5625 | O2: 0.77083333 | Q2: 0.4375 | R2: 0.5625 | S2: 0.77083333 | U2: 0.4375 | V2: 0.5625 | W2: 0.77083333 | Y2: 0.4375 | Z2: 0.5625 | AA2: 0.77083333 | AC2: 0.4375 | AD2: 0.5625 | AE2: 0.77083333 | AG2: 0.4375 | AH2: 0.5625 | AI2: 0.77083333 | AK2: 0.4375 | AL2: 0.5625 | AM2: 0.77083333 | AO2: 0.4375 | AP2: 0.5625 | AQ2: 0.77083333 | AS2: 0.4375 | AT2: 0.5625 | AU2: 0.77083333 | AW2: 0.4375 | AX2: 0.5625 | AY2: 0.77083333 | BA2: 0.4375 | BB2: 0.5625 | BC2: 0.77083333 | BE2: 0.4375 | BF2: 0.5625 | BG2: 0.77083333 | BI2: 0.4375 | BJ2: 0.5625 | BK2: 0.77083333 | BM2: 0.4375 | BN2: 0.5625 | BO2: 0.77083333 | BQ2: 0.4375 | BR2: 0.5625 | BS2: 0.77083333 | BU2: 0.4375 | BV2: 0.5625 | BW2: 0.77083333 | BY2: 0.4375 | BZ2: 0.5625 | CA2: 0.77083333 | CC2: 0.4375 | CD2: 0.5625 | CE2: 0.77083333 | CG2: 0.4375 | CH2: 0.5625 | CI2: 0.77083333 | CK2: 0.4375 | CL2: 0.5625 | CM2: 0.77083333 | CO2: 0.4375 | CP2: 0.5625 | CQ2: 0.77083333 | CS2: 0.4375 | CT2: 0.5625 | CU2: 0.77083333 | CW2: 0.4375 | CX2: 0.5625 | CY2: 0.77083333 | DA2: 0.4375 | DB2: 0.5625 | DC2: 0.77083333 | DE2: 0.4375 | DF2: 0.5625 | DG2: 0.77083333 | DI2: 0.4375 | DJ2: 0.5625 | DK2: 0.77083333 | DM2: 0.4375 | DN2: 0.5625 | DO2: 0.77083333 | DQ2: 0.4375 | DR2: 0.5625 | DS2: 0.77083333
A3: Employee State | B3: Employee State | C3: Employee State | E3: Employee State | F3: Employee State | G3: Employee State | I3: Employee State | J3: Employee State | K3: Employee State | M3: Employee State | N3: Employee State | O3: Employee State | S3: Employee State | AD3: Employee State | AG3: Employee State | AH3: Employee State | AK3: Employee State | AL3: Employee State | AM3: Employee State | AO3: Employee State | AP3: Employee State | AQ3: Employee State | AS3: Employee State | AT3: Employee State | AU3: Employee State | AW3: Employee State | AX3: Employee State | AY3: Employee State
A4: DA | B4: DA | C4: DA | E4: DA | F4: DA | G4: DA | I4: DA | J4: DA | K4: DA | M4: DA | N4: DA | O4: DA | S4: DA | AD4: DA | AG4: DA | AH4: DA | AK4: DA | AL4: DA | AM4: DA | AO4: DA | AP4: DA | AQ4: DA | AS4: DA | AT4: DA | AU4: DA | AW4: DA | AX4: DA | AY4: DA
A5: Dummy_USR 27 29137 | B5: Dummy_USR 27 29137 | C5: Dummy_USR 27 29137 | E5: Dummy_USR 27 29137 | F5: Dummy_USR 27 29137 | G5: Dummy_USR 27 29137 | I5: Dummy_USR 27 29137 | J5: Dummy_USR 27 29137 | K5: Dummy_USR 27 29137 | M5: Dummy_USR 27 29137 | N5: Dummy_USR 27 29137 | O5: Dummy_USR 27 29137 | S5: Dummy_USR 27 29137 | AD5: Dummy_USR 27 29137 | AG5: Dummy_USR 27 29137 | AH5: Dummy_USR 27 29137 | AK5: Dummy_USR 27 29137 | AL5: Dummy_USR 27 29137 | AM5: Dummy_USR 27 29137 | AO5: Dummy_USR 27 29137 | AP5: Dummy_USR 27 29137 | AQ5: Dummy_USR 27 29137 | AS5: Dummy_USR 27 29137 | AT5: Dummy_USR 27 29137 | AU5: Dummy_USR 27 29137 | AW5: Dummy_USR 27 29137 | AX5: Dummy_USR 27 29137 | AY5: Dummy_USR 27 29137
A6: Break (NON MAN) · 06:36 | B6: Coaching · 21:17 | C6: ACD · 02:46 | E6: Offline · 1:02:19:12 | F6: ACD · 02:46 | G6: Offline · 21:09:54 | I6: ACD · 02:46 | J6: Offline · 21:09:54 | K6: Offline · 1:02:19:12 | M6: ACD · 02:46 | N6: Offline · 21:09:54 | O6: Offline · 2:02:00:32 | S6: Offline · 02:06:40 | AD6: Coaching · 17:47 | AG6: Offline · 21:00:02 | AH6: Offline · 21:00:02 | AK6: Break (NON MAN) · 06:36 | AL6: Coaching · 21:17 | AM6: ACD · 02:46 | AO6: Offline · 1:02:19:12 | AP6: ACD · 02:46 | AQ6: Offline · 21:09:54 | AS6: ACD · 02:46 | AT6: Offline · 21:09:54 | AU6: Offline · 1:02:19:12 | AW6: ACD · 02:46 | AX6: Offline · 21:09:54 | AY6: Offline · 2:02:00:32
A7: 0 0 3 | B7: 6 2 4 | C7: 4 4 4 | E7: 0 0 0 | F7: 4 4 4 | G7: 0 0 0 | I7: 4 4 4 | J7: 0 0 0 | K7: 0 0 0 | M7: 4 4 4 | N7: 0 0 0 | O7: 0 0 0 | S7: 4 3 3 | AD7: 8 1 3 | AG7: 0 0 0 | AH7: 0 0 0 | AK7: 0 0 3 | AL7: 6 2 4 | AM7: 4 4 4 | AO7: 0 0 0 | AP7: 4 4 4 | AQ7: 0 0 0 | AS7: 4 4 4 | AT7: 0 0 0 | AU7: 0 0 0 | AW7: 4 4 4 | AX7: 0 0 0 | AY7: 0 0 0
A8: 00:35:32 00:00:00 1 June 2026 10:17 · 01:08:49 | B8: 01:07:04 00:00:00 1 June 2026 10:17 · 04:02:25 | C8: 01:08:25 00:00:00 2 June 2026 09:43 · 04:33:42 | E8: --:--:-- --:--:-- --:--:-- | F8: 01:08:25 00:00:00 2 June 2026 09:43 · 04:33:42 | G8: 00:00:00 00:00:00 --:--:-- | I8: 01:08:25 00:00:00 2 June 2026 09:43 · 04:33:42 | J8: 00:00:00 00:00:00 --:--:-- | K8: --:--:-- --:--:-- --:--:-- | M8: 01:08:25 00:00:00 2 June 2026 09:43 · 04:33:42 | N8: 00:00:00 00:00:00 --:--:-- | O8: 00:00:00 00:00:00 --:--:-- | S8: 02:16:19 00:00:00 5 June 2026 12:29 · 06:37:25 | AD8: 00:51:10 00:00:00 8 June 2026 09:16 · 04:46:03 | AG8: 00:00:00 00:00:00 --:--:-- | AH8: 00:00:00 00:00:00 --:--:-- | AK8: 00:35:32 00:00:00 1 June 2026 10:17 · 01:08:49 | AL8: 01:07:04 00:00:00 1 June 2026 10:17 · 04:02:25 | AM8: 01:08:25 00:00:00 2 June 2026 09:43 · 04:33:42 | AO8: --:--:-- --:--:-- --:--:-- | AP8: 01:08:25 00:00:00 2 June 2026 09:43 · 04:33:42 | AQ8: 00:00:00 00:00:00 --:--:-- | AS8: 01:08:25 00:00:00 2 June 2026 09:43 · 04:33:42 | AT8: 00:00:00 00:00:00 --:--:-- | AU8: --:--:-- --:--:-- --:--:-- | AW8: 01:08:25 00:00:00 2 June 2026 09:43 · 04:33:42 | AX8: 00:00:00 00:00:00 --:--:-- | AY8: 00:00:00 00:00:00 --:--:--
A9: Employee State | B9: Employee State | C9: Employee State | E9: Employee State | F9: Employee State | G9: Employee State | I9: Employee State | J9: Employee State | K9: Employee State | M9: Employee State | N9: Employee State | O9: Employee State | S9: Employee State | AD9: Employee State | AG9: Employee State | AH9: Employee State | AK9: Employee State | AL9: Employee State | AM9: Employee State | AO9: Employee State | AP9: Employee State | AQ9: Employee State | AS9: Employee State | AT9: Employee State | AU9: Employee State | AW9: Employee State | AX9: Employee State | AY9: Employee State
A10: DA | B10: DA | C10: DA | E10: DA | F10: DA | G10: DA | I10: DA | J10: DA | K10: DA | M10: DA | N10: DA | O10: DA | S10: DA | AD10: DA | AG10: DA | AH10: DA | AK10: DA | AL10: DA | AM10: DA | AO10: DA | AP10: DA | AQ10: DA | AS10: DA | AT10: DA | AU10: DA | AW10: DA | AX10: DA | AY10: DA
A11: Dummy_USR 33 29135 | B11: Dummy_USR 33 29135 | C11: Dummy_USR 33 29135 | E11: Dummy_USR 33 29135 | F11: Dummy_USR 33 29135 | G11: Dummy_USR 33 29135 | I11: Dummy_USR 33 29135 | J11: Dummy_USR 33 29135 | K11: Dummy_USR 33 29135 | M11: Dummy_USR 33 29135 | N11: Dummy_USR 33 29135 | O11: Dummy_USR 33 29135 | S11: Dummy_USR 33 29135 | AD11: Dummy_USR 33 29135 | AG11: Dummy_USR 33 29135 | AH11: Dummy_USR 33 29135 | AK11: Dummy_USR 33 29135 | AL11: Dummy_USR 33 29135 | AM11: Dummy_USR 33 29135 | AO11: Dummy_USR 33 29135 | AP11: Dummy_USR 33 29135 | AQ11: Dummy_USR 33 29135 | AS11: Dummy_USR 33 29135 | AT11: Dummy_USR 33 29135 | AU11: Dummy_USR 33 29135 | AW11: Dummy_USR 33 29135 | AX11: Dummy_USR 33 29135 | AY11: Dummy_USR 33 29135
A12: Available · 02:56 | B12: Available · 00:46 | C12: Break (NON MAN) · 07:04 | E12: Offline · 02:19:32 | F12: Break (NON MAN) · 07:04 | G12: Coaching · 02:52 | I12: Break (NON MAN) · 07:04 | J12: Coaching · 02:52 | K12: Offline · 02:19:32 | M12: Break (NON MAN) · 07:04 | N12: Coaching · 02:52 | O12: Offline · 01:59:38 | S12: Offline · 1:02:05:19 | AD12: Offline · 3:21:01:08 | AG12: Offline · 4:20:58:41 | AH12: Offline · 4:20:58:41 | AK12: Available · 02:56 | AL12: Available · 00:46 | AM12: Break (NON MAN) · 07:04 | AO12: Offline · 02:19:32 | AP12: Break (NON MAN) · 07:04 | AQ12: Coaching · 02:52 | AS12: Break (NON MAN) · 07:04 | AT12: Coaching · 02:52 | AU12: Offline · 02:19:32 | AW12: Break (NON MAN) · 07:04 | AX12: Coaching · 02:52 | AY12: Offline · 01:59:38
A13: 3 1 2 | B13: 8 2 3 | C13: 4 2 1 | E13: 9 1 3 | F13: 4 2 1 | G13: 7 1 2 | I13: 4 2 1 | J13: 7 1 2 | K13: 9 1 3 | M13: 4 2 1 | N13: 7 1 2 | O13: 5 3 6 | S13: 0 0 0 | AD13: 0 0 0 | AG13: 0 0 0 | AH13: 0 0 0 | AK13: 3 1 2 | AL13: 8 2 3 | AM13: 4 2 1 | AO13: 9 1 3 | AP13: 4 2 1 | AQ13: 7 1 2 | AS13: 4 2 1 | AT13: 7 1 2 | AU13: 9 1 3 | AW13: 4 2 1 | AX13: 7 1 2 | AY13: 5 3 6
A14: 00:49:44 00:00:00 1 June 2026 09:07 · 02:18:32 | B14: 01:12:52 00:00:00 1 June 2026 09:07 · 05:12:09 | C14: 00:28:23 00:00:00 2 June 2026 09:04 · 05:12:19 | E14: --:--:-- --:--:-- 3 June 2026 09:13 · 12:06:18 | F14: 00:28:23 00:00:00 2 June 2026 09:04 · 05:12:19 | G14: 01:44:40 00:00:00 3 June 2026 09:13 · 04:57:00 | I14: 00:28:23 00:00:00 2 June 2026 09:04 · 05:12:19 | J14: 01:44:40 00:00:00 3 June 2026 09:13 · 04:57:00 | K14: --:--:-- --:--:-- 3 June 2026 09:13 · 12:06:18 | M14: 00:28:23 00:00:00 2 June 2026 09:04 · 05:12:19 | N14: 01:44:40 00:00:00 3 June 2026 09:13 · 04:57:00 | O14: 03:32:56 00:00:00 4 June 2026 10:01 · 08:59:28 | S14: 00:00:00 00:00:00 --:--:-- | AD14: 00:00:00 00:00:00 --:--:-- | AG14: 00:00:00 00:00:00 --:--:-- | AH14: 00:00:00 00:00:00 --:--:-- | AK14: 00:49:44 00:00:00 1 June 2026 09:07 · 02:18:32 | AL14: 01:12:52 00:00:00 1 June 2026 09:07 · 05:12:09 | AM14: 00:28:23 00:00:00 2 June 2026 09:04 · 05:12:19 | AO14: --:--:-- --:--:-- 3 June 2026 09:13 · 12:06:18 | AP14: 00:28:23 00:00:00 2 June 2026 09:04 · 05:12:19 | AQ14: 01:44:40 00:00:00 3 June 2026 09:13 · 04:57:00 | AS14: 00:28:23 00:00:00 2 June 2026 09:04 · 05:12:19 | AT14: 01:44:40 00:00:00 3 June 2026 09:13 · 04:57:00 | AU14: --:--:-- --:--:-- 3 June 2026 09:13 · 12:06:18 | AW14: 00:28:23 00:00:00 2 June 2026 09:04 · 05:12:19 | AX14: 01:44:40 00:00:00 3 June 2026 09:13 · 04:57:00 | AY14: 03:32:56 00:00:00 4 June 2026 10:01 · 08:59:28
... A1088: 00:00:00 00:00:00 --:--:-- | B1088: 00:00:00 00:00:00 --:--:-- | C1088: 00:00:00 00:00:00 --:--:-- | E1088: 00:00:00 00:00:00 --:--:-- | F1088: 00:00:00 00:00:00 --:--:-- | G1088: --:--:-- --:--:-- --:--:-- | I1088: 00:00:00 00:00:00 --:--:-- | J1088: --:--:-- --:--:-- --:--:-- | K1088: 00:00:00 00:00:00 --:--:-- | M1088: 00:00:00 00:00:00 --:--:-- | N1088: --:--:-- --:--:-- --:--:-- | O1088: 00:00:00 00:00:00 --:--:-- | S1088: --:--:-- --:--:-- --:--:-- | AD1088: 00:00:00 00:00:00 --:--:-- | AG1088: --:--:-- --:--:-- --:--:-- | AH1088: --:--:-- --:--:-- --:--:-- | AK1088: 00:00:00 00:00:00 --:--:-- | AL1088: 00:00:00 00:00:00 --:--:-- | AM1088: 00:00:00 00:00:00 --:--:-- | AO1088: 00:00:00 00:00:00 --:--:-- | AP1088: 00:00:00 00:00:00 --:--:-- | AQ1088: --:--:-- --:--:-- --:--:-- | AS1088: 00:00:00 00:00:00 --:--:-- | AT1088: --:--:-- --:--:-- --:--:-- | AU1088: 00:00:00 00:00:00 --:--:-- | AW1088: 00:00:00 00:00:00 --:--:-- | AX1088: --:--:-- --:--:-- --:--:-- | AY1088: 00:00:00 00:00:00 --:--:--

Sheet Agents Shift
F1: ="Week "&WEEKNUM(F2,2) -> Week 24
F2: 46181 | G2: =TEXT(F2,"d-mmm")&" End" -> 8-Jun End | H2: =F2+1 -> 46182 | I2: =TEXT(H2,"d-mmm")&" End" -> 9-Jun End | J2: =H2+1 -> 46183 | K2: =TEXT(J2,"d-mmm")&" End" -> 10-Jun End | L2: =J2+1 -> 46184 | M2: =TEXT(L2,"d-mmm")&" End" -> 11-Jun End | N2: =L2+1 -> 46185 | O2: =TEXT(N2,"d-mmm")&" End" -> 12-Jun End | P2: =N2+1 -> 46186 | Q2: =TEXT(P2,"d-mmm")&" End" -> 13-Jun End | R2: =P2+1 -> 46187 | S2: =TEXT(R2,"d-mmm")&" End" -> 14-Jun End
F3: =TEXT(F2,"ddd") -> Mon | H3: =TEXT(H2,"ddd") -> Tue | J3: =TEXT(J2,"ddd") -> Wed | L3: =TEXT(L2,"ddd") -> Thu | N3: =TEXT(N2,"ddd") -> Fri | P3: =TEXT(P2,"ddd") -> Sat | R3: =TEXT(R2,"ddd") -> Sun
A4: # | B4: CCMS | C4: Agent | D4: Team Leader | E4: LOB | F4: Start Shift | G4: End Shift | H4: Start Shift | I4: End Shift | J4: Start Shift | K4: End Shift | L4: Start Shift | M4: End Shift | N4: Start Shift | O4: End Shift | P4: Start Shift | Q4: End Shift | R4: Start Shift | S4: End Shift
A5: 1 | B5: 100041 | C5: Dummy_AG 41 | D5: Dummy_TL 4 | E5: LOB_2 | F5: COMP | G5: COMP | H5: 0.33333333 | I5: 0.66666667 | J5: 0.33333333 | K5: 0.66666667 | L5: 0.33333333 | M5: 0.625 | N5: 0.33333333 | O5: 0.66666667 | P5: OFF | Q5: OFF | R5: OFF | S5: OFF
A6: 5 | B6: 100062 | C6: Dummy_AG 62 | D6: Dummy_TL 5 | E6: LOB_2 | F6: 0.33333333 | G6: 0.66666667 | H6: OFF | I6: OFF | J6: 0.33333333 | K6: 0.66666667 | L6: 0.375 | M6: 0.66666667 | N6: 0.33333333 | O6: 0.66666667 | P6: COMP | Q6: COMP | R6: OFF | S6: OFF
A7: 9 | B7: 100092 | C7: Dummy_AG 92 | D7: Dummy_TL 2 | E7: LOB_1 | F7: 0.33333333 | G7: 0.66666667 | H7: 0.33333333 | I7: 0.66666667 | J7: 0.33333333 | K7: 0.66666667 | L7: 0.35416667 | M7: 0.625 | N7: 0.33333333 | O7: 0.66666667 | P7: OFF | Q7: OFF | R7: OFF | S7: OFF
A8: 13 | B8: 100073 | C8: Dummy_AG 73 | D8: Dummy_TL 5 | E8: LOB_1 | F8: 0.33333333 | G8: 0.66666667 | H8: 0.33333333 | I8: 0.66666667 | J8: 0.33333333 | K8: 0.66666667 | L8: 0.375 | M8: 0.66666667 | N8: OFF | O8: OFF | P8: OFF | Q8: OFF | R8: 0.33333333 | S8: 0.66666667
A9: 17 | B9: 100002 | C9: Dummy_AG 2 | D9: Dummy_TL 2 | E9: LOB_2 | F9: 0.33333333 | G9: 0.66666667 | H9: 0.33333333 | I9: 0.66666667 | J9: OFF | K9: OFF | L9: OFF | M9: OFF | N9: 0.375 | O9: 0.66666667 | P9: 0.33333333 | Q9: 0.66666667 | R9: 0.33333333 | S9: 0.66666667
A10: 21 | B10: 100008 | C10: Dummy_AG 8 | D10: Dummy_TL 5 | E10: LOB_2 | F10: VAC | G10: VAC | H10: 0.33333333 | I10: 0.66666667 | J10: 0.33333333 | K10: 0.66666667 | L10: 0.375 | M10: 0.66666667 | N10: 0.33333333 | O10: 0.66666667 | P10: OFF | Q10: OFF | R10: OFF | S10: OFF
A11: 25 | B11: 100085 | C11: Dummy_AG 85 | D11: Dummy_TL 7 | E11: LOB_1 | F11: 0.625 | G11: 0.95833333 | H11: 0.625 | I11: 0.95833333 | J11: 0.625 | K11: 0.95833333 | L11: 0.625 | M11: 0.91666667 | N11: 0.625 | O11: 0.95833333 | P11: OFF | Q11: OFF | R11: OFF | S11: OFF
A12: 29 | B12: 100107 | C12: Dummy_AG 107 | D12: Dummy_TL 7 | E12: LOB_1 | F12: 0.625 | G12: 0.95833333 | H12: 0.625 | I12: 0.91666667 | J12: OFF | K12: OFF | L12: OFF | M12: OFF | N12: COMP | O12: COMP | P12: 0.625 | Q12: 0.95833333 | R12: 0.625 | S12: 0.95833333
A13: 33 | B13: 100097 | C13: Dummy_AG 97 | D13: Dummy_TL 10 | E13: LOB_2 | F13: 0.625 | G13: 0.95833333 | H13: 0.66666667 | I13: 0.9375 | J13: 0.625 | K13: 0.95833333 | L13: 0.625 | M13: 0.95833333 | N13: 0.625 | O13: 0.95833333 | P13: OFF | Q13: OFF | R13: OFF | S13: OFF
A14: 37 | B14: 100017 | C14: Dummy_AG 17 | D14: Dummy_TL 2 | E14: LOB_2 | F14: 0.33333333 | G14: 0.66666667 | H14: VAC | I14: VAC | J14: 0.33333333 | K14: 0.66666667 | L14: 0.375 | M14: 0.66666667 | N14: 0.33333333 | O14: 0.66666667 | P14: OFF | Q14: OFF | R14: OFF | S14: OFF
A15: 41 | B15: 100110 | C15: Dummy_AG 110 | D15: Dummy_TL 1 | E15: LOB_1 | F15: 0.33333333 | G15: 0.66666667 | H15: OFF | I15: OFF | J15: 0.33333333 | K15: 0.66666667 | L15: 0.33333333 | M15: 0.60416667 | N15: 0.33333333 | O15: 0.66666667 | P15: 0.33333333 | Q15: 0.66666667 | R15: 0.33333333 | S15: 0.66666667
A16: 45 | B16: 100071 | C16: Dummy_AG 71 | D16: Dummy_TL 5 | E16: LOB_2 | F16: 0.33333333 | G16: 0.66666667 | H16: 0.33333333 | I16: 0.66666667 | J16: 0.33333333 | K16: 0.66666667 | L16: 0.375 | M16: 0.66666667 | N16: 0.33333333 | O16: 0.66666667 | P16: OFF | Q16: OFF | R16: OFF | S16: OFF
A17: 49 | B17: 100039 | C17: Dummy_AG 39 | D17: Dummy_TL 7 | E17: LOB_2 | F17: Leave | G17: Leave | H17: Leave | I17: Leave | J17: Leave | K17: Leave | L17: Leave | M17: Leave | N17: Leave | O17: Leave | P17: OFF | Q17: OFF | R17: OFF | S17: OFF
A18: 53 | B18: 100065 | C18: Dummy_AG 65 | D18: Dummy_TL 2 | E18: LOB_2 | F18: 0.33333333 | G18: 0.66666667 | H18: 0.33333333 | I18: 0.66666667 | J18: 0.375 | K18: 0.66666667 | L18: OFF | M18: OFF | N18: OFF | O18: OFF | P18: COMP | Q18: COMP | R18: COMP | S18: COMP
A19: 57 | B19: 100025 | C19: Dummy_AG 25 | D19: Dummy_TL 3 | E19: LOB_3 | F19: 0.54166667 | G19: 0.875 | H19: 0.54166667 | I19: 0.875 | J19: 0.5 | K19: 0.79166667 | L19: OFF | M19: OFF | N19: OFF | O19: OFF | P19: 0.54166667 | Q19: 0.875 | R19: 0.54166667 | S19: 0.875
A20: 61 | B20: 100012 | C20: Dummy_AG 12 | D20: Dummy_TL 6 | E20: LOB_2 | F20: Leave | G20: Leave | H20: Leave | I20: Leave | J20: Leave | K20: Leave | L20: Leave | M20: Leave | N20: Leave | O20: Leave | P20: OFF | Q20: OFF | R20: OFF | S20: OFF
A21: 65 | B21: 100007 | C21: Dummy_AG 7 | D21: Dummy_TL 2 | E21: LOB_2 | F21: 0.33333333 | G21: 0.66666667 | H21: 0.33333333 | I21: 0.66666667 | J21: OFF | K21: OFF | L21: OFF | M21: OFF | N21: 0.375 | O21: 0.66666667 | P21: 0.33333333 | Q21: 0.66666667 | R21: 0.33333333 | S21: 0.66666667
A22: 69 | B22: 100079 | C22: Dummy_AG 79 | D22: Dummy_TL 8 | E22: LOB_1 | F22: 0.33333333 | G22: 0.66666667 | H22: 0.375 | I22: 0.66666667 | J22: 0.33333333 | K22: 0.66666667 | L22: 0.33333333 | M22: 0.66666667 | N22: 0.33333333 | O22: 0.66666667 | P22: OFF | Q22: OFF | R22: OFF | S22: OFF
A23: 73 | B23: 100072 | C23: Dummy_AG 72 | D23: Dummy_TL 8 | E23: LOB_1 | F23: COMP | G23: COMP | H23: 0.625 | I23: 0.95833333 | J23: 0.625 | K23: 0.95833333 | L23: 0.625 | M23: 0.95833333 | N23: 0.625 | O23: 0.91666667 | P23: OFF | Q23: OFF | R23: OFF | S23: OFF
A24: 77 | B24: 100063 | C24: Dummy_AG 63 | D24: Dummy_TL 2 | E24: LOB_1 | F24: 0.33333333 | G24: 0.66666667 | H24: 0.33333333 | I24: 0.66666667 | J24: 0.33333333 | K24: 0.625 | L24: 0.33333333 | M24: 0.66666667 | N24: 0.33333333 | O24: 0.66666667 | P24: OFF | Q24: OFF | R24: OFF | S24: OFF
A25: 81 | B25: 100115 | C25: Dummy_AG 115 | D25: Dummy_TL 8 | E25: LOB_2 | F25: OFF | G25: OFF | H25: 0.625 | I25: 0.95833333 | J25: 0.625 | K25: 0.95833333 | L25: 0.625 | M25: 0.95833333 | N25: 0.625 | O25: 0.89583333 | P25: OFF | Q25: OFF | R25: OFF | S25: OFF
A26: 85 | B26: 100108 | C26: Dummy_AG 108 | D26: Dummy_TL 10 | E26: LOB_1 | F26: OFF | G26: OFF | H26: 0.625 | I26: 0.95833333 | J26: 0.625 | K26: 0.95833333 | L26: 0.625 | M26: 0.89583333 | N26: 0.625 | O26: 0.95833333 | P26: OFF | Q26: OFF | R26: OFF | S26: OFF
A27: 89 | B27: 100044 | C27: Dummy_AG 44 | D27: Dummy_TL 8 | E27: LOB_2 | F27: 0.625 | G27: 0.95833333 | H27: 0.625 | I27: 0.95833333 | J27: 0.625 | K27: 0.95833333 | L27: 0.66666667 | M27: 0.95833333 | N27: 0.625 | O27: 0.95833333 | P27: OFF | Q27: OFF | R27: OFF | S27: OFF
A28: 101 | B28: 100152 | C28: Dummy_AG 152 | D28: Dummy_TL 12 | E28: LOB_2 | F28: 0.625 | G28: 0.89583333 | H28: 0.625 | I28: 0.95833333 | J28: 0.625 | K28: 0.95833333 | L28: 0.625 | M28: 0.95833333 | N28: OFF | O28: OFF | P28: 0.625 | Q28: 0.95833333 | R28: 0.625 | S28: 0.95833333
A29: 117 | B29: 100141 | C29: Dummy_AG 141 | D29: Dummy_TL 8 | E29: LOB_2 | F29: OFF | G29: OFF | H29: COMP | I29: COMP | J29: 0.625 | K29: 0.95833333 | L29: 0.625 | M29: 0.89583333 | N29: COMP | O29: COMP | P29: OFF | Q29: OFF | R29: OFF | S29: OFF
A30: 125 | B30: 100160 | C30: Dummy_AG 160 | D30: Dummy_TL 11 | E30: LOB_1 | F30: 0.625 | G30: 0.95833333 | H30: 0.625 | I30: 0.89583333 | J30: 0.625 | K30: 0.95833333 | L30: 0.625 | M30: 0.95833333 | N30: OFF | O30: OFF | P30: 0.625 | Q30: 0.95833333 | R30: 0.625 | S30: 0.95833333
A31: 129 | B31: 100153 | C31: Dummy_AG 153 | D31: Dummy_TL 11 | E31: LOB_1 | F31: 0.625 | G31: 0.95833333 | H31: 0.625 | I31: 0.95833333 | J31: OFF | K31: OFF | L31: 0.625 | M31: 0.89583333 | N31: 0.625 | O31: 0.95833333 | P31: 0.625 | Q31: 0.95833333 | R31: 0.625 | S31: 0.95833333
A32: 133 | B32: 100117 | C32: Dummy_AG 117 | D32: Dummy_TL 6 | E32: LOB_1 | F32: 0.33333333 | G32: 0.66666667 | H32: OFF | I32: OFF | J32: 0.33333333 | K32: 0.66666667 | L32: 0.33333333 | M32: 0.60416667 | N32: 0.33333333 | O32: 0.66666667 | P32: OFF | Q32: OFF | R32: OFF | S32: OFF
A33: 137 | B33: 100118 | C33: Dummy_AG 118 | D33: Dummy_TL 6 | E33: LOB_1 | F33: 0.33333333 | G33: 0.66666667 | H33: 0.33333333 | I33: 0.66666667 | J33: OFF | K33: OFF | L33: OFF | M33: OFF | N33: 0.35416667 | O33: 0.625 | P33: 0.33333333 | Q33: 0.66666667 | R33: 0.33333333 | S33: 0.66666667
A34: 141 | B34: 100091 | C34: Dummy_AG 91 | D34: Dummy_TL 5 | E34: LOB_1 | F34: 0.33333333 | G34: 0.66666667 | H34: 0.33333333 | I34: 0.66666667 | J34: OFF | K34: OFF | L34: OFF | M34: OFF | N34: 0.35416667 | O34: 0.625 | P34: 0.33333333 | Q34: 0.66666667 | R34: 0.33333333 | S34: 0.66666667
A35: 145 | B35: 100100 | C35: Dummy_AG 100 | D35: Dummy_TL 8 | E35: LOB_2 | F35: 0.625 | G35: 0.95833333 | H35: 0.625 | I35: 0.95833333 | J35: 0.625 | K35: 0.95833333 | L35: 0.64583333 | M35: 0.91666667 | N35: 0.625 | O35: 0.95833333 | P35: OFF | Q35: OFF | R35: OFF | S35: OFF
A36: 149 | B36: 100043 | C36: Dummy_AG 43 | D36: Dummy_TL 4 | E36: LOB_2 | F36: 0.33333333 | G36: 0.66666667 | H36: 0.33333333 | I36: 0.66666667 | J36: 0.33333333 | K36: 0.66666667 | L36: 0.33333333 | M36: 0.625 | N36: 0.33333333 | O36: 0.66666667 | P36: OFF | Q36: OFF | R36: OFF | S36: OFF
A37: 153 | B37: 100013 | C37: Dummy_AG 13 | D37: Dummy_TL 7 | E37: LOB_1 | F37: 0.625 | G37: 0.79166667 | H37: 0.625 | I37: 0.79166667 | J37: 0.625 | K37: 0.79166667 | L37: 0.625 | M37: 0.79166667 | N37: 0.625 | O37: 0.79166667 | P37: OFF | Q37: OFF | R37: OFF | S37: OFF
A38: 157 | B38: 100122 | C38: Dummy_AG 122 | D38: Dummy_TL 7 | E38: LOB_1 | F38: 0.625 | G38: 0.95833333 | H38: 0.625 | I38: 0.95833333 | J38: 0.625 | K38: 0.95833333 | L38: 0.625 | M38: 0.95833333 | N38: 0.625 | O38: 0.89583333 | P38: 0.625 | Q38: 0.95833333 | R38: OFF | S38: OFF
A39: 161 | B39: 100162 | C39: Dummy_AG 162 | D39: Dummy_TL 11 | E39: LOB_1 | F39: 0.625 | G39: 0.95833333 | H39: 0.625 | I39: 0.95833333 | J39: 0.625 | K39: 0.95833333 | L39: 0.625 | M39: 0.89583333 | N39: 0.625 | O39: 0.95833333 | P39: 0.625 | Q39: 0.95833333 | R39: OFF | S39: OFF
A40: 165 | B40: 100156 | C40: Dummy_AG 156 | D40: Dummy_TL 11 | E40: LOB_1 | F40: 0.625 | G40: 0.95833333 | H40: VAC | I40: VAC | J40: VAC | K40: VAC | L40: VAC | M40: VAC | N40: 0.625 | O40: 0.89583333 | P40: OFF | Q40: OFF | R40: OFF | S40: OFF
A41: 169 | B41: 100145 | C41: Dummy_AG 145 | D41: Dummy_TL 7 | E41: LOB_1 | F41: COMP | G41: COMP | H41: OFF | I41: OFF | J41: 0.625 | K41: 0.95833333 | L41: 0.625 | M41: 0.89583333 | N41: 0.625 | O41: 0.95833333 | P41: 0.625 | Q41: 0.95833333 | R41: 0.625 | S41: 0.95833333
A42: 173 | B42: 100070 | C42: Dummy_AG 70 | D42: Dummy_TL 5 | E42: LOB_2 | F42: Leave | G42: Leave | H42: Leave | I42: Leave | J42: Leave | K42: Leave | L42: Leave | M42: Leave | N42: OFF | O42: OFF | P42: OFF | Q42: OFF | R42: VAC | S42: VAC
A43: 177 | B43: 100059 | C43: Dummy_AG 59 | D43: Dummy_TL 6 | E43: LOB_2 | F43: 0.5 | G43: 0.79166667 | H43: 0.5 | I43: 0.83333333 | J43: OFF | K43: OFF | L43: OFF | M43: OFF | N43: 0.5 | O43: 0.83333333 | P43: 0.5 | Q43: 0.83333333 | R43: 0.5 | S43: 0.83333333
A44: 181 | B44: 100074 | C44: Dummy_AG 74 | D44: Dummy_TL 2 | E44: LOB_1 | F44: 0.33333333 | G44: 0.66666667 | H44: 0.33333333 | I44: 0.66666667 | J44: 0.33333333 | K44: 0.66666667 | L44: 0.375 | M44: 0.66666667 | N44: OFF | O44: OFF | P44: OFF | Q44: OFF | R44: 0.33333333 | S44: 0.66666667
A45: 185 | B45: 100082 | C45: Dummy_AG 82 | D45: Dummy_TL 1 | E45: LOB_2 | F45: 0.33333333 | G45: 0.66666667 | H45: 0.33333333 | I45: 0.66666667 | J45: 0.33333333 | K45: 0.66666667 | L45: 0.33333333 | M45: 0.625 | N45: 0.33333333 | O45: 0.66666667 | P45: OFF | Q45: OFF | R45: OFF | S45: OFF
A46: 189 | B46: 100132 | C46: Dummy_AG 132 | D46: Dummy_TL 8 | E46: LOB_2 | F46: 0.625 | G46: 0.95833333 | H46: OFF | I46: OFF | J46: 0.625 | K46: 0.95833333 | L46: 0.625 | M46: 0.89583333 | N46: 0.625 | O46: 0.95833333 | P46: 0.625 | Q46: 0.95833333 | R46: 0.625 | S46: 0.95833333
A47: 193 | B47: 100098 | C47: Dummy_AG 98 | D47: Dummy_TL 10 | E47: LOB_2 | F47: VAC | G47: VAC | H47: VAC | I47: VAC | J47: VAC | K47: VAC | L47: VAC | M47: VAC | N47: VAC | O47: VAC | P47: OFF | Q47: OFF | R47: OFF | S47: OFF
A48: 197 | B48: 100109 | C48: Dummy_AG 109 | D48: Dummy_TL 1 | E48: LOB_1 | F48: 0.33333333 | G48: 0.66666667 | H48: 0.33333333 | I48: 0.66666667 | J48: 0.33333333 | K48: 0.66666667 | L48: 0.33333333 | M48: 0.60416667 | N48: 0.33333333 | O48: 0.66666667 | P48: OFF | Q48: OFF | R48: 0.33333333 | S48: 0.66666667
A49: 201 | B49: 100090 | C49: Dummy_AG 90 | D49: Dummy_TL 8 | E49: LOB_2 | F49: 0.33333333 | G49: 0.66666667 | H49: 0.33333333 | I49: 0.66666667 | J49: 0.33333333 | K49: 0.66666667 | L49: 0.35416667 | M49: 0.625 | N49: 0.33333333 | O49: 0.66666667 | P49: OFF | Q49: OFF | R49: OFF | S49: OFF
A50: 209 | B50: 100133 | C50: Dummy_AG 133 | D50: Dummy_TL 7 | E50: LOB_2 | F50: OFF | G50: OFF | H50: 0.625 | I50: 0.95833333 | J50: 0.625 | K50: 0.95833333 | L50: VAC | M50: VAC | N50: VAC | O50: VAC | P50: OFF | Q50: OFF | R50: OFF | S50: OFF
A51: 213 | B51: 100150 | C51: Dummy_AG 150 | D51: Dummy_TL 11 | E51: LOB_2 | F51: 0.625 | G51: 0.89583333 | H51: 0.625 | I51: 0.95833333 | J51: 0.625 | K51: 0.95833333 | L51: 0.625 | M51: 0.95833333 | N51: OFF | O51: OFF | P51: 0.625 | Q51: 0.95833333 | R51: 0.625 | S51: 0.95833333
A52: 221 | B52: 100106 | C52: Dummy_AG 106 | D52: Dummy_TL 10 | E52: LOB_1 | F52: 0.625 | G52: 0.89583333 | H52: OFF | I52: OFF | J52: COMP | K52: COMP | L52: COMP | M52: COMP | N52: COMP | O52: COMP | P52: OFF | Q52: OFF | R52: OFF | S52: OFF
A53: 225 | B53: 100014 | C53: Dummy_AG 14 | D53: Dummy_TL 3 | E53: LOB_3 | F53: OFF | G53: OFF | H53: 0.54166667 | I53: 0.83333333 | J53: 0.54166667 | K53: 0.875 | L53: 0.54166667 | M53: 0.875 | N53: 0.54166667 | O53: 0.875 | P53: OFF | Q53: OFF | R53: 0.54166667 | S53: 0.875
A54: 229 | B54: 100003 | C54: Dummy_AG 3 | D54: Dummy_TL 3 | E54: LOB_3 | F54: 0.33333333 | G54: 0.625 | H54: 0.33333333 | I54: 0.66666667 | J54: OFF | K54: OFF | L54: OFF | M54: OFF | N54: 0.33333333 | O54: 0.66666667 | P54: 0.33333333 | Q54: 0.66666667 | R54: 0.33333333 | S54: 0.66666667
A55: 233 | B55: 100120 | C55: Dummy_AG 120 | D55: Dummy_TL 7 | E55: LOB_1 | F55: 0.625 | G55: 0.95833333 | H55: 0.625 | I55: 0.95833333 | J55: 0.625 | K55: 0.95833333 | L55: 0.625 | M55: 0.89583333 | N55: 0.625 | O55: 0.95833333 | P55: OFF | Q55: OFF | R55: OFF | S55: OFF
A56: 237 | B56: 100028 | C56: Dummy_AG 28 | D56: Dummy_TL 2 | E56: LOB_1 | F56: 0.33333333 | G56: 0.66666667 | H56: 0.375 | I56: 0.66666667 | J56: 0.33333333 | K56: 0.66666667 | L56: 0.33333333 | M56: 0.66666667 | N56: 0.33333333 | O56: 0.66666667 | P56: OFF | Q56: OFF | R56: OFF | S56: OFF
A57: 241 | B57: 100057 | C57: Dummy_AG 57 | D57: Dummy_TL 4 | E57: LOB_1 | F57: VAC | G57: VAC | H57: VAC | I57: VAC | J57: VAC | K57: VAC | L57: OFF | M57: OFF | N57: OFF | O57: OFF | P57: 0.33333333 | Q57: 0.66666667 | R57: 0.33333333 | S57: 0.66666667
A58: 245 | B58: 100001 | C58: Dummy_AG 1 | D58: Dummy_TL 1 | E58: LOB_1 | F58: OFF | G58: OFF | H58: 0.375 | I58: 0.70833333 | J58: 0.375 | K58: 0.70833333 | L58: 0.375 | M58: 0.64583333 | N58: 0.375 | O58: 0.70833333 | P58: OFF | Q58: OFF | R58: OFF | S58: OFF
A59: 249 | B59: 100006 | C59: Dummy_AG 6 | D59: Dummy_TL 3 | E59: LOB_3 | F59: 0.54166667 | G59: 0.875 | H59: 0.5 | I59: 0.79166667 | J59: 0.54166667 | K59: 0.875 | L59: OFF | M59: OFF | N59: OFF | O59: OFF | P59: COMP | Q59: COMP | R59: 0.54166667 | S59: 0.875
A60: 257 | B60: 100089 | C60: Dummy_AG 89 | D60: Dummy_TL 8 | E60: LOB_2 | F60: 0.625 | G60: 0.95833333 | H60: 0.625 | I60: 0.95833333 | J60: OFF | K60: OFF | L60: OFF | M60: OFF | N60: 0.66666667 | O60: 0.9375 | P60: 0.625 | Q60: 0.95833333 | R60: 0.625 | S60: 0.95833333
A61: 261 | B61: 100102 | C61: Dummy_AG 102 | D61: Dummy_TL 6 | E61: LOB_1 | F61: 0.33333333 | G61: 0.66666667 | H61: 0.375 | I61: 0.66666667 | J61: COMP | K61: COMP | L61: 0.33333333 | M61: 0.66666667 | N61: 0.33333333 | O61: 0.66666667 | P61: OFF | Q61: OFF | R61: OFF | S61: OFF
A62: 265 | B62: 100087 | C62: Dummy_AG 87 | D62: Dummy_TL 8 | E62: LOB_1 | F62: VAC | G62: VAC | H62: 0.625 | I62: 0.95833333 | J62: 0.625 | K62: 0.95833333 | L62: 0.625 | M62: 0.95833333 | N62: 0.625 | O62: 0.89583333 | P62: OFF | Q62: OFF | R62: OFF | S62: OFF
A63: 269 | B63: 100075 | C63: Dummy_AG 75 | D63: Dummy_TL 5 | E63: LOB_2 | F63: Leave | G63: Leave | H63: Leave | I63: Leave | J63: Leave | K63: Leave | L63: Leave | M63: Leave | N63: Leave | O63: Leave | P63: OFF | Q63: OFF | R63: OFF | S63: OFF
A64: 273 | B64: 100037 | C64: Dummy_AG 37 | D64: Dummy_TL 4 | E64: LOB_2 | F64: 0.33333333 | G64: 0.66666667 | H64: 0.33333333 | I64: 0.66666667 | J64: OFF | K64: OFF | L64: 0.33333333 | M64: 0.66666667 | N64: OFF | O64: OFF | P64: 0.375 | Q64: 0.66666667 | R64: 0.33333333 | S64: 0.66666667
A65: 277 | B65: 100048 | C65: Dummy_AG 48 | D65: Dummy_TL 6 | E65: LOB_2 | F65: 0.33333333 | G65: 0.66666667 | H65: 0.33333333 | I65: 0.66666667 | J65: 0.375 | K65: 0.66666667 | L65: OFF | M65: OFF | N65: OFF | O65: OFF | P65: 0.33333333 | Q65: 0.66666667 | R65: 0.33333333 | S65: 0.66666667
A66: 281 | B66: 100158 | C66: Dummy_AG 158 | D66: Dummy_TL 11 | E66: LOB_1 | F66: 0.625 | G66: 0.95833333 | H66: 0.625 | I66: 0.95833333 | J66: 0.625 | K66: 0.95833333 | L66: 0.625 | M66: 0.95833333 | N66: 0.625 | O66: 0.89583333 | P66: OFF | Q66: OFF | R66: 0.625 | S66: 0.95833333
A67: 285 | B67: 100031 | C67: Dummy_AG 31 | D67: Dummy_TL 3 | E67: LOB_3 | F67: 0.54166667 | G67: 0.83333333 | H67: 0.54166667 | I67: 0.875 | J67: OFF | K67: OFF | L67: 0.54166667 | M67: 0.875 | N67: OFF | O67: OFF | P67: 0.54166667 | Q67: 0.875 | R67: 0.54166667 | S67: 0.875
A68: 301 | B68: 100010 | C68: Dummy_AG 10 | D68: Dummy_TL 6 | E68: LOB_2 | F68: 0.33333333 | G68: 0.66666667 | H68: 0.33333333 | I68: 0.66666667 | J68: 0.375 | K68: 0.66666667 | L68: OFF | M68: OFF | N68: OFF | O68: OFF | P68: COMP | Q68: COMP | R68: COMP | S68: COMP
A69: 305 | B69: 100049 | C69: Dummy_AG 49 | D69: Dummy_TL 6 | E69: LOB_2 | F69: 0.33333333 | G69: 0.66666667 | H69: 0.33333333 | I69: 0.66666667 | J69: 0.33333333 | K69: 0.66666667 | L69: 0.375 | M69: 0.66666667 | N69: OFF | O69: OFF | P69: OFF | Q69: OFF | R69: 0.33333333 | S69: 0.66666667
A70: 309 | B70: 100032 | C70: Dummy_AG 32 | D70: Dummy_TL 3 | E70: LOB_3 | F70: VAC | G70: VAC | H70: VAC | I70: VAC | J70: VAC | K70: VAC | L70: 0.54166667 | M70: 0.875 | N70: 0.54166667 | O70: 0.875 | P70: OFF | Q70: OFF | R70: OFF | S70: OFF
A71: 313 | B71: 100019 | C71: Dummy_AG 19 | D71: Dummy_TL 5 | E71: LOB_1 | F71: 0.33333333 | G71: 0.66666667 | H71: 0.33333333 | I71: 0.66666667 | J71: 0.33333333 | K71: 0.66666667 | L71: 0.33333333 | M71: 0.625 | N71: 0.33333333 | O71: 0.66666667 | P71: OFF | Q71: OFF | R71: OFF | S71: OFF
A72: 317 | B72: 100144 | C72: Dummy_AG 144 | D72: Dummy_TL 7 | E72: LOB_1 | F72: OFF | G72: OFF | H72: 0.625 | I72: 0.95833333 | J72: 0.625 | K72: 0.95833333 | L72: 0.625 | M72: 0.89583333 | N72: 0.625 | O72: 0.95833333 | P72: OFF | Q72: OFF | R72: OFF | S72: OFF
A73: 321 | B73: 100016 | C73: Dummy_AG 16 | D73: Dummy_TL 3 | E73: LOB_3 | F73: 0.54166667 | G73: 0.875 | H73: 0.54166667 | I73: 0.875 | J73: 0.54166667 | K73: 0.875 | L73: 0.54166667 | M73: 0.83333333 | N73: 0.54166667 | O73: 0.875 | P73: OFF | Q73: OFF | R73: OFF | S73: OFF
A74: 325 | B74: 100067 | C74: Dummy_AG 67 | D74: Dummy_TL 4 | E74: LOB_2 | F74: VAC | G74: VAC | H74: OFF | I74: OFF | J74: ABS | K74: ABS | L74: ABS | M74: ABS | N74: ABS | O74: ABS | P74: ABS | Q74: ABS | R74: OFF | S74: OFF
A75: 329 | B75: 100088 | C75: Dummy_AG 88 | D75: Dummy_TL 1 | E75: LOB_2 | F75: 0.39583333 | G75: 0.72916667 | H75: OFF | I75: OFF | J75: 0.39583333 | K75: 0.72916667 | L75: 0.39583333 | M75: 0.66666667 | N75: 0.39583333 | O75: 0.72916667 | P75: 0.39583333 | Q75: 0.72916667 | R75: OFF | S75: OFF
A76: 333 | B76: 100035 | C76: Dummy_AG 35 | D76: Dummy_TL 4 | E76: LOB_2 | F76: 0.33333333 | G76: 0.66666667 | H76: 0.33333333 | I76: 0.66666667 | J76: 0.33333333 | K76: 0.66666667 | L76: 0.33333333 | M76: 0.625 | N76: 0.33333333 | O76: 0.66666667 | P76: OFF | Q76: OFF | R76: OFF | S76: OFF
A77: 337 | B77: 100009 | C77: Dummy_AG 9 | D77: Dummy_TL 5 | E77: LOB_2 | F77: 0.33333333 | G77: 0.66666667 | H77: 0.33333333 | I77: 0.66666667 | J77: 0.33333333 | K77: 0.66666667 | L77: 0.375 | M77: 0.66666667 | N77: 0.33333333 | O77: 0.66666667 | P77: OFF | Q77: OFF | R77: OFF | S77: OFF
A78: 341 | B78: 100045 | C78: Dummy_AG 45 | D78: Dummy_TL 7 | E78: LOB_2 | F78: COMP | G78: COMP | H78: COMP | I78: COMP | J78: VAC | K78: VAC | L78: VAC | M78: VAC | N78: VAC | O78: VAC | P78: OFF | Q78: OFF | R78: OFF | S78: OFF
A79: 345 | B79: 100083 | C79: Dummy_AG 83 | D79: Dummy_TL 7 | E79: LOB_2 | F79: 0.625 | G79: 0.95833333 | H79: 0.625 | I79: 0.95833333 | J79: 0.625 | K79: 0.95833333 | L79: 0.66666667 | M79: 0.95833333 | N79: 0.625 | O79: 0.95833333 | P79: OFF | Q79: OFF | R79: OFF | S79: OFF
A80: 349 | B80: 100099 | C80: Dummy_AG 99 | D80: Dummy_TL 10 | E80: LOB_2 | F80: 0.625 | G80: 0.95833333 | H80: 0.625 | I80: 0.95833333 | J80: 0.66666667 | K80: 0.9375 | L80: 0.625 | M80: 0.95833333 | N80: 0.625 | O80: 0.95833333 | P80: OFF | Q80: OFF | R80: OFF | S80: OFF
A81: 353 | B81: 100157 | C81: Dummy_AG 157 | D81: Dummy_TL 12 | E81: LOB_2 | F81: 0.625 | G81: 0.95833333 | H81: VAC | I81: VAC | J81: VAC | K81: VAC | L81: VAC | M81: VAC | N81: OFF | O81: OFF | P81: 0.625 | Q81: 0.95833333 | R81: 0.625 | S81: 0.89583333
A82: 357 | B82: 100130 | C82: Dummy_AG 130 | D82: Dummy_TL 2 | E82: LOB_1 | F82: 0.375 | G82: 0.70833333 | H82: OFF | I82: OFF | J82: 0.375 | K82: 0.64583333 | L82: 0.375 | M82: 0.70833333 | N82: 0.375 | O82: 0.70833333 | P82: OFF | Q82: OFF | R82: OFF | S82: OFF
A83: 369 | B83: 100127 | C83: Dummy_AG 127 | D83: Dummy_TL 2 | E83: LOB_2 | F83: 0.5 | G83: 0.77083333 | H83: OFF | I83: OFF | J83: 0.5 | K83: 0.83333333 | L83: 0.5 | M83: 0.83333333 | N83: COMP | O83: COMP | P83: COMP | Q83: COMP | R83: COMP | S83: COMP
A84: 373 | B84: 100077 | C84: Dummy_AG 77 | D84: Dummy_TL 4 | E84: LOB_1 | F84: 0.33333333 | G84: 0.66666667 | H84: 0.33333333 | I84: 0.66666667 | J84: 0.375 | K84: 0.66666667 | L84: 0.33333333 | M84: 0.66666667 | N84: 0.33333333 | O84: 0.66666667 | P84: OFF | Q84: OFF | R84: OFF | S84: OFF
A85: 377 | B85: 100047 | C85: Dummy_AG 47 | D85: Dummy_TL 8 | E85: LOB_1 | F85: 0.33333333 | G85: 0.66666667 | H85: 0.35416667 | I85: 0.625 | J85: 0.33333333 | K85: 0.66666667 | L85: 0.33333333 | M85: 0.66666667 | N85: 0.33333333 | O85: 0.66666667 | P85: OFF | Q85: OFF | R85: OFF | S85: OFF
A86: 381 | B86: 100056 | C86: Dummy_AG 56 | D86: Dummy_TL 6 | E86: LOB_1 | F86: 0.33333333 | G86: 0.66666667 | H86: 0.33333333 | I86: 0.66666667 | J86: 0.33333333 | K86: 0.66666667 | L86: 0.375 | M86: 0.66666667 | N86: 0.33333333 | O86: 0.66666667 | P86: OFF | Q86: OFF | R86: OFF | S86: OFF
A87: 385 | B87: 100020 | C87: Dummy_AG 20 | D87: Dummy_TL 3 | E87: LOB_3 | F87: 0.33333333 | G87: 0.625 | H87: OFF | I87: OFF | J87: 0.33333333 | K87: 0.66666667 | L87: OFF | M87: OFF | N87: 0.33333333 | O87: 0.66666667 | P87: 0.33333333 | Q87: 0.66666667 | R87: 0.33333333 | S87: 0.66666667
A88: 389 | B88: 100126 | C88: Dummy_AG 126 | D88: Dummy_TL 10 | E88: LOB_1 | F88: 0.625 | G88: 0.95833333 | H88: OFF | I88: OFF | J88: 0.625 | K88: 0.95833333 | L88: 0.625 | M88: 0.95833333 | N88: 0.625 | O88: 0.89583333 | P88: OFF | Q88: OFF | R88: OFF | S88: OFF
A89: 393 | B89: 100027 | C89: Dummy_AG 27 | D89: Dummy_TL 4 | E89: LOB_2 | F89: 0.33333333 | G89: 0.66666667 | H89: OFF | I89: OFF | J89: 0.33333333 | K89: 0.66666667 | L89: 0.33333333 | M89: 0.625 | N89: 0.33333333 | O89: 0.66666667 | P89: 0.33333333 | Q89: 0.66666667 | R89: OFF | S89: OFF
A90: 397 | B90: 100111 | C90: Dummy_AG 111 | D90: Dummy_TL 6 | E90: LOB_1 | F90: 0.375 | G90: 0.70833333 | H90: 0.375 | I90: 0.70833333 | J90: 0.375 | K90: 0.70833333 | L90: 0.375 | M90: 0.64583333 | N90: OFF | O90: OFF | P90: 0.375 | Q90: 0.70833333 | R90: 0.375 | S90: 0.70833333
A91: 405 | B91: 100066 | C91: Dummy_AG 66 | D91: Dummy_TL 4 | E91: LOB_2 | F91: 0.33333333 | G91: 0.66666667 | H91: 0.33333333 | I91: 0.66666667 | J91: OFF | K91: OFF | L91: OFF | M91: OFF | N91: 0.375 | O91: 0.66666667 | P91: 0.33333333 | Q91: 0.66666667 | R91: 0.33333333 | S91: 0.66666667
A92: 417 | B92: 100036 | C92: Dummy_AG 36 | D92: Dummy_TL 1 | E92: LOB_2 | F92: 0.41666667 | G92: 0.75 | H92: 0.41666667 | I92: 0.75 | J92: 0.41666667 | K92: 0.70833333 | L92: 0.41666667 | M92: 0.75 | N92: 0.41666667 | O92: 0.75 | P92: OFF | Q92: OFF | R92: OFF | S92: OFF
A93: 421 | B93: 100021 | C93: Dummy_AG 21 | D93: Dummy_TL 3 | E93: LOB_3 | F93: 0.33333333 | G93: 0.625 | H93: 0.33333333 | I93: 0.66666667 | J93: 0.33333333 | K93: 0.66666667 | L93: 0.33333333 | M93: 0.66666667 | N93: 0.33333333 | O93: 0.625 | P93: OFF | Q93: OFF | R93: OFF | S93: OFF
A94: 425 | B94: 100080 | C94: Dummy_AG 80 | D94: Dummy_TL 5 | E94: LOB_1 | F94: 0.33333333 | G94: 0.66666667 | H94: 0.375 | I94: 0.66666667 | J94: 0.33333333 | K94: 0.66666667 | L94: OFF | M94: OFF | N94: OFF | O94: OFF | P94: 0.33333333 | Q94: 0.66666667 | R94: 0.33333333 | S94: 0.66666667
A95: 429 | B95: 100054 | C95: Dummy_AG 54 | D95: Dummy_TL 4 | E95: LOB_2 | F95: VAC | G95: VAC | H95: 0.33333333 | I95: 0.66666667 | J95: 0.33333333 | K95: 0.66666667 | L95: 0.375 | M95: 0.66666667 | N95: 0.33333333 | O95: 0.66666667 | P95: OFF | Q95: OFF | R95: OFF | S95: OFF
A96: 433 | B96: 100064 | C96: Dummy_AG 64 | D96: Dummy_TL 5 | E96: LOB_2 | F96: 0.33333333 | G96: 0.66666667 | H96: 0.33333333 | I96: 0.66666667 | J96: 0.33333333 | K96: 0.66666667 | L96: 0.375 | M96: 0.66666667 | N96: 0.33333333 | O96: 0.66666667 | P96: OFF | Q96: OFF | R96: OFF | S96: OFF
A97: 437 | B97: 100068 | C97: Dummy_AG 68 | D97: Dummy_TL 4 | E97: LOB_1 | F97: VAC | G97: VAC | H97: VAC | I97: VAC | J97: VAC | K97: VAC | L97: VAC | M97: VAC | N97: VAC | O97: VAC | P97: OFF | Q97: OFF | R97: OFF | S97: OFF
A98: 441 | B98: 100029 | C98: Dummy_AG 29 | D98: Dummy_TL 3 | E98: LOB_3 | F98: 0.54166667 | G98: 0.83333333 | H98: 0.54166667 | I98: 0.875 | J98: 0.54166667 | K98: 0.875 | L98: 0.54166667 | M98: 0.875 | N98: 0.54166667 | O98: 0.875 | P98: OFF | Q98: OFF | R98: OFF | S98: OFF
A99: 445 | B99: 100015 | C99: Dummy_AG 15 | D99: Dummy_TL 3 | E99: LOB_3 | F99: 0.33333333 | G99: 0.625 | H99: 0.33333333 | I99: 0.66666667 | J99: OFF | K99: OFF | L99: 0.33333333 | M99: 0.66666667 | N99: 0.33333333 | O99: 0.66666667 | P99: OFF | Q99: OFF | R99: 0.33333333 | S99: 0.66666667
A100: 449 | B100: 100081 | C100: Dummy_AG 81 | D100: Dummy_TL 8 | E100: LOB_1 | F100: 0.625 | G100: 0.95833333 | H100: 0.625 | I100: 0.95833333 | J100: 0.625 | K100: 0.95833333 | L100: 0.625 | M100: 0.91666667 | N100: OFF | O100: OFF | P100: OFF | Q100: OFF | R100: 0.625 | S100: 0.95833333
...

Sheet HC
A1: HR_ID | B1: Agent_Name | C1: Tool Username | D1: MANAGER_FULL_NAME | E1: LOB | F1: EXT
A2: 100001 | B2: Dummy_AG 1 | C2: Dummy_USR 1 | D2: Dummy_TL 1 | E2: LOB_1 | F2: 29016
A3: 100002 | B3: Dummy_AG 2 | C3: Dummy_USR 2 | D3: Dummy_TL 2 | E3: LOB_2 | F3: 20041
A4: 100003 | B4: Dummy_AG 3 | C4: Dummy_USR 3 | D4: Dummy_TL 3 | E4: LOB_3 | F4: 29144
A5: 100004 | B5: Dummy_AG 4 | C5: Dummy_USR 4 | D5: Dummy_TL 2 | E5: LOB_2 | F5: 20042
A6: 100005 | B6: Dummy_AG 5 | C6: Dummy_USR 5 | D6: Dummy_TL 4 | E6: LOB_1 | F6: 29504
A7: 100006 | B7: Dummy_AG 6 | C7: Dummy_USR 6 | D7: Dummy_TL 3 | E7: LOB_3 | F7: 20526
A8: 100007 | B8: Dummy_AG 7 | C8: Dummy_USR 7 | D8: Dummy_TL 2 | E8: LOB_2 | F8: 20601
A9: 100008 | B9: Dummy_AG 8 | C9: Dummy_USR 8 | D9: Dummy_TL 5 | E9: LOB_2 | F9: 20606
A10: 100009 | B10: Dummy_AG 9 | C10: Dummy_USR 9 | D10: Dummy_TL 5 | E10: LOB_2 | F10: 20603
A11: 100010 | B11: Dummy_AG 10 | C11: Dummy_USR 10 | D11: Dummy_TL 6 | E11: LOB_2 | F11: 20095
A12: 100011 | B12: Dummy_AG 11 | C12: Dummy_USR 11 | D12: Dummy_TL 5 | E12: LOB_1 | F12: 29098
A13: 100012 | B13: Dummy_AG 12 | C13: Dummy_USR 12 | D13: Dummy_TL 6 | E13: LOB_2 | F13: 29563
... A169: 100168 | B169: Dummy_AG 168 | C169: Dummy_USR 168 | D169: Dummy_TL 12 | E169: LOB_2 | F169: 25263

Sheet RAW Data
A1: LOB | C1: Date | E1: AUX | F1: State | H1: AUX → productivity map used by Attendance View (col K): Yes = Working · Not Productive = NP AUX · No = Absent/Offline.
A2: LOB_1 | C2: 46174 | E2: ACW | F2: Yes | H2: Edit or extend the AUX list freely – lookups read the whole J:K columns. Unknown codes surface as 'Unmapped'.
A3: LOB_4 | C3: =C2+1 -> 46175 | E3: Back Office | F3: Yes | H3: Note: 'Work Timer' appears twice (Yes / Not Productive); the first match (Yes) wins – delete one row to remove the ambiguity.
A4: LOB_2 | C4: =C3+1 -> 46176 | E4: ACD | F4: Yes
A5: LOB_4 | C5: =C4+1 -> 46177 | E5: Available | F5: Yes
A6: LOB_3 | C6: =C5+1 -> 46178 | E6: Incoming | F6: Yes
A7: LOB_4 | C7: =C6+1 -> 46179 | E7: Outbound | F7: Yes
A8: LOB_4 | C8: =C7+1 -> 46180 | E8: ACD Hold | F8: Yes
C9: =C8+1 -> 46181 | E9: Non-ACD | F9: Yes
C10: =C9+1 -> 46182 | E10: Rides | F10: Yes
C11: =C10+1 -> 46183 | E11: Work Timer | F11: Yes
C12: =C11+1 -> 46184 | E12: 1st Login | F12: Yes
C13: =C12+1 -> 46185 | E13: OPS | F13: Yes
C14: =C13+1 -> 46186 | E14: Break (NON MAN) | F14: Not Productive
C15: =C14+1 -> 46187 | E15: Coaching | F15: Not Productive
C16: =C15+1 -> 46188 | E16: Lunch | F16: Not Productive
C17: =C16+1 -> 46189 | E17: No Make Busy Code | F17: Not Productive
C18: =C17+1 -> 46190 | E18: Personal | F18: Not Productive
C19: =C18+1 -> 46191 | E19: Training | F19: Not Productive
C20: =C19+1 -> 46192 | E20: Offline | F20: No
... C25: =C24+1 -> 46197 | E25: Supporting Others | F25: Not Productive
C26: =C25+1 -> 46198
C27: =C26+1 -> 46199
C28: =C27+1 -> 46200
C29: =C28+1 -> 46201
C30: =C29+1 -> 46202
C31: =C30+1 -> 46203
C32: =C31+1 -> 46204
C33: =C32+1 -> 46205
C34: =C33+1 -> 46206
C35: =C34+1 -> 46207
C36: =C35+1 -> 46208
C37: =C36+1 -> 46209
... C139: =C138+1 -> 46311
