Workbook

Sheet Dashboard
B2: WFM ATTENDANCE & AUX DASHBOARD | AA2: ='Attendance View'!$AC$3 -> 1
B3: ="Source: "&'Attendance View'!$C$3&" · Report date: "&TEXT('Attendance View'!$A$3,"ddd dd mmm yyyy")&" · Active checkpoint: "&TEXT('Attendance View'!$AF$3/1440,"hh:mm")&" CET · "&'Attendance View'!$G$3&" (change the selector in 'Attendance View' row 3)" -> Source: Snapshot 10:30 · Report date: Tue 09 Jun 2026 · Active checkpoint: 10:30 CET · ✔ 1086 text lines → 181 agent blocks parsed · checkpoint 10:30 CET (change the selector in 'Attendance View' row 3) | AA3: ='Attendance View'!$AF$3 -> 630
B5: SCHEDULED | F5: WORKING | J5: ABSENT / OFFLINE | N5: NON-PRODUCTIVE AUX | R5: ATTENDANCE % | V5: PRODUCTIVE %
B6: =COUNTIFS('Attendance View'!$M:$M,"<="&$AA$3,'Attendance View'!$N:$N,">"&$AA$3) -> 60 | F6: =COUNTIFS('Attendance View'!$M:$M,"<="&$AA$3,'Attendance View'!$N:$N,">"&$AA$3,'Attendance View'!$J:$J,"Yes") -> 49 | J6: =COUNTIFS('Attendance View'!$M:$M,"<="&$AA$3,'Attendance View'!$N:$N,">"&$AA$3,'Attendance View'!$J:$J,"No") -> 1 | N6: =COUNTIFS('Attendance View'!$M:$M,"<="&$AA$3,'Attendance View'!$N:$N,">"&$AA$3,'Attendance View'!$J:$J,"Not Productive") -> 10 | R6: =IF($B$6=0,0,($F$6+$N$6)/$B$6) -> 0.98333333 | V6: =IF($B$6=0,0,$F$6/$B$6) -> 0.81666667
B8: ="agents on shift at "&TEXT($AA$3/1440,"hh:mm") -> agents on shift at 10:30 | F8: =TEXT(IF($B$6=0,0,$F$6/B6),"0.0%")&" of scheduled" -> 81.7% of scheduled | J8: =TEXT(IF($B$6=0,0,$J$6/B6),"0.0%")&" absence rate" -> 1.7% absence rate | N8: =TEXT(IF($B$6=0,0,$N$6/B6),"0.0%")&" NP shrinkage" -> 16.7% NP shrinkage | R8: Working + NP / Scheduled | V8: ="Working ÷ Scheduled" -> Working ÷ Scheduled
B10: CLIENT CHECKPOINT MATRIX · 10:30 / 13:30 / 18:30 CET | R10: DATA QUALITY & RECONCILIATION
B11: LOB | E11: 0.4375 | I11: 0.5625 | M11: 0.77083333
E12: Scheduled | F12: Working | G12: Absent | H12: NP AUXs | I12: Scheduled | J12: Working | K12: Absent | L12: NP AUXs | M12: Scheduled | N12: Working | O12: Absent | P12: NP AUXs | R12: Rostered agents (shift sheet) | X12: =COUNTIF('Attendance View'!$A$5:$A$1504,">0") -> 145
B13: LOB_1 | E13: =COUNTIFS('Attendance View'!$C:$C,$B13,'Attendance View'!$M:$M,"<="&ROUND($E$11*1440,0),'Attendance View'!$N:$N,">"&ROUND($E$11*1440,0)) -> 25 | F13: =COUNTIFS('Attendance View'!$C:$C,$B13,'Attendance View'!$M:$M,"<="&ROUND($E$11*1440,0),'Attendance View'!$N:$N,">"&ROUND($E$11*1440,0),'Attendance View'!$J:$J,"Yes") -> 17 | G13: =COUNTIFS('Attendance View'!$C:$C,$B13,'Attendance View'!$M:$M,"<="&ROUND($E$11*1440,0),'Attendance View'!$N:$N,">"&ROUND($E$11*1440,0),'Attendance View'!$J:$J,"No") -> 0 | H13: =COUNTIFS('Attendance View'!$C:$C,$B13,'Attendance View'!$M:$M,"<="&ROUND($E$11*1440,0),'Attendance View'!$N:$N,">"&ROUND($E$11*1440,0),'Attendance View'!$J:$J,"Not Productive") -> 8 | I13: =COUNTIFS('Attendance View'!$C:$C,$B13,'Attendance View'!$M:$M,"<="&ROUND($I$11*1440,0),'Attendance View'!$N:$N,">"&ROUND($I$11*1440,0)) -> 25 | J13: =COUNTIFS('Attendance View'!$C:$C,$B13,'Attendance View'!$M:$M,"<="&ROUND($I$11*1440,0),'Attendance View'!$N:$N,">"&ROUND($I$11*1440,0),'Attendance View'!$J:$J,"Yes") -> 17 | K13: =COUNTIFS('Attendance View'!$C:$C,$B13,'Attendance View'!$M:$M,"<="&ROUND($I$11*1440,0),'Attendance View'!$N:$N,">"&ROUND($I$11*1440,0),'Attendance View'!$J:$J,"No") -> 0 | L13: =COUNTIFS('Attendance View'!$C:$C,$B13,'Attendance View'!$M:$M,"<="&ROUND($I$11*1440,0),'Attendance View'!$N:$N,">"&ROUND($I$11*1440,0),'Attendance View'!$J:$J,"Not Productive") -> 8 | M13: =COUNTIFS('Attendance View'!$C:$C,$B13,'Attendance View'!$M:$M,"<="&ROUND($M$11*1440,0),'Attendance View'!$N:$N,">"&ROUND($M$11*1440,0)) -> 23 | N13: =COUNTIFS('Attendance View'!$C:$C,$B13,'Attendance View'!$M:$M,"<="&ROUND($M$11*1440,0),'Attendance View'!$N:$N,">"&ROUND($M$11*1440,0),'Attendance View'!$J:$J,"Yes") -> 0 | O13: =COUNTIFS('Attendance View'!$C:$C,$B13,'Attendance View'!$M:$M,"<="&ROUND($M$11*1440,0),'Attendance View'!$N:$N,">"&ROUND($M$11*1440,0),'Attendance View'!$J:$J,"No") -> 22 | P13: =COUNTIFS('Attendance View'!$C:$C,$B13,'Attendance View'!$M:$M,"<="&ROUND($M$11*1440,0),'Attendance View'!$N:$N,">"&ROUND($M$11*1440,0),'Attendance View'!$J:$J,"Not Productive") -> 1 | R13: Agent blocks parsed from text | X13: ='Attendance View'!$AH$3 -> 181
B14: LOB_2 | E14: =COUNTIFS('Attendance View'!$C:$C,$B14,'Attendance View'!$M:$M,"<="&ROUND($E$11*1440,0),'Attendance View'!$N:$N,">"&ROUND($E$11*1440,0)) -> 28 | F14: =COUNTIFS('Attendance View'!$C:$C,$B14,'Attendance View'!$M:$M,"<="&ROUND($E$11*1440,0),'Attendance View'!$N:$N,">"&ROUND($E$11*1440,0),'Attendance View'!$J:$J,"Yes") -> 25 | G14: =COUNTIFS('Attendance View'!$C:$C,$B14,'Attendance View'!$M:$M,"<="&ROUND($E$11*1440,0),'Attendance View'!$N:$N,">"&ROUND($E$11*1440,0),'Attendance View'!$J:$J,"No") -> 1 | H14: =COUNTIFS('Attendance View'!$C:$C,$B14,'Attendance View'!$M:$M,"<="&ROUND($E$11*1440,0),'Attendance View'!$N:$N,">"&ROUND($E$11*1440,0),'Attendance View'!$J:$J,"Not Productive") -> 2 | I14: =COUNTIFS('Attendance View'!$C:$C,$B14,'Attendance View'!$M:$M,"<="&ROUND($I$11*1440,0),'Attendance View'!$N:$N,">"&ROUND($I$11*1440,0)) -> 30 | J14: =COUNTIFS('Attendance View'!$C:$C,$B14,'Attendance View'!$M:$M,"<="&ROUND($I$11*1440,0),'Attendance View'!$N:$N,">"&ROUND($I$11*1440,0),'Attendance View'!$J:$J,"Yes") -> 27 | K14: =COUNTIFS('Attendance View'!$C:$C,$B14,'Attendance View'!$M:$M,"<="&ROUND($I$11*1440,0),'Attendance View'!$N:$N,">"&ROUND($I$11*1440,0),'Attendance View'!$J:$J,"No") -> 1 | L14: =COUNTIFS('Attendance View'!$C:$C,$B14,'Attendance View'!$M:$M,"<="&ROUND($I$11*1440,0),'Attendance View'!$N:$N,">"&ROUND($I$11*1440,0),'Attendance View'!$J:$J,"Not Productive") -> 2 | M14: =COUNTIFS('Attendance View'!$C:$C,$B14,'Attendance View'!$M:$M,"<="&ROUND($M$11*1440,0),'Attendance View'!$N:$N,">"&ROUND($M$11*1440,0)) -> 19 | N14: =COUNTIFS('Attendance View'!$C:$C,$B14,'Attendance View'!$M:$M,"<="&ROUND($M$11*1440,0),'Attendance View'!$N:$N,">"&ROUND($M$11*1440,0),'Attendance View'!$J:$J,"Yes") -> 2 | O14: =COUNTIFS('Attendance View'!$C:$C,$B14,'Attendance View'!$M:$M,"<="&ROUND($M$11*1440,0),'Attendance View'!$N:$N,">"&ROUND($M$11*1440,0),'Attendance View'!$J:$J,"No") -> 15 | P14: =COUNTIFS('Attendance View'!$C:$C,$B14,'Attendance View'!$M:$M,"<="&ROUND($M$11*1440,0),'Attendance View'!$N:$N,">"&ROUND($M$11*1440,0),'Attendance View'!$J:$J,"Not Productive") -> 2 | R14: Web Tool users not in HC | X14: =COUNTIF('Attendance View'!$AA$5:$AA$1504,"N") -> 3
B15: LOB_3 | E15: =COUNTIFS('Attendance View'!$C:$C,$B15,'Attendance View'!$M:$M,"<="&ROUND($E$11*1440,0),'Attendance View'!$N:$N,">"&ROUND($E$11*1440,0)) -> 7 | F15: =COUNTIFS('Attendance View'!$C:$C,$B15,'Attendance View'!$M:$M,"<="&ROUND($E$11*1440,0),'Attendance View'!$N:$N,">"&ROUND($E$11*1440,0),'Attendance View'!$J:$J,"Yes") -> 7 | G15: =COUNTIFS('Attendance View'!$C:$C,$B15,'Attendance View'!$M:$M,"<="&ROUND($E$11*1440,0),'Attendance View'!$N:$N,">"&ROUND($E$11*1440,0),'Attendance View'!$J:$J,"No") -> 0 | H15: =COUNTIFS('Attendance View'!$C:$C,$B15,'Attendance View'!$M:$M,"<="&ROUND($E$11*1440,0),'Attendance View'!$N:$N,">"&ROUND($E$11*1440,0),'Attendance View'!$J:$J,"Not Productive") -> 0 | I15: =COUNTIFS('Attendance View'!$C:$C,$B15,'Attendance View'!$M:$M,"<="&ROUND($I$11*1440,0),'Attendance View'!$N:$N,">"&ROUND($I$11*1440,0)) -> 14 | J15: =COUNTIFS('Attendance View'!$C:$C,$B15,'Attendance View'!$M:$M,"<="&ROUND($I$11*1440,0),'Attendance View'!$N:$N,">"&ROUND($I$11*1440,0),'Attendance View'!$J:$J,"Yes") -> 11 | K15: =COUNTIFS('Attendance View'!$C:$C,$B15,'Attendance View'!$M:$M,"<="&ROUND($I$11*1440,0),'Attendance View'!$N:$N,">"&ROUND($I$11*1440,0),'Attendance View'!$J:$J,"No") -> 2 | L15: =COUNTIFS('Attendance View'!$C:$C,$B15,'Attendance View'!$M:$M,"<="&ROUND($I$11*1440,0),'Attendance View'!$N:$N,">"&ROUND($I$11*1440,0),'Attendance View'!$J:$J,"Not Productive") -> 1 | M15: =COUNTIFS('Attendance View'!$C:$C,$B15,'Attendance View'!$M:$M,"<="&ROUND($M$11*1440,0),'Attendance View'!$N:$N,">"&ROUND($M$11*1440,0)) -> 7 | N15: =COUNTIFS('Attendance View'!$C:$C,$B15,'Attendance View'!$M:$M,"<="&ROUND($M$11*1440,0),'Attendance View'!$N:$N,">"&ROUND($M$11*1440,0),'Attendance View'!$J:$J,"Yes") -> 4 | O15: =COUNTIFS('Attendance View'!$C:$C,$B15,'Attendance View'!$M:$M,"<="&ROUND($M$11*1440,0),'Attendance View'!$N:$N,">"&ROUND($M$11*1440,0),'Attendance View'!$J:$J,"No") -> 2 | P15: =COUNTIFS('Attendance View'!$C:$C,$B15,'Attendance View'!$M:$M,"<="&ROUND($M$11*1440,0),'Attendance View'!$N:$N,">"&ROUND($M$11*1440,0),'Attendance View'!$J:$J,"Not Productive") -> 1 | R15: Scheduled but not found in Web Tool | X15: =COUNTIFS('Attendance View'!$J:$J,"Unmatched",'Attendance View'!$M:$M,"<="&$AA$3,'Attendance View'!$N:$N,">"&$AA$3) -> 0
B16: LOB_4 | E16: =COUNTIFS('Attendance View'!$C:$C,$B16,'Attendance View'!$M:$M,"<="&ROUND($E$11*1440,0),'Attendance View'!$N:$N,">"&ROUND($E$11*1440,0)) -> 0 | F16: =COUNTIFS('Attendance View'!$C:$C,$B16,'Attendance View'!$M:$M,"<="&ROUND($E$11*1440,0),'Attendance View'!$N:$N,">"&ROUND($E$11*1440,0),'Attendance View'!$J:$J,"Yes") -> 0 | G16: =COUNTIFS('Attendance View'!$C:$C,$B16,'Attendance View'!$M:$M,"<="&ROUND($E$11*1440,0),'Attendance View'!$N:$N,">"&ROUND($E$11*1440,0),'Attendance View'!$J:$J,"No") -> 0 | H16: =COUNTIFS('Attendance View'!$C:$C,$B16,'Attendance View'!$M:$M,"<="&ROUND($E$11*1440,0),'Attendance View'!$N:$N,">"&ROUND($E$11*1440,0),'Attendance View'!$J:$J,"Not Productive") -> 0 | I16: =COUNTIFS('Attendance View'!$C:$C,$B16,'Attendance View'!$M:$M,"<="&ROUND($I$11*1440,0),'Attendance View'!$N:$N,">"&ROUND($I$11*1440,0)) -> 0 | J16: =COUNTIFS('Attendance View'!$C:$C,$B16,'Attendance View'!$M:$M,"<="&ROUND($I$11*1440,0),'Attendance View'!$N:$N,">"&ROUND($I$11*1440,0),'Attendance View'!$J:$J,"Yes") -> 0 | K16: =COUNTIFS('Attendance View'!$C:$C,$B16,'Attendance View'!$M:$M,"<="&ROUND($I$11*1440,0),'Attendance View'!$N:$N,">"&ROUND($I$11*1440,0),'Attendance View'!$J:$J,"No") -> 0 | L16: =COUNTIFS('Attendance View'!$C:$C,$B16,'Attendance View'!$M:$M,"<="&ROUND($I$11*1440,0),'Attendance View'!$N:$N,">"&ROUND($I$11*1440,0),'Attendance View'!$J:$J,"Not Productive") -> 0 | M16: =COUNTIFS('Attendance View'!$C:$C,$B16,'Attendance View'!$M:$M,"<="&ROUND($M$11*1440,0),'Attendance View'!$N:$N,">"&ROUND($M$11*1440,0)) -> 0 | N16: =COUNTIFS('Attendance View'!$C:$C,$B16,'Attendance View'!$M:$M,"<="&ROUND($M$11*1440,0),'Attendance View'!$N:$N,">"&ROUND($M$11*1440,0),'Attendance View'!$J:$J,"Yes") -> 0 | O16: =COUNTIFS('Attendance View'!$C:$C,$B16,'Attendance View'!$M:$M,"<="&ROUND($M$11*1440,0),'Attendance View'!$N:$N,">"&ROUND($M$11*1440,0),'Attendance View'!$J:$J,"No") -> 0 | P16: =COUNTIFS('Attendance View'!$C:$C,$B16,'Attendance View'!$M:$M,"<="&ROUND($M$11*1440,0),'Attendance View'!$N:$N,">"&ROUND($M$11*1440,0),'Attendance View'!$J:$J,"Not Productive") -> 0 | R16: Scheduled with unmapped AUX code | X16: =COUNTIFS('Attendance View'!$J:$J,"Unmapped",'Attendance View'!$M:$M,"<="&$AA$3,'Attendance View'!$N:$N,">"&$AA$3) -> 0
B17: TOTAL | E17: =COUNTIFS('Attendance View'!$M:$M,"<="&ROUND($E$11*1440,0),'Attendance View'!$N:$N,">"&ROUND($E$11*1440,0)) -> 60 | F17: =COUNTIFS('Attendance View'!$M:$M,"<="&ROUND($E$11*1440,0),'Attendance View'!$N:$N,">"&ROUND($E$11*1440,0),'Attendance View'!$J:$J,"Yes") -> 49 | G17: =COUNTIFS('Attendance View'!$M:$M,"<="&ROUND($E$11*1440,0),'Attendance View'!$N:$N,">"&ROUND($E$11*1440,0),'Attendance View'!$J:$J,"No") -> 1 | H17: =COUNTIFS('Attendance View'!$M:$M,"<="&ROUND($E$11*1440,0),'Attendance View'!$N:$N,">"&ROUND($E$11*1440,0),'Attendance View'!$J:$J,"Not Productive") -> 10 | I17: =COUNTIFS('Attendance View'!$M:$M,"<="&ROUND($I$11*1440,0),'Attendance View'!$N:$N,">"&ROUND($I$11*1440,0)) -> 69 | J17: =COUNTIFS('Attendance View'!$M:$M,"<="&ROUND($I$11*1440,0),'Attendance View'!$N:$N,">"&ROUND($I$11*1440,0),'Attendance View'!$J:$J,"Yes") -> 55 | K17: =COUNTIFS('Attendance View'!$M:$M,"<="&ROUND($I$11*1440,0),'Attendance View'!$N:$N,">"&ROUND($I$11*1440,0),'Attendance View'!$J:$J,"No") -> 3 | L17: =COUNTIFS('Attendance View'!$M:$M,"<="&ROUND($I$11*1440,0),'Attendance View'!$N:$N,">"&ROUND($I$11*1440,0),'Attendance View'!$J:$J,"Not Productive") -> 11 | M17: =COUNTIFS('Attendance View'!$M:$M,"<="&ROUND($M$11*1440,0),'Attendance View'!$N:$N,">"&ROUND($M$11*1440,0)) -> 49 | N17: =COUNTIFS('Attendance View'!$M:$M,"<="&ROUND($M$11*1440,0),'Attendance View'!$N:$N,">"&ROUND($M$11*1440,0),'Attendance View'!$J:$J,"Yes") -> 6 | O17: =COUNTIFS('Attendance View'!$M:$M,"<="&ROUND($M$11*1440,0),'Attendance View'!$N:$N,">"&ROUND($M$11*1440,0),'Attendance View'!$J:$J,"No") -> 39 | P17: =COUNTIFS('Attendance View'!$M:$M,"<="&ROUND($M$11*1440,0),'Attendance View'!$N:$N,">"&ROUND($M$11*1440,0),'Attendance View'!$J:$J,"Not Productive") -> 4 | R17: Duplicate HR IDs in roster | X17: =SUMPRODUCT(('Attendance View'!$A$5:$A$1504<>"")*(COUNTIF('Attendance View'!$A$5:$A$1504,'Attendance View'!$A$5:$A$1504)>1)) -> 0
B18: Attendance % | E18: =IF(E17=0,0,(F17+H17)/E17) -> 0.98333333 | I18: =IF(I17=0,0,(J17+L17)/I17) -> 0.95652174 | M18: =IF(M17=0,0,(N17+P17)/M17) -> 0.20408163 | R18: Roster capacity used | X18: =COUNTIF('Attendance View'!$A$5:$A$1504,">0")/1500 -> 0.096666667
B19: Productive % | E19: =IF(E17=0,0,F17/E17) -> 0.81666667 | I19: =IF(I17=0,0,J17/I17) -> 0.79710145 | M19: =IF(M17=0,0,N17/M17) -> 0.12244898 | R19: Amber = needs attention. Unmatched Web Tool users (leavers / test accounts) are kept out of HC on purpose and never counted.
B20: NP Shrinkage % | E20: =IF(E17=0,0,H17/E17) -> 0.16666667 | I20: =IF(I17=0,0,L17/I17) -> 0.15942029 | M20: =IF(M17=0,0,P17/M17) -> 0.081632653
B21: =IF(AND(SUM(E13:E16)=E17,SUM(I13:I16)=I17,SUM(M13:M16)=M17),"✔ LOB rows reconcile to Total at all checkpoints.","⚠ LOB rows do not reconcile to Total – check HC for blank / unknown LOB values.")&" Highlighted block = checkpoint the loaded AUX snapshot belongs to; dimmed blocks project that same snapshot onto their shift window." -> ✔ LOB rows reconcile to Total at all checkpoints. Highlighted block = checkpoint the loaded AUX snapshot belongs to; dimmed blocks project that same snapshot onto their shift window.
B22: VISUAL ANALYSIS
B23: Scheduled vs Working vs Absent vs NP · by checkpoint | K23: ="Live NP AUX Breakdown · "&TEXT($AA$3/1440,"hh:mm")&" CET" -> Live NP AUX Breakdown · 10:30 CET | R23: ="LOB conformance · "&TEXT($AA$3/1440,"hh:mm")&" CET" -> LOB conformance · 10:30 CET
B35: FORMULA ENGINEERING SHOWCASE · a 6-row text-parsing engine built with native formulas only
B36: WHAT THE WEB TOOL GIVES US (Ctrl+A → Ctrl+C → paste) – one 6-line block per agent | N36: FORMULA CHAIN (simplified)
B37: 1 | C37: Employee State | H37: constant marker – block start | N37: 1 · Step | P37: # Setup = previous + 6 (3, 9, 15, …)
B38: 2 | C38: DA | H38: agent initials (ignored)
B39: 3 | C39: Dummy_USR 1 ⍽ 29016 | H39: username + NBSP (CHAR 160) + 5-digit EXT | N39: 2 · Fetch | P39: Pack = XLOOKUP(# Setup, Line#, Active Text)
B40: 4 | C40: Break (NON MAN) ⍽·⍽ 06:36 | H40: current AUX + duration in that AUX
B41: 5 | C41: ⍽ 0 ⍽⍽ 0 ⍽⍽ 3 | H41: counters (not used) | N41: 3 · Split | P41: Agent = TEXTBEFORE(Pack, UNICHAR(160)) EXT = TEXTAFTER (Pack, UNICHAR(160))
B42: 6 | C42: ⍽ 00:35:32 ⍽⍽ 00:00:00 … | H42: timestamps (not used)
N43: 4 · AUX | P43: AUX = TEXTBEFORE(Pack 2, NBSP) · Duration = TEXTAFTER(Pack 2, NBSP&"·")
B44: THE TRICK · rows 3 and 4 of block n sit at 3 + 6·(n−1) and 4 + 6·(n−1)
B45: A counter column ('# Setup', 'Pack') starts at 3 and adds +6 per row, so one XLOOKUP per agent lands exactly on that agent's line – no Ctrl+F, no sorting, no VBA. Blocks 1…1,500 are pre-wired. | N45: 5 · Join | P45: Productive = XLOOKUP(AUX, 'RAW Data'!J:J, K:K) Shift = INDEX / MATCH on 'Agents Shift' by date
N47: 6 · Count | P47: COUNTIFS(LOB, Start≤T, End>T, Productive=…) → whole-column, grows with HC
B48: RESULT · scheduled agents × live AUX × productivity class → client-ready counts for 10:30, 13:30 and 18:30 CET in under a minute. Every paste can be archived in 'Extraction History' = the audit trail the web tool never had.
N49: Impact: 45+ min/day of manual Ctrl+F work → < 1 min per report, 3 reports/day.
B52: CHART DATA · formula-driven feeds for the charts above (do not overwrite)
B53: Chkpt | C53: Scheduled | D53: Working | E53: Absent | F53: NP AUXs | H53: Live NP AUX code | K53: Agents | M53: LOB | N53: Attendance % | O53: Productive % | P53: NP Shrink %
B54: =TEXT(E11,"hh:mm") -> 10:30 | C54: =E17 -> 60 | D54: =F17 -> 49 | E54: =G17 -> 1 | F54: =H17 -> 10 | H54: Lunch | K54: =COUNTIFS('Attendance View'!$H:$H,$H54,'Attendance View'!$J:$J,"Not Productive",'Attendance View'!$M:$M,"<="&$AA$3,'Attendance View'!$N:$N,">"&$AA$3) -> 3 | M54: LOB_1 | N54: =IF(COUNTIFS('Attendance View'!$C:$C,$M54,'Attendance View'!$M:$M,"<="&$AA$3,'Attendance View'!$N:$N,">"&$AA$3)=0,0,(COUNTIFS('Attendance View'!$C:$C,$M54,'Attendance View'!$M:$M,"<="&$AA$3,'Attendance View'!$N:$N,">"&$AA$3,'Attendance View'!$J:$J,"Yes")+COUNTIFS('Attendance View'!$C:$C,$M54,'Attendance View'!$M:$M,"<="&$AA$3,'Attendance View'!$N:$N,">"&$AA$3,'Attendance View'!$J:$J,"Not Productive"))/COUNTIFS('Attendance View'!$C:$C,$M54,'Attendance View'!$M:$M,"<="&$AA$3,'Attendance View'!$N:$N,">"&$AA$3)) -> 1 | O54: =IF(COUNTIFS('Attendance View'!$C:$C,$M54,'Attendance View'!$M:$M,"<="&$AA$3,'Attendance View'!$N:$N,">"&$AA$3)=0,0,COUNTIFS('Attendance View'!$C:$C,$M54,'Attendance View'!$M:$M,"<="&$AA$3,'Attendance View'!$N:$N,">"&$AA$3,'Attendance View'!$J:$J,"Yes")/COUNTIFS('Attendance View'!$C:$C,$M54,'Attendance View'!$M:$M,"<="&$AA$3,'Attendance View'!$N:$N,">"&$AA$3)) -> 0.68 | P54: =IF(COUNTIFS('Attendance View'!$C:$C,$M54,'Attendance View'!$M:$M,"<="&$AA$3,'Attendance View'!$N:$N,">"&$AA$3)=0,0,COUNTIFS('Attendance View'!$C:$C,$M54,'Attendance View'!$M:$M,"<="&$AA$3,'Attendance View'!$N:$N,">"&$AA$3,'Attendance View'!$J:$J,"Not Productive")/COUNTIFS('Attendance View'!$C:$C,$M54,'Attendance View'!$M:$M,"<="&$AA$3,'Attendance View'!$N:$N,">"&$AA$3)) -> 0.32
B55: =TEXT(I11,"hh:mm") -> 13:30 | C55: =I17 -> 69 | D55: =J17 -> 55 | E55: =K17 -> 3 | F55: =L17 -> 11 | H55: Break (NON MAN) | K55: =COUNTIFS('Attendance View'!$H:$H,$H55,'Attendance View'!$J:$J,"Not Productive",'Attendance View'!$M:$M,"<="&$AA$3,'Attendance View'!$N:$N,">"&$AA$3) -> 2 | M55: LOB_2 | N55: =IF(COUNTIFS('Attendance View'!$C:$C,$M55,'Attendance View'!$M:$M,"<="&$AA$3,'Attendance View'!$N:$N,">"&$AA$3)=0,0,(COUNTIFS('Attendance View'!$C:$C,$M55,'Attendance View'!$M:$M,"<="&$AA$3,'Attendance View'!$N:$N,">"&$AA$3,'Attendance View'!$J:$J,"Yes")+COUNTIFS('Attendance View'!$C:$C,$M55,'Attendance View'!$M:$M,"<="&$AA$3,'Attendance View'!$N:$N,">"&$AA$3,'Attendance View'!$J:$J,"Not Productive"))/COUNTIFS('Attendance View'!$C:$C,$M55,'Attendance View'!$M:$M,"<="&$AA$3,'Attendance View'!$N:$N,">"&$AA$3)) -> 0.96428571 | O55: =IF(COUNTIFS('Attendance View'!$C:$C,$M55,'Attendance View'!$M:$M,"<="&$AA$3,'Attendance View'!$N:$N,">"&$AA$3)=0,0,COUNTIFS('Attendance View'!$C:$C,$M55,'Attendance View'!$M:$M,"<="&$AA$3,'Attendance View'!$N:$N,">"&$AA$3,'Attendance View'!$J:$J,"Yes")/COUNTIFS('Attendance View'!$C:$C,$M55,'Attendance View'!$M:$M,"<="&$AA$3,'Attendance View'!$N:$N,">"&$AA$3)) -> 0.89285714 | P55: =IF(COUNTIFS('Attendance View'!$C:$C,$M55,'Attendance View'!$M:$M,"<="&$AA$3,'Attendance View'!$N:$N,">"&$AA$3)=0,0,COUNTIFS('Attendance View'!$C:$C,$M55,'Attendance View'!$M:$M,"<="&$AA$3,'Attendance View'!$N:$N,">"&$AA$3,'Attendance View'!$J:$J,"Not Productive")/COUNTIFS('Attendance View'!$C:$C,$M55,'Attendance View'!$M:$M,"<="&$AA$3,'Attendance View'!$N:$N,">"&$AA$3)) -> 0.071428571
B56: =TEXT(M11,"hh:mm") -> 18:30 | C56: =M17 -> 49 | D56: =N17 -> 6 | E56: =O17 -> 39 | F56: =P17 -> 4 | H56: Break (MAN) | K56: =COUNTIFS('Attendance View'!$H:$H,$H56,'Attendance View'!$J:$J,"Not Productive",'Attendance View'!$M:$M,"<="&$AA$3,'Attendance View'!$N:$N,">"&$AA$3) -> 0 | M56: LOB_3 | N56: =IF(COUNTIFS('Attendance View'!$C:$C,$M56,'Attendance View'!$M:$M,"<="&$AA$3,'Attendance View'!$N:$N,">"&$AA$3)=0,0,(COUNTIFS('Attendance View'!$C:$C,$M56,'Attendance View'!$M:$M,"<="&$AA$3,'Attendance View'!$N:$N,">"&$AA$3,'Attendance View'!$J:$J,"Yes")+COUNTIFS('Attendance View'!$C:$C,$M56,'Attendance View'!$M:$M,"<="&$AA$3,'Attendance View'!$N:$N,">"&$AA$3,'Attendance View'!$J:$J,"Not Productive"))/COUNTIFS('Attendance View'!$C:$C,$M56,'Attendance View'!$M:$M,"<="&$AA$3,'Attendance View'!$N:$N,">"&$AA$3)) -> 1 | O56: =IF(COUNTIFS('Attendance View'!$C:$C,$M56,'Attendance View'!$M:$M,"<="&$AA$3,'Attendance View'!$N:$N,">"&$AA$3)=0,0,COUNTIFS('Attendance View'!$C:$C,$M56,'Attendance View'!$M:$M,"<="&$AA$3,'Attendance View'!$N:$N,">"&$AA$3,'Attendance View'!$J:$J,"Yes")/COUNTIFS('Attendance View'!$C:$C,$M56,'Attendance View'!$M:$M,"<="&$AA$3,'Attendance View'!$N:$N,">"&$AA$3)) -> 1 | P56: =IF(COUNTIFS('Attendance View'!$C:$C,$M56,'Attendance View'!$M:$M,"<="&$AA$3,'Attendance View'!$N:$N,">"&$AA$3)=0,0,COUNTIFS('Attendance View'!$C:$C,$M56,'Attendance View'!$M:$M,"<="&$AA$3,'Attendance View'!$N:$N,">"&$AA$3,'Attendance View'!$J:$J,"Not Productive")/COUNTIFS('Attendance View'!$C:$C,$M56,'Attendance View'!$M:$M,"<="&$AA$3,'Attendance View'!$N:$N,">"&$AA$3)) -> 0
H57: Coaching | K57: =COUNTIFS('Attendance View'!$H:$H,$H57,'Attendance View'!$J:$J,"Not Productive",'Attendance View'!$M:$M,"<="&$AA$3,'Attendance View'!$N:$N,">"&$AA$3) -> 4 | M57: LOB_4 | N57: =IF(COUNTIFS('Attendance View'!$C:$C,$M57,'Attendance View'!$M:$M,"<="&$AA$3,'Attendance View'!$N:$N,">"&$AA$3)=0,0,(COUNTIFS('Attendance View'!$C:$C,$M57,'Attendance View'!$M:$M,"<="&$AA$3,'Attendance View'!$N:$N,">"&$AA$3,'Attendance View'!$J:$J,"Yes")+COUNTIFS('Attendance View'!$C:$C,$M57,'Attendance View'!$M:$M,"<="&$AA$3,'Attendance View'!$N:$N,">"&$AA$3,'Attendance View'!$J:$J,"Not Productive"))/COUNTIFS('Attendance View'!$C:$C,$M57,'Attendance View'!$M:$M,"<="&$AA$3,'Attendance View'!$N:$N,">"&$AA$3)) -> 0 | O57: =IF(COUNTIFS('Attendance View'!$C:$C,$M57,'Attendance View'!$M:$M,"<="&$AA$3,'Attendance View'!$N:$N,">"&$AA$3)=0,0,COUNTIFS('Attendance View'!$C:$C,$M57,'Attendance View'!$M:$M,"<="&$AA$3,'Attendance View'!$N:$N,">"&$AA$3,'Attendance View'!$J:$J,"Yes")/COUNTIFS('Attendance View'!$C:$C,$M57,'Attendance View'!$M:$M,"<="&$AA$3,'Attendance View'!$N:$N,">"&$AA$3)) -> 0 | P57: =IF(COUNTIFS('Attendance View'!$C:$C,$M57,'Attendance View'!$M:$M,"<="&$AA$3,'Attendance View'!$N:$N,">"&$AA$3)=0,0,COUNTIFS('Attendance View'!$C:$C,$M57,'Attendance View'!$M:$M,"<="&$AA$3,'Attendance View'!$N:$N,">"&$AA$3,'Attendance View'!$J:$J,"Not Productive")/COUNTIFS('Attendance View'!$C:$C,$M57,'Attendance View'!$M:$M,"<="&$AA$3,'Attendance View'!$N:$N,">"&$AA$3)) -> 0
H58: Training | K58: =COUNTIFS('Attendance View'!$H:$H,$H58,'Attendance View'!$J:$J,"Not Productive",'Attendance View'!$M:$M,"<="&$AA$3,'Attendance View'!$N:$N,">"&$AA$3) -> 0
...

Sheet Attendance View
A1: ATTENDANCE VIEW · agent-level roster | Web Tool text drop-zone → column P | P1: ▼ PASTE WEB TOOL PAGE TEXT HERE (Ctrl+A, Ctrl+C on the web tool → paste in P5)
A2: REPORT DATE | C2: STATE SOURCE | E2: LIVE-PASTE CHECKPOINT | G2: STATUS | AC2: Checkpoint # | AD2: Snapshot col | AE2: Shift col | AF2: Active T (min) | AG2: Lines found | AH2: Blocks parsed
A3: 46182 | C3: Snapshot 10:30 | E3: 10:30 CET | G3: =IF($AE$3="","⚠ No published shifts for this date in 'Agents Shift' – Scheduled will show 0.",IF($AG$3=0,IF($C$3="Live Paste","⚠ Drop zone is empty – paste the Web Tool page text in column P.","⚠ No archived extraction for this date / time in 'Extraction History'."),"✔ "&$AG$3&" text lines → "&$AH$3&" agent blocks parsed · checkpoint "&TEXT($AF$3/1440,"hh:mm")&" CET")) -> ✔ 1086 text lines → 181 agent blocks parsed · checkpoint 10:30 CET | AC3: =IFERROR(IF($C$3="Live Paste",MATCH($E$3,{"10:30 CET","13:30 CET","18:30 CET"},0),MATCH($C$3,{"Snapshot 10:30","Snapshot 13:30","Snapshot 18:30"},0)),2) -> 1 | AD3: =IF($C$3="Live Paste","",IFERROR(MATCH(INT($A$3),'Extraction History'!$1:$1,0)+$AC$3-1,"")) -> 33 | AE3: =IFERROR(MATCH(INT($A$3),'Agents Shift'!$F$2:$S$2,0),"") -> 3 | AF3: =CHOOSE($AC$3,630,810,1110) -> 630 | AG3: =IF($C$3="Live Paste",COUNTA($P$5:$P$9104),IF($AD$3="",0,COUNTA(INDEX('Extraction History'!$A$3:$DT$9102,0,$AD$3)))) -> 1086 | AH3: =COUNTIF($U$5:$U$1504,"?*") -> 181
A4: HR ID | B4: Agent Name | C4: LOB | D4: Team Leader | E4: Start | F4: End | G4: Web Tool Username | H4: Current AUX | I4: In AUX for | J4: Productive | K4: Comment | M4: Start (min) | N4: End (min) | P4: Web Tool Extraction (drop zone) | Q4: Line # | R4: Active Text | S4: # Setup | T4: Pack | U4: Agent | V4: EXT | W4: 2# Setup | X4: Pack 2 | Y4: Duration | Z4: AUXs | AA4: In HC?
A5: =IF(INDEX('Agents Shift'!$B:$B,ROW())="","",INDEX('Agents Shift'!$B:$B,ROW())) -> 100041 | B5: =IF($A5="","",_xlfn.XLOOKUP($A5,HC!$A:$A,HC!$B:$B,"")) -> Dummy_AG 41 | C5: =IF($A5="","",_xlfn.XLOOKUP($A5,HC!$A:$A,HC!$E:$E,"")) -> LOB_2 | D5: =IF($A5="","",_xlfn.XLOOKUP($A5,HC!$A:$A,HC!$D:$D,"")) -> Dummy_TL 4 | E5: =IF(OR($A5="",$AE$3=""),"",IFERROR(IF(ISBLANK(INDEX('Agents Shift'!$F:$S,MATCH($A5,'Agents Shift'!$B:$B,0),$AE$3)),"",INDEX('Agents Shift'!$F:$S,MATCH($A5,'Agents Shift'!$B:$B,0),$AE$3)),"")) -> 0.33333333 | F5: =IF(OR($A5="",$AE$3=""),"",IFERROR(IF(ISBLANK(INDEX('Agents Shift'!$F:$S,MATCH($A5,'Agents Shift'!$B:$B,0),$AE$3+1)),"",INDEX('Agents Shift'!$F:$S,MATCH($A5,'Agents Shift'!$B:$B,0),$AE$3+1)),"")) -> 0.66666667 | G5: =IF($A5="","",_xlfn.XLOOKUP($A5,HC!$A:$A,HC!$C:$C,"")) -> Dummy_USR 41 | H5: =IF($G5="","",_xlfn.XLOOKUP($G5,$U:$U,$Z:$Z,"Not in Web Tool")) -> Available | I5: =IF($G5="","",_xlfn.XLOOKUP($G5,$U:$U,$Y:$Y,"")) -> 05:17 | J5: =IF(OR($A5="",$H5=""),"",IF($H5="Not in Web Tool","Unmatched",_xlfn.XLOOKUP($H5,'RAW Data'!$E:$E,'RAW Data'!$F:$F,"Unmapped"))) -> Yes | K5: =_xlfn.IFS($J5="Yes","YES",$J5="","",$J5="No","NO",$J5="Not Productive",$H5,TRUE,$J5) -> YES | M5: =IF(ISNUMBER($E5),ROUND($E5*1440,0),"") -> 480 | N5: =IF(AND(ISNUMBER($E5),ISNUMBER($F5)),ROUND($F5*1440,0)+IF($F5<=$E5,1440,0),"") -> 960 | P5: Employee State | Q5: 1 | R5: =IF($C$3="Live Paste",IF($P5="","",$P5&""),IF($AD$3="","",INDEX('Extraction History'!$A$3:$DT$9102,$Q5,$AD$3)&"")) -> Employee State | S5: 3 | T5: =_xlfn.XLOOKUP($S5,$Q$5:$Q$9104,$R$5:$R$9104,"") -> Dummy_USR 27 29137 | U5: =IFERROR(_xlfn.TEXTBEFORE($T5,_xlfn.UNICHAR(160),1),"") -> Dummy_USR 27 | V5: =IF($U5="","",_xlfn.TEXTAFTER($T5,_xlfn.UNICHAR(160),1)) -> 29137 | W5: 4 | X5: =_xlfn.XLOOKUP($W5,$Q$5:$Q$9104,$R$5:$R$9104,"") -> Offline · 21:00:02 | Y5: =IFERROR(IF($Z5="","",TRIM(SUBSTITUTE(_xlfn.TEXTAFTER($X5,_xlfn.UNICHAR(160)&"·",1),_xlfn.UNICHAR(160)," "))),"") -> 21:00:02 | Z5: =IFERROR(_xlfn.TEXTBEFORE($X5,_xlfn.UNICHAR(160),1),$X5) -> Offline | AA5: =IF($U5="","",IF(COUNTIF(HC!$C:$C,$U5)>0,"Y",IF(COUNTIF($U$5:$U5,$U5)=1,"N","dup"))) -> Y
A6: =IF(INDEX('Agents Shift'!$B:$B,ROW())="","",INDEX('Agents Shift'!$B:$B,ROW())) -> 100062 | B6: =IF($A6="","",_xlfn.XLOOKUP($A6,HC!$A:$A,HC!$B:$B,"")) -> Dummy_AG 62 | C6: =IF($A6="","",_xlfn.XLOOKUP($A6,HC!$A:$A,HC!$E:$E,"")) -> LOB_2 | D6: =IF($A6="","",_xlfn.XLOOKUP($A6,HC!$A:$A,HC!$D:$D,"")) -> Dummy_TL 5 | E6: =IF(OR($A6="",$AE$3=""),"",IFERROR(IF(ISBLANK(INDEX('Agents Shift'!$F:$S,MATCH($A6,'Agents Shift'!$B:$B,0),$AE$3)),"",INDEX('Agents Shift'!$F:$S,MATCH($A6,'Agents Shift'!$B:$B,0),$AE$3)),"")) -> OFF | F6: =IF(OR($A6="",$AE$3=""),"",IFERROR(IF(ISBLANK(INDEX('Agents Shift'!$F:$S,MATCH($A6,'Agents Shift'!$B:$B,0),$AE$3+1)),"",INDEX('Agents Shift'!$F:$S,MATCH($A6,'Agents Shift'!$B:$B,0),$AE$3+1)),"")) -> OFF | G6: =IF($A6="","",_xlfn.XLOOKUP($A6,HC!$A:$A,HC!$C:$C,"")) -> Dummy_USR 62 | H6: =IF($G6="","",_xlfn.XLOOKUP($G6,$U:$U,$Z:$Z,"Not in Web Tool")) -> Offline | I6: =IF($G6="","",_xlfn.XLOOKUP($G6,$U:$U,$Y:$Y,"")) -> 20:59:35 | J6: =IF(OR($A6="",$H6=""),"",IF($H6="Not in Web Tool","Unmatched",_xlfn.XLOOKUP($H6,'RAW Data'!$E:$E,'RAW Data'!$F:$F,"Unmapped"))) -> No | K6: =_xlfn.IFS($J6="Yes","YES",$J6="","",$J6="No","NO",$J6="Not Productive",$H6,TRUE,$J6) -> NO | M6: =IF(ISNUMBER($E6),ROUND($E6*1440,0),"") | N6: =IF(AND(ISNUMBER($E6),ISNUMBER($F6)),ROUND($F6*1440,0)+IF($F6<=$E6,1440,0),"") | P6: DA | Q6: 2 | R6: =IF($C$3="Live Paste",IF($P6="","",$P6&""),IF($AD$3="","",INDEX('Extraction History'!$A$3:$DT$9102,$Q6,$AD$3)&"")) -> DA | S6: =S5+6 -> 9 | T6: =_xlfn.XLOOKUP($S6,$Q$5:$Q$9104,$R$5:$R$9104,"") -> Dummy_USR 33 29135 | U6: =IFERROR(_xlfn.TEXTBEFORE($T6,_xlfn.UNICHAR(160),1),"") -> Dummy_USR 33 | V6: =IF($U6="","",_xlfn.TEXTAFTER($T6,_xlfn.UNICHAR(160),1)) -> 29135 | W6: =W5+6 -> 10 | X6: =_xlfn.XLOOKUP($W6,$Q$5:$Q$9104,$R$5:$R$9104,"") -> Offline · 4:20:58:41 | Y6: =IFERROR(IF($Z6="","",TRIM(SUBSTITUTE(_xlfn.TEXTAFTER($X6,_xlfn.UNICHAR(160)&"·",1),_xlfn.UNICHAR(160)," "))),"") -> 4:20:58:41 | Z6: =IFERROR(_xlfn.TEXTBEFORE($X6,_xlfn.UNICHAR(160),1),$X6) -> Offline | AA6: =IF($U6="","",IF(COUNTIF(HC!$C:$C,$U6)>0,"Y",IF(COUNTIF($U$5:$U6,$U6)=1,"N","dup"))) -> Y
A7: =IF(INDEX('Agents Shift'!$B:$B,ROW())="","",INDEX('Agents Shift'!$B:$B,ROW())) -> 100092 | B7: =IF($A7="","",_xlfn.XLOOKUP($A7,HC!$A:$A,HC!$B:$B,"")) -> Dummy_AG 92 | C7: =IF($A7="","",_xlfn.XLOOKUP($A7,HC!$A:$A,HC!$E:$E,"")) -> LOB_1 | D7: =IF($A7="","",_xlfn.XLOOKUP($A7,HC!$A:$A,HC!$D:$D,"")) -> Dummy_TL 2 | E7: =IF(OR($A7="",$AE$3=""),"",IFERROR(IF(ISBLANK(INDEX('Agents Shift'!$F:$S,MATCH($A7,'Agents Shift'!$B:$B,0),$AE$3)),"",INDEX('Agents Shift'!$F:$S,MATCH($A7,'Agents Shift'!$B:$B,0),$AE$3)),"")) -> 0.33333333 | F7: =IF(OR($A7="",$AE$3=""),"",IFERROR(IF(ISBLANK(INDEX('Agents Shift'!$F:$S,MATCH($A7,'Agents Shift'!$B:$B,0),$AE$3+1)),"",INDEX('Agents Shift'!$F:$S,MATCH($A7,'Agents Shift'!$B:$B,0),$AE$3+1)),"")) -> 0.66666667 | G7: =IF($A7="","",_xlfn.XLOOKUP($A7,HC!$A:$A,HC!$C:$C,"")) -> Dummy_USR 92 | H7: =IF($G7="","",_xlfn.XLOOKUP($G7,$U:$U,$Z:$Z,"Not in Web Tool")) -> Lunch | I7: =IF($G7="","",_xlfn.XLOOKUP($G7,$U:$U,$Y:$Y,"")) -> 15:42 | J7: =IF(OR($A7="",$H7=""),"",IF($H7="Not in Web Tool","Unmatched",_xlfn.XLOOKUP($H7,'RAW Data'!$E:$E,'RAW Data'!$F:$F,"Unmapped"))) -> Not Productive | K7: =_xlfn.IFS($J7="Yes","YES",$J7="","",$J7="No","NO",$J7="Not Productive",$H7,TRUE,$J7) -> Lunch | M7: =IF(ISNUMBER($E7),ROUND($E7*1440,0),"") -> 480 | N7: =IF(AND(ISNUMBER($E7),ISNUMBER($F7)),ROUND($F7*1440,0)+IF($F7<=$E7,1440,0),"") -> 960 | P7: Dummy_USR 27 29137 | Q7: 3 | R7: =IF($C$3="Live Paste",IF($P7="","",$P7&""),IF($AD$3="","",INDEX('Extraction History'!$A$3:$DT$9102,$Q7,$AD$3)&"")) -> Dummy_USR 27 29137 | S7: =S6+6 -> 15 | T7: =_xlfn.XLOOKUP($S7,$Q$5:$Q$9104,$R$5:$R$9104,"") -> Dummy_USR 85 20123 | U7: =IFERROR(_xlfn.TEXTBEFORE($T7,_xlfn.UNICHAR(160),1),"") -> Dummy_USR 85 | V7: =IF($U7="","",_xlfn.TEXTAFTER($T7,_xlfn.UNICHAR(160),1)) -> 20123 | W7: =W6+6 -> 16 | X7: =_xlfn.XLOOKUP($W7,$Q$5:$Q$9104,$R$5:$R$9104,"") -> Offline · 14:00:11 | Y7: =IFERROR(IF($Z7="","",TRIM(SUBSTITUTE(_xlfn.TEXTAFTER($X7,_xlfn.UNICHAR(160)&"·",1),_xlfn.UNICHAR(160)," "))),"") -> 14:00:11 | Z7: =IFERROR(_xlfn.TEXTBEFORE($X7,_xlfn.UNICHAR(160),1),$X7) -> Offline | AA7: =IF($U7="","",IF(COUNTIF(HC!$C:$C,$U7)>0,"Y",IF(COUNTIF($U$5:$U7,$U7)=1,"N","dup"))) -> Y
A8: =IF(INDEX('Agents Shift'!$B:$B,ROW())="","",INDEX('Agents Shift'!$B:$B,ROW())) -> 100073 | B8: =IF($A8="","",_xlfn.XLOOKUP($A8,HC!$A:$A,HC!$B:$B,"")) -> Dummy_AG 73 | C8: =IF($A8="","",_xlfn.XLOOKUP($A8,HC!$A:$A,HC!$E:$E,"")) -> LOB_1 | D8: =IF($A8="","",_xlfn.XLOOKUP($A8,HC!$A:$A,HC!$D:$D,"")) -> Dummy_TL 5 | E8: =IF(OR($A8="",$AE$3=""),"",IFERROR(IF(ISBLANK(INDEX('Agents Shift'!$F:$S,MATCH($A8,'Agents Shift'!$B:$B,0),$AE$3)),"",INDEX('Agents Shift'!$F:$S,MATCH($A8,'Agents Shift'!$B:$B,0),$AE$3)),"")) -> 0.33333333 | F8: =IF(OR($A8="",$AE$3=""),"",IFERROR(IF(ISBLANK(INDEX('Agents Shift'!$F:$S,MATCH($A8,'Agents Shift'!$B:$B,0),$AE$3+1)),"",INDEX('Agents Shift'!$F:$S,MATCH($A8,'Agents Shift'!$B:$B,0),$AE$3+1)),"")) -> 0.66666667 | G8: =IF($A8="","",_xlfn.XLOOKUP($A8,HC!$A:$A,HC!$C:$C,"")) -> Dummy_USR 73 | H8: =IF($G8="","",_xlfn.XLOOKUP($G8,$U:$U,$Z:$Z,"Not in Web Tool")) -> Outbound | I8: =IF($G8="","",_xlfn.XLOOKUP($G8,$U:$U,$Y:$Y,"")) -> 12:29 | J8: =IF(OR($A8="",$H8=""),"",IF($H8="Not in Web Tool","Unmatched",_xlfn.XLOOKUP($H8,'RAW Data'!$E:$E,'RAW Data'!$F:$F,"Unmapped"))) -> Yes | K8: =_xlfn.IFS($J8="Yes","YES",$J8="","",$J8="No","NO",$J8="Not Productive",$H8,TRUE,$J8) -> YES | M8: =IF(ISNUMBER($E8),ROUND($E8*1440,0),"") -> 480 | N8: =IF(AND(ISNUMBER($E8),ISNUMBER($F8)),ROUND($F8*1440,0)+IF($F8<=$E8,1440,0),"") -> 960 | P8: Offline · 21:00:02 | Q8: 4 | R8: =IF($C$3="Live Paste",IF($P8="","",$P8&""),IF($AD$3="","",INDEX('Extraction History'!$A$3:$DT$9102,$Q8,$AD$3)&"")) -> Offline · 21:00:02 | S8: =S7+6 -> 21 | T8: =_xlfn.XLOOKUP($S8,$Q$5:$Q$9104,$R$5:$R$9104,"") -> Dummy_USR 38 20248 | U8: =IFERROR(_xlfn.TEXTBEFORE($T8,_xlfn.UNICHAR(160),1),"") -> Dummy_USR 38 | V8: =IF($U8="","",_xlfn.TEXTAFTER($T8,_xlfn.UNICHAR(160),1)) -> 20248 | W8: =W7+6 -> 22 | X8: =_xlfn.XLOOKUP($W8,$Q$5:$Q$9104,$R$5:$R$9104,"") -> Available · 01:15 | Y8: =IFERROR(IF($Z8="","",TRIM(SUBSTITUTE(_xlfn.TEXTAFTER($X8,_xlfn.UNICHAR(160)&"·",1),_xlfn.UNICHAR(160)," "))),"") -> 01:15 | Z8: =IFERROR(_xlfn.TEXTBEFORE($X8,_xlfn.UNICHAR(160),1),$X8) -> Available | AA8: =IF($U8="","",IF(COUNTIF(HC!$C:$C,$U8)>0,"Y",IF(COUNTIF($U$5:$U8,$U8)=1,"N","dup"))) -> Y
A9: =IF(INDEX('Agents Shift'!$B:$B,ROW())="","",INDEX('Agents Shift'!$B:$B,ROW())) -> 100002 | B9: =IF($A9="","",_xlfn.XLOOKUP($A9,HC!$A:$A,HC!$B:$B,"")) -> Dummy_AG 2 | C9: =IF($A9="","",_xlfn.XLOOKUP($A9,HC!$A:$A,HC!$E:$E,"")) -> LOB_2 | D9: =IF($A9="","",_xlfn.XLOOKUP($A9,HC!$A:$A,HC!$D:$D,"")) -> Dummy_TL 2 | E9: =IF(OR($A9="",$AE$3=""),"",IFERROR(IF(ISBLANK(INDEX('Agents Shift'!$F:$S,MATCH($A9,'Agents Shift'!$B:$B,0),$AE$3)),"",INDEX('Agents Shift'!$F:$S,MATCH($A9,'Agents Shift'!$B:$B,0),$AE$3)),"")) -> 0.33333333 | F9: =IF(OR($A9="",$AE$3=""),"",IFERROR(IF(ISBLANK(INDEX('Agents Shift'!$F:$S,MATCH($A9,'Agents Shift'!$B:$B,0),$AE$3+1)),"",INDEX('Agents Shift'!$F:$S,MATCH($A9,'Agents Shift'!$B:$B,0),$AE$3+1)),"")) -> 0.66666667 | G9: =IF($A9="","",_xlfn.XLOOKUP($A9,HC!$A:$A,HC!$C:$C,"")) -> Dummy_USR 2 | H9: =IF($G9="","",_xlfn.XLOOKUP($G9,$U:$U,$Z:$Z,"Not in Web Tool")) -> Available | I9: =IF($G9="","",_xlfn.XLOOKUP($G9,$U:$U,$Y:$Y,"")) -> 06:39 | J9: =IF(OR($A9="",$H9=""),"",IF($H9="Not in Web Tool","Unmatched",_xlfn.XLOOKUP($H9,'RAW Data'!$E:$E,'RAW Data'!$F:$F,"Unmapped"))) -> Yes | K9: =_xlfn.IFS($J9="Yes","YES",$J9="","",$J9="No","NO",$J9="Not Productive",$H9,TRUE,$J9) -> YES | M9: =IF(ISNUMBER($E9),ROUND($E9*1440,0),"") -> 480 | N9: =IF(AND(ISNUMBER($E9),ISNUMBER($F9)),ROUND($F9*1440,0)+IF($F9<=$E9,1440,0),"") -> 960 | P9: 0 0 0 | Q9: 5 | R9: =IF($C$3="Live Paste",IF($P9="","",$P9&""),IF($AD$3="","",INDEX('Extraction History'!$A$3:$DT$9102,$Q9,$AD$3)&"")) -> 0 0 0 | S9: =S8+6 -> 27 | T9: =_xlfn.XLOOKUP($S9,$Q$5:$Q$9104,$R$5:$R$9104,"") -> Dummy_USR 152 25260 | U9: =IFERROR(_xlfn.TEXTBEFORE($T9,_xlfn.UNICHAR(160),1),"") -> Dummy_USR 152 | V9: =IF($U9="","",_xlfn.TEXTAFTER($T9,_xlfn.UNICHAR(160),1)) -> 25260 | W9: =W8+6 -> 28 | X9: =_xlfn.XLOOKUP($W9,$Q$5:$Q$9104,$R$5:$R$9104,"") -> Offline · 15:21:50 | Y9: =IFERROR(IF($Z9="","",TRIM(SUBSTITUTE(_xlfn.TEXTAFTER($X9,_xlfn.UNICHAR(160)&"·",1),_xlfn.UNICHAR(160)," "))),"") -> 15:21:50 | Z9: =IFERROR(_xlfn.TEXTBEFORE($X9,_xlfn.UNICHAR(160),1),$X9) -> Offline | AA9: =IF($U9="","",IF(COUNTIF(HC!$C:$C,$U9)>0,"Y",IF(COUNTIF($U$5:$U9,$U9)=1,"N","dup"))) -> Y
A10: =IF(INDEX('Agents Shift'!$B:$B,ROW())="","",INDEX('Agents Shift'!$B:$B,ROW())) -> 100008 | B10: =IF($A10="","",_xlfn.XLOOKUP($A10,HC!$A:$A,HC!$B:$B,"")) -> Dummy_AG 8 | C10: =IF($A10="","",_xlfn.XLOOKUP($A10,HC!$A:$A,HC!$E:$E,"")) -> LOB_2 | D10: =IF($A10="","",_xlfn.XLOOKUP($A10,HC!$A:$A,HC!$D:$D,"")) -> Dummy_TL 5 | E10: =IF(OR($A10="",$AE$3=""),"",IFERROR(IF(ISBLANK(INDEX('Agents Shift'!$F:$S,MATCH($A10,'Agents Shift'!$B:$B,0),$AE$3)),"",INDEX('Agents Shift'!$F:$S,MATCH($A10,'Agents Shift'!$B:$B,0),$AE$3)),"")) -> 0.33333333 | F10: =IF(OR($A10="",$AE$3=""),"",IFERROR(IF(ISBLANK(INDEX('Agents Shift'!$F:$S,MATCH($A10,'Agents Shift'!$B:$B,0),$AE$3+1)),"",INDEX('Agents Shift'!$F:$S,MATCH($A10,'Agents Shift'!$B:$B,0),$AE$3+1)),"")) -> 0.66666667 | G10: =IF($A10="","",_xlfn.XLOOKUP($A10,HC!$A:$A,HC!$C:$C,"")) -> Dummy_USR 8 | H10: =IF($G10="","",_xlfn.XLOOKUP($G10,$U:$U,$Z:$Z,"Not in Web Tool")) -> Available | I10: =IF($G10="","",_xlfn.XLOOKUP($G10,$U:$U,$Y:$Y,"")) -> 04:24 | J10: =IF(OR($A10="",$H10=""),"",IF($H10="Not in Web Tool","Unmatched",_xlfn.XLOOKUP($H10,'RAW Data'!$E:$E,'RAW Data'!$F:$F,"Unmapped"))) -> Yes | K10: =_xlfn.IFS($J10="Yes","YES",$J10="","",$J10="No","NO",$J10="Not Productive",$H10,TRUE,$J10) -> YES | M10: =IF(ISNUMBER($E10),ROUND($E10*1440,0),"") -> 480 | N10: =IF(AND(ISNUMBER($E10),ISNUMBER($F10)),ROUND($F10*1440,0)+IF($F10<=$E10,1440,0),"") -> 960 | P10: 00:00:00 00:00:00 --:--:-- | Q10: 6 | R10: =IF($C$3="Live Paste",IF($P10="","",$P10&""),IF($AD$3="","",INDEX('Extraction History'!$A$3:$DT$9102,$Q10,$AD$3)&"")) -> 00:00:00 00:00:00 --:--:-- | S10: =S9+6 -> 33 | T10: =_xlfn.XLOOKUP($S10,$Q$5:$Q$9104,$R$5:$R$9104,"") -> Dummy_USR 125 25193 | U10: =IFERROR(_xlfn.TEXTBEFORE($T10,_xlfn.UNICHAR(160),1),"") -> Dummy_USR 125 | V10: =IF($U10="","",_xlfn.TEXTAFTER($T10,_xlfn.UNICHAR(160),1)) -> 25193 | W10: =W9+6 -> 34 | X10: =_xlfn.XLOOKUP($W10,$Q$5:$Q$9104,$R$5:$R$9104,"") -> Offline · 13:59:28 | Y10: =IFERROR(IF($Z10="","",TRIM(SUBSTITUTE(_xlfn.TEXTAFTER($X10,_xlfn.UNICHAR(160)&"·",1),_xlfn.UNICHAR(160)," "))),"") -> 13:59:28 | Z10: =IFERROR(_xlfn.TEXTBEFORE($X10,_xlfn.UNICHAR(160),1),$X10) -> Offline | AA10: =IF($U10="","",IF(COUNTIF(HC!$C:$C,$U10)>0,"Y",IF(COUNTIF($U$5:$U10,$U10)=1,"N","dup"))) -> Y
A11: =IF(INDEX('Agents Shift'!$B:$B,ROW())="","",INDEX('Agents Shift'!$B:$B,ROW())) -> 100085 | B11: =IF($A11="","",_xlfn.XLOOKUP($A11,HC!$A:$A,HC!$B:$B,"")) -> Dummy_AG 85 | C11: =IF($A11="","",_xlfn.XLOOKUP($A11,HC!$A:$A,HC!$E:$E,"")) -> LOB_1 | D11: =IF($A11="","",_xlfn.XLOOKUP($A11,HC!$A:$A,HC!$D:$D,"")) -> Dummy_TL 7 | E11: =IF(OR($A11="",$AE$3=""),"",IFERROR(IF(ISBLANK(INDEX('Agents Shift'!$F:$S,MATCH($A11,'Agents Shift'!$B:$B,0),$AE$3)),"",INDEX('Agents Shift'!$F:$S,MATCH($A11,'Agents Shift'!$B:$B,0),$AE$3)),"")) -> 0.625 | F11: =IF(OR($A11="",$AE$3=""),"",IFERROR(IF(ISBLANK(INDEX('Agents Shift'!$F:$S,MATCH($A11,'Agents Shift'!$B:$B,0),$AE$3+1)),"",INDEX('Agents Shift'!$F:$S,MATCH($A11,'Agents Shift'!$B:$B,0),$AE$3+1)),"")) -> 0.95833333 | G11: =IF($A11="","",_xlfn.XLOOKUP($A11,HC!$A:$A,HC!$C:$C,"")) -> Dummy_USR 85 | H11: =IF($G11="","",_xlfn.XLOOKUP($G11,$U:$U,$Z:$Z,"Not in Web Tool")) -> Offline | I11: =IF($G11="","",_xlfn.XLOOKUP($G11,$U:$U,$Y:$Y,"")) -> 14:00:11 | J11: =IF(OR($A11="",$H11=""),"",IF($H11="Not in Web Tool","Unmatched",_xlfn.XLOOKUP($H11,'RAW Data'!$E:$E,'RAW Data'!$F:$F,"Unmapped"))) -> No | K11: =_xlfn.IFS($J11="Yes","YES",$J11="","",$J11="No","NO",$J11="Not Productive",$H11,TRUE,$J11) -> NO | M11: =IF(ISNUMBER($E11),ROUND($E11*1440,0),"") -> 900 | N11: =IF(AND(ISNUMBER($E11),ISNUMBER($F11)),ROUND($F11*1440,0)+IF($F11<=$E11,1440,0),"") -> 1380 | P11: Employee State | Q11: 7 | R11: =IF($C$3="Live Paste",IF($P11="","",$P11&""),IF($AD$3="","",INDEX('Extraction History'!$A$3:$DT$9102,$Q11,$AD$3)&"")) -> Employee State | S11: =S10+6 -> 39 | T11: =_xlfn.XLOOKUP($S11,$Q$5:$Q$9104,$R$5:$R$9104,"") -> Dummy_USR 168 25263 | U11: =IFERROR(_xlfn.TEXTBEFORE($T11,_xlfn.UNICHAR(160),1),"") -> Dummy_USR 168 | V11: =IF($U11="","",_xlfn.TEXTAFTER($T11,_xlfn.UNICHAR(160),1)) -> 25263 | W11: =W10+6 -> 40 | X11: =_xlfn.XLOOKUP($W11,$Q$5:$Q$9104,$R$5:$R$9104,"") -> Offline · 13:58:54 | Y11: =IFERROR(IF($Z11="","",TRIM(SUBSTITUTE(_xlfn.TEXTAFTER($X11,_xlfn.UNICHAR(160)&"·",1),_xlfn.UNICHAR(160)," "))),"") -> 13:58:54 | Z11: =IFERROR(_xlfn.TEXTBEFORE($X11,_xlfn.UNICHAR(160),1),$X11) -> Offline | AA11: =IF($U11="","",IF(COUNTIF(HC!$C:$C,$U11)>0,"Y",IF(COUNTIF($U$5:$U11,$U11)=1,"N","dup"))) -> Y
A12: =IF(INDEX('Agents Shift'!$B:$B,ROW())="","",INDEX('Agents Shift'!$B:$B,ROW())) -> 100107 | B12: =IF($A12="","",_xlfn.XLOOKUP($A12,HC!$A:$A,HC!$B:$B,"")) -> Dummy_AG 107 | C12: =IF($A12="","",_xlfn.XLOOKUP($A12,HC!$A:$A,HC!$E:$E,"")) -> LOB_1 | D12: =IF($A12="","",_xlfn.XLOOKUP($A12,HC!$A:$A,HC!$D:$D,"")) -> Dummy_TL 7 | E12: =IF(OR($A12="",$AE$3=""),"",IFERROR(IF(ISBLANK(INDEX('Agents Shift'!$F:$S,MATCH($A12,'Agents Shift'!$B:$B,0),$AE$3)),"",INDEX('Agents Shift'!$F:$S,MATCH($A12,'Agents Shift'!$B:$B,0),$AE$3)),"")) -> 0.625 | F12: =IF(OR($A12="",$AE$3=""),"",IFERROR(IF(ISBLANK(INDEX('Agents Shift'!$F:$S,MATCH($A12,'Agents Shift'!$B:$B,0),$AE$3+1)),"",INDEX('Agents Shift'!$F:$S,MATCH($A12,'Agents Shift'!$B:$B,0),$AE$3+1)),"")) -> 0.91666667 | G12: =IF($A12="","",_xlfn.XLOOKUP($A12,HC!$A:$A,HC!$C:$C,"")) -> Dummy_USR 107 | H12: =IF($G12="","",_xlfn.XLOOKUP($G12,$U:$U,$Z:$Z,"Not in Web Tool")) -> Offline | I12: =IF($G12="","",_xlfn.XLOOKUP($G12,$U:$U,$Y:$Y,"")) -> 13:59:40 | J12: =IF(OR($A12="",$H12=""),"",IF($H12="Not in Web Tool","Unmatched",_xlfn.XLOOKUP($H12,'RAW Data'!$E:$E,'RAW Data'!$F:$F,"Unmapped"))) -> No | K12: =_xlfn.IFS($J12="Yes","YES",$J12="","",$J12="No","NO",$J12="Not Productive",$H12,TRUE,$J12) -> NO | M12: =IF(ISNUMBER($E12),ROUND($E12*1440,0),"") -> 900 | N12: =IF(AND(ISNUMBER($E12),ISNUMBER($F12)),ROUND($F12*1440,0)+IF($F12<=$E12,1440,0),"") -> 1320 | P12: DA | Q12: 8 | R12: =IF($C$3="Live Paste",IF($P12="","",$P12&""),IF($AD$3="","",INDEX('Extraction History'!$A$3:$DT$9102,$Q12,$AD$3)&"")) -> DA | S12: =S11+6 -> 45 | T12: =_xlfn.XLOOKUP($S12,$Q$5:$Q$9104,$R$5:$R$9104,"") -> Dummy_USR 167 25250 | U12: =IFERROR(_xlfn.TEXTBEFORE($T12,_xlfn.UNICHAR(160),1),"") -> Dummy_USR 167 | V12: =IF($U12="","",_xlfn.TEXTAFTER($T12,_xlfn.UNICHAR(160),1)) -> 25250 | W12: =W11+6 -> 46 | X12: =_xlfn.XLOOKUP($W12,$Q$5:$Q$9104,$R$5:$R$9104,"") -> Offline · 13:59:55 | Y12: =IFERROR(IF($Z12="","",TRIM(SUBSTITUTE(_xlfn.TEXTAFTER($X12,_xlfn.UNICHAR(160)&"·",1),_xlfn.UNICHAR(160)," "))),"") -> 13:59:55 | Z12: =IFERROR(_xlfn.TEXTBEFORE($X12,_xlfn.UNICHAR(160),1),$X12) -> Offline | AA12: =IF($U12="","",IF(COUNTIF(HC!$C:$C,$U12)>0,"Y",IF(COUNTIF($U$5:$U12,$U12)=1,"N","dup"))) -> Y
A13: =IF(INDEX('Agents Shift'!$B:$B,ROW())="","",INDEX('Agents Shift'!$B:$B,ROW())) -> 100097 | B13: =IF($A13="","",_xlfn.XLOOKUP($A13,HC!$A:$A,HC!$B:$B,"")) -> Dummy_AG 97 | C13: =IF($A13="","",_xlfn.XLOOKUP($A13,HC!$A:$A,HC!$E:$E,"")) -> LOB_2 | D13: =IF($A13="","",_xlfn.XLOOKUP($A13,HC!$A:$A,HC!$D:$D,"")) -> Dummy_TL 10 | E13: =IF(OR($A13="",$AE$3=""),"",IFERROR(IF(ISBLANK(INDEX('Agents Shift'!$F:$S,MATCH($A13,'Agents Shift'!$B:$B,0),$AE$3)),"",INDEX('Agents Shift'!$F:$S,MATCH($A13,'Agents Shift'!$B:$B,0),$AE$3)),"")) -> 0.66666667 | F13: =IF(OR($A13="",$AE$3=""),"",IFERROR(IF(ISBLANK(INDEX('Agents Shift'!$F:$S,MATCH($A13,'Agents Shift'!$B:$B,0),$AE$3+1)),"",INDEX('Agents Shift'!$F:$S,MATCH($A13,'Agents Shift'!$B:$B,0),$AE$3+1)),"")) -> 0.9375 | G13: =IF($A13="","",_xlfn.XLOOKUP($A13,HC!$A:$A,HC!$C:$C,"")) -> Dummy_USR 97 | H13: =IF($G13="","",_xlfn.XLOOKUP($G13,$U:$U,$Z:$Z,"Not in Web Tool")) -> Offline | I13: =IF($G13="","",_xlfn.XLOOKUP($G13,$U:$U,$Y:$Y,"")) -> 13:59:56 | J13: =IF(OR($A13="",$H13=""),"",IF($H13="Not in Web Tool","Unmatched",_xlfn.XLOOKUP($H13,'RAW Data'!$E:$E,'RAW Data'!$F:$F,"Unmapped"))) -> No | K13: =_xlfn.IFS($J13="Yes","YES",$J13="","",$J13="No","NO",$J13="Not Productive",$H13,TRUE,$J13) -> NO | M13: =IF(ISNUMBER($E13),ROUND($E13*1440,0),"") -> 960 | N13: =IF(AND(ISNUMBER($E13),ISNUMBER($F13)),ROUND($F13*1440,0)+IF($F13<=$E13,1440,0),"") -> 1350 | P13: Dummy_USR 33 29135 | Q13: 9 | R13: =IF($C$3="Live Paste",IF($P13="","",$P13&""),IF($AD$3="","",INDEX('Extraction History'!$A$3:$DT$9102,$Q13,$AD$3)&"")) -> Dummy_USR 33 29135 | S13: =S12+6 -> 51 | T13: =_xlfn.XLOOKUP($S13,$Q$5:$Q$9104,$R$5:$R$9104,"") -> Dummy_USR 166 25246 | U13: =IFERROR(_xlfn.TEXTBEFORE($T13,_xlfn.UNICHAR(160),1),"") -> Dummy_USR 166 | V13: =IF($U13="","",_xlfn.TEXTAFTER($T13,_xlfn.UNICHAR(160),1)) -> 25246 | W13: =W12+6 -> 52 | X13: =_xlfn.XLOOKUP($W13,$Q$5:$Q$9104,$R$5:$R$9104,"") -> Offline · 8:14:00:35 | Y13: =IFERROR(IF($Z13="","",TRIM(SUBSTITUTE(_xlfn.TEXTAFTER($X13,_xlfn.UNICHAR(160)&"·",1),_xlfn.UNICHAR(160)," "))),"") -> 8:14:00:35 | Z13: =IFERROR(_xlfn.TEXTBEFORE($X13,_xlfn.UNICHAR(160),1),$X13) -> Offline | AA13: =IF($U13="","",IF(COUNTIF(HC!$C:$C,$U13)>0,"Y",IF(COUNTIF($U$5:$U13,$U13)=1,"N","dup"))) -> Y
A14: =IF(INDEX('Agents Shift'!$B:$B,ROW())="","",INDEX('Agents Shift'!$B:$B,ROW())) -> 100017 | B14: =IF($A14="","",_xlfn.XLOOKUP($A14,HC!$A:$A,HC!$B:$B,"")) -> Dummy_AG 17 | C14: =IF($A14="","",_xlfn.XLOOKUP($A14,HC!$A:$A,HC!$E:$E,"")) -> LOB_2 | D14: =IF($A14="","",_xlfn.XLOOKUP($A14,HC!$A:$A,HC!$D:$D,"")) -> Dummy_TL 2 | E14: =IF(OR($A14="",$AE$3=""),"",IFERROR(IF(ISBLANK(INDEX('Agents Shift'!$F:$S,MATCH($A14,'Agents Shift'!$B:$B,0),$AE$3)),"",INDEX('Agents Shift'!$F:$S,MATCH($A14,'Agents Shift'!$B:$B,0),$AE$3)),"")) -> VAC | F14: =IF(OR($A14="",$AE$3=""),"",IFERROR(IF(ISBLANK(INDEX('Agents Shift'!$F:$S,MATCH($A14,'Agents Shift'!$B:$B,0),$AE$3+1)),"",INDEX('Agents Shift'!$F:$S,MATCH($A14,'Agents Shift'!$B:$B,0),$AE$3+1)),"")) -> VAC | G14: =IF($A14="","",_xlfn.XLOOKUP($A14,HC!$A:$A,HC!$C:$C,"")) -> Dummy_USR 17 | H14: =IF($G14="","",_xlfn.XLOOKUP($G14,$U:$U,$Z:$Z,"Not in Web Tool")) -> Unknown | I14: =IF($G14="","",_xlfn.XLOOKUP($G14,$U:$U,$Y:$Y,"")) | J14: =IF(OR($A14="",$H14=""),"",IF($H14="Not in Web Tool","Unmatched",_xlfn.XLOOKUP($H14,'RAW Data'!$E:$E,'RAW Data'!$F:$F,"Unmapped"))) -> Not Productive | K14: =_xlfn.IFS($J14="Yes","YES",$J14="","",$J14="No","NO",$J14="Not Productive",$H14,TRUE,$J14) -> Unknown | M14: =IF(ISNUMBER($E14),ROUND($E14*1440,0),"") | N14: =IF(AND(ISNUMBER($E14),ISNUMBER($F14)),ROUND($F14*1440,0)+IF($F14<=$E14,1440,0),"") | P14: Offline · 4:20:58:41 | Q14: 10 | R14: =IF($C$3="Live Paste",IF($P14="","",$P14&""),IF($AD$3="","",INDEX('Extraction History'!$A$3:$DT$9102,$Q14,$AD$3)&"")) -> Offline · 4:20:58:41 | S14: =S13+6 -> 57 | T14: =_xlfn.XLOOKUP($S14,$Q$5:$Q$9104,$R$5:$R$9104,"") -> Dummy_USR 165 25256 | U14: =IFERROR(_xlfn.TEXTBEFORE($T14,_xlfn.UNICHAR(160),1),"") -> Dummy_USR 165 | V14: =IF($U14="","",_xlfn.TEXTAFTER($T14,_xlfn.UNICHAR(160),1)) -> 25256 | W14: =W13+6 -> 58 | X14: =_xlfn.XLOOKUP($W14,$Q$5:$Q$9104,$R$5:$R$9104,"") -> Unknown | Y14: =IFERROR(IF($Z14="","",TRIM(SUBSTITUTE(_xlfn.TEXTAFTER($X14,_xlfn.UNICHAR(160)&"·",1),_xlfn.UNICHAR(160)," "))),"") | Z14: =IFERROR(_xlfn.TEXTBEFORE($X14,_xlfn.UNICHAR(160),1),$X14) -> Unknown | AA14: =IF($U14="","",IF(COUNTIF(HC!$C:$C,$U14)>0,"Y",IF(COUNTIF($U$5:$U14,$U14)=1,"N","dup"))) -> Y
A15: =IF(INDEX('Agents Shift'!$B:$B,ROW())="","",INDEX('Agents Shift'!$B:$B,ROW())) -> 100110 | B15: =IF($A15="","",_xlfn.XLOOKUP($A15,HC!$A:$A,HC!$B:$B,"")) -> Dummy_AG 110 | C15: =IF($A15="","",_xlfn.XLOOKUP($A15,HC!$A:$A,HC!$E:$E,"")) -> LOB_1 | D15: =IF($A15="","",_xlfn.XLOOKUP($A15,HC!$A:$A,HC!$D:$D,"")) -> Dummy_TL 1 | E15: =IF(OR($A15="",$AE$3=""),"",IFERROR(IF(ISBLANK(INDEX('Agents Shift'!$F:$S,MATCH($A15,'Agents Shift'!$B:$B,0),$AE$3)),"",INDEX('Agents Shift'!$F:$S,MATCH($A15,'Agents Shift'!$B:$B,0),$AE$3)),"")) -> OFF | F15: =IF(OR($A15="",$AE$3=""),"",IFERROR(IF(ISBLANK(INDEX('Agents Shift'!$F:$S,MATCH($A15,'Agents Shift'!$B:$B,0),$AE$3+1)),"",INDEX('Agents Shift'!$F:$S,MATCH($A15,'Agents Shift'!$B:$B,0),$AE$3+1)),"")) -> OFF | G15: =IF($A15="","",_xlfn.XLOOKUP($A15,HC!$A:$A,HC!$C:$C,"")) -> Dummy_USR 110 | H15: =IF($G15="","",_xlfn.XLOOKUP($G15,$U:$U,$Z:$Z,"Not in Web Tool")) -> Offline | I15: =IF($G15="","",_xlfn.XLOOKUP($G15,$U:$U,$Y:$Y,"")) -> 21:00:08 | J15: =IF(OR($A15="",$H15=""),"",IF($H15="Not in Web Tool","Unmatched",_xlfn.XLOOKUP($H15,'RAW Data'!$E:$E,'RAW Data'!$F:$F,"Unmapped"))) -> No | K15: =_xlfn.IFS($J15="Yes","YES",$J15="","",$J15="No","NO",$J15="Not Productive",$H15,TRUE,$J15) -> NO | M15: =IF(ISNUMBER($E15),ROUND($E15*1440,0),"") | N15: =IF(AND(ISNUMBER($E15),ISNUMBER($F15)),ROUND($F15*1440,0)+IF($F15<=$E15,1440,0),"") | P15: 0 0 0 | Q15: 11 | R15: =IF($C$3="Live Paste",IF($P15="","",$P15&""),IF($AD$3="","",INDEX('Extraction History'!$A$3:$DT$9102,$Q15,$AD$3)&"")) -> 0 0 0 | S15: =S14+6 -> 63 | T15: =_xlfn.XLOOKUP($S15,$Q$5:$Q$9104,$R$5:$R$9104,"") -> Dummy_USR 164 25253 | U15: =IFERROR(_xlfn.TEXTBEFORE($T15,_xlfn.UNICHAR(160),1),"") -> Dummy_USR 164 | V15: =IF($U15="","",_xlfn.TEXTAFTER($T15,_xlfn.UNICHAR(160),1)) -> 25253 | W15: =W14+6 -> 64 | X15: =_xlfn.XLOOKUP($W15,$Q$5:$Q$9104,$R$5:$R$9104,"") -> Unknown | Y15: =IFERROR(IF($Z15="","",TRIM(SUBSTITUTE(_xlfn.TEXTAFTER($X15,_xlfn.UNICHAR(160)&"·",1),_xlfn.UNICHAR(160)," "))),"") | Z15: =IFERROR(_xlfn.TEXTBEFORE($X15,_xlfn.UNICHAR(160),1),$X15) -> Unknown | AA15: =IF($U15="","",IF(COUNTIF(HC!$C:$C,$U15)>0,"Y",IF(COUNTIF($U$5:$U15,$U15)=1,"N","dup"))) -> Y
A16: =IF(INDEX('Agents Shift'!$B:$B,ROW())="","",INDEX('Agents Shift'!$B:$B,ROW())) -> 100071 | B16: =IF($A16="","",_xlfn.XLOOKUP($A16,HC!$A:$A,HC!$B:$B,"")) -> Dummy_AG 71 | C16: =IF($A16="","",_xlfn.XLOOKUP($A16,HC!$A:$A,HC!$E:$E,"")) -> LOB_2 | D16: =IF($A16="","",_xlfn.XLOOKUP($A16,HC!$A:$A,HC!$D:$D,"")) -> Dummy_TL 5 | E16: =IF(OR($A16="",$AE$3=""),"",IFERROR(IF(ISBLANK(INDEX('Agents Shift'!$F:$S,MATCH($A16,'Agents Shift'!$B:$B,0),$AE$3)),"",INDEX('Agents Shift'!$F:$S,MATCH($A16,'Agents Shift'!$B:$B,0),$AE$3)),"")) -> 0.33333333 | F16: =IF(OR($A16="",$AE$3=""),"",IFERROR(IF(ISBLANK(INDEX('Agents Shift'!$F:$S,MATCH($A16,'Agents Shift'!$B:$B,0),$AE$3+1)),"",INDEX('Agents Shift'!$F:$S,MATCH($A16,'Agents Shift'!$B:$B,0),$AE$3+1)),"")) -> 0.66666667 | G16: =IF($A16="","",_xlfn.XLOOKUP($A16,HC!$A:$A,HC!$C:$C,"")) -> Dummy_USR 71 | H16: =IF($G16="","",_xlfn.XLOOKUP($G16,$U:$U,$Z:$Z,"Not in Web Tool")) -> Available | I16: =IF($G16="","",_xlfn.XLOOKUP($G16,$U:$U,$Y:$Y,"")) -> 12:42 | J16: =IF(OR($A16="",$H16=""),"",IF($H16="Not in Web Tool","Unmatched",_xlfn.XLOOKUP($H16,'RAW Data'!$E:$E,'RAW Data'!$F:$F,"Unmapped"))) -> Yes | K16: =_xlfn.IFS($J16="Yes","YES",$J16="","",$J16="No","NO",$J16="Not Productive",$H16,TRUE,$J16) -> YES | M16: =IF(ISNUMBER($E16),ROUND($E16*1440,0),"") -> 480 | N16: =IF(AND(ISNUMBER($E16),ISNUMBER($F16)),ROUND($F16*1440,0)+IF($F16<=$E16,1440,0),"") -> 960 | P16: 00:00:00 00:00:00 --:--:-- | Q16: 12 | R16: =IF($C$3="Live Paste",IF($P16="","",$P16&""),IF($AD$3="","",INDEX('Extraction History'!$A$3:$DT$9102,$Q16,$AD$3)&"")) -> 00:00:00 00:00:00 --:--:-- | S16: =S15+6 -> 69 | T16: =_xlfn.XLOOKUP($S16,$Q$5:$Q$9104,$R$5:$R$9104,"") -> Dummy_USR 163 25264 | U16: =IFERROR(_xlfn.TEXTBEFORE($T16,_xlfn.UNICHAR(160),1),"") -> Dummy_USR 163 | V16: =IF($U16="","",_xlfn.TEXTAFTER($T16,_xlfn.UNICHAR(160),1)) -> 25264 | W16: =W15+6 -> 70 | X16: =_xlfn.XLOOKUP($W16,$Q$5:$Q$9104,$R$5:$R$9104,"") -> Offline · 15:29:25 | Y16: =IFERROR(IF($Z16="","",TRIM(SUBSTITUTE(_xlfn.TEXTAFTER($X16,_xlfn.UNICHAR(160)&"·",1),_xlfn.UNICHAR(160)," "))),"") -> 15:29:25 | Z16: =IFERROR(_xlfn.TEXTBEFORE($X16,_xlfn.UNICHAR(160),1),$X16) -> Offline | AA16: =IF($U16="","",IF(COUNTIF(HC!$C:$C,$U16)>0,"Y",IF(COUNTIF($U$5:$U16,$U16)=1,"N","dup"))) -> Y
A17: =IF(INDEX('Agents Shift'!$B:$B,ROW())="","",INDEX('Agents Shift'!$B:$B,ROW())) -> 100039 | B17: =IF($A17="","",_xlfn.XLOOKUP($A17,HC!$A:$A,HC!$B:$B,"")) -> Dummy_AG 39 | C17: =IF($A17="","",_xlfn.XLOOKUP($A17,HC!$A:$A,HC!$E:$E,"")) -> LOB_2 | D17: =IF($A17="","",_xlfn.XLOOKUP($A17,HC!$A:$A,HC!$D:$D,"")) -> Dummy_TL 7 | E17: =IF(OR($A17="",$AE$3=""),"",IFERROR(IF(ISBLANK(INDEX('Agents Shift'!$F:$S,MATCH($A17,'Agents Shift'!$B:$B,0),$AE$3)),"",INDEX('Agents Shift'!$F:$S,MATCH($A17,'Agents Shift'!$B:$B,0),$AE$3)),"")) -> Leave | F17: =IF(OR($A17="",$AE$3=""),"",IFERROR(IF(ISBLANK(INDEX('Agents Shift'!$F:$S,MATCH($A17,'Agents Shift'!$B:$B,0),$AE$3+1)),"",INDEX('Agents Shift'!$F:$S,MATCH($A17,'Agents Shift'!$B:$B,0),$AE$3+1)),"")) -> Leave | G17: =IF($A17="","",_xlfn.XLOOKUP($A17,HC!$A:$A,HC!$C:$C,"")) -> Dummy_USR 39 | H17: =IF($G17="","",_xlfn.XLOOKUP($G17,$U:$U,$Z:$Z,"Not in Web Tool")) -> Not in Web Tool | I17: =IF($G17="","",_xlfn.XLOOKUP($G17,$U:$U,$Y:$Y,"")) | J17: =IF(OR($A17="",$H17=""),"",IF($H17="Not in Web Tool","Unmatched",_xlfn.XLOOKUP($H17,'RAW Data'!$E:$E,'RAW Data'!$F:$F,"Unmapped"))) -> Unmatched | K17: =_xlfn.IFS($J17="Yes","YES",$J17="","",$J17="No","NO",$J17="Not Productive",$H17,TRUE,$J17) -> Unmatched | M17: =IF(ISNUMBER($E17),ROUND($E17*1440,0),"") | N17: =IF(AND(ISNUMBER($E17),ISNUMBER($F17)),ROUND($F17*1440,0)+IF($F17<=$E17,1440,0),"") | P17: Employee State | Q17: 13 | R17: =IF($C$3="Live Paste",IF($P17="","",$P17&""),IF($AD$3="","",INDEX('Extraction History'!$A$3:$DT$9102,$Q17,$AD$3)&"")) -> Employee State | S17: =S16+6 -> 75 | T17: =_xlfn.XLOOKUP($S17,$Q$5:$Q$9104,$R$5:$R$9104,"") -> Dummy_USR 162 25254 | U17: =IFERROR(_xlfn.TEXTBEFORE($T17,_xlfn.UNICHAR(160),1),"") -> Dummy_USR 162 | V17: =IF($U17="","",_xlfn.TEXTAFTER($T17,_xlfn.UNICHAR(160),1)) -> 25254 | W17: =W16+6 -> 76 | X17: =_xlfn.XLOOKUP($W17,$Q$5:$Q$9104,$R$5:$R$9104,"") -> Offline · 13:59:27 | Y17: =IFERROR(IF($Z17="","",TRIM(SUBSTITUTE(_xlfn.TEXTAFTER($X17,_xlfn.UNICHAR(160)&"·",1),_xlfn.UNICHAR(160)," "))),"") -> 13:59:27 | Z17: =IFERROR(_xlfn.TEXTBEFORE($X17,_xlfn.UNICHAR(160),1),$X17) -> Offline | AA17: =IF($U17="","",IF(COUNTIF(HC!$C:$C,$U17)>0,"Y",IF(COUNTIF($U$5:$U17,$U17)=1,"N","dup"))) -> Y
... A1090: =IF(INDEX('Agents Shift'!$B:$B,ROW())="","",INDEX('Agents Shift'!$B:$B,ROW())) | B1090: =IF($A1090="","",_xlfn.XLOOKUP($A1090,HC!$A:$A,HC!$B:$B,"")) | C1090: =IF($A1090="","",_xlfn.XLOOKUP($A1090,HC!$A:$A,HC!$E:$E,"")) | D1090: =IF($A1090="","",_xlfn.XLOOKUP($A1090,HC!$A:$A,HC!$D:$D,"")) | E1090: =IF(OR($A1090="",$AE$3=""),"",IFERROR(IF(ISBLANK(INDEX('Agents Shift'!$F:$S,MATCH($A1090,'Agents Shift'!$B:$B,0),$AE$3)),"",INDEX('Agents Shift'!$F:$S,MATCH($A1090,'Agents Shift'!$B:$B,0),$AE$3)),"")) | F1090: =IF(OR($A1090="",$AE$3=""),"",IFERROR(IF(ISBLANK(INDEX('Agents Shift'!$F:$S,MATCH($A1090,'Agents Shift'!$B:$B,0),$AE$3+1)),"",INDEX('Agents Shift'!$F:$S,MATCH($A1090,'Agents Shift'!$B:$B,0),$AE$3+1)),"")) | G1090: =IF($A1090="","",_xlfn.XLOOKUP($A1090,HC!$A:$A,HC!$C:$C,"")) | H1090: =IF($G1090="","",_xlfn.XLOOKUP($G1090,$U:$U,$Z:$Z,"Not in Web Tool")) | I1090: =IF($G1090="","",_xlfn.XLOOKUP($G1090,$U:$U,$Y:$Y,"")) | J1090: =IF(OR($A1090="",$H1090=""),"",IF($H1090="Not in Web Tool","Unmatched",_xlfn.XLOOKUP($H1090,'RAW Data'!$E:$E,'RAW Data'!$F:$F,"Unmapped"))) | K1090: =_xlfn.IFS($J1090="Yes","YES",$J1090="","",$J1090="No","NO",$J1090="Not Productive",$H1090,TRUE,$J1090) | M1090: =IF(ISNUMBER($E1090),ROUND($E1090*1440,0),"") | N1090: =IF(AND(ISNUMBER($E1090),ISNUMBER($F1090)),ROUND($F1090*1440,0)+IF($F1090<=$E1090,1440,0),"") | P1090: --:--:-- --:--:-- --:--:-- | Q1090: 1086 | R1090: =IF($C$3="Live Paste",IF($P1090="","",$P1090&""),IF($AD$3="","",INDEX('Extraction History'!$A$3:$DT$9102,$Q1090,$AD$3)&"")) -> --:--:-- --:--:-- --:--:-- | S1090: =S1089+6 -> 6513 | T1090: =_xlfn.XLOOKUP($S1090,$Q$5:$Q$9104,$R$5:$R$9104,"") | U1090: =IFERROR(_xlfn.TEXTBEFORE($T1090,_xlfn.UNICHAR(160),1),"") | V1090: =IF($U1090="","",_xlfn.TEXTAFTER($T1090,_xlfn.UNICHAR(160),1)) | W1090: =W1089+6 -> 6514 | X1090: =_xlfn.XLOOKUP($W1090,$Q$5:$Q$9104,$R$5:$R$9104,"") | Y1090: =IFERROR(IF($Z1090="","",TRIM(SUBSTITUTE(_xlfn.TEXTAFTER($X1090,_xlfn.UNICHAR(160)&"·",1),_xlfn.UNICHAR(160)," "))),"") | Z1090: =IFERROR(_xlfn.TEXTBEFORE($X1090,_xlfn.UNICHAR(160),1),$X1090) | AA1090: =IF($U1090="","",IF(COUNTIF(HC!$C:$C,$U1090)>0,"Y",IF(COUNTIF($U$5:$U1090,$U1090)=1,"N","dup")))
A1091: =IF(INDEX('Agents Shift'!$B:$B,ROW())="","",INDEX('Agents Shift'!$B:$B,ROW())) | B1091: =IF($A1091="","",_xlfn.XLOOKUP($A1091,HC!$A:$A,HC!$B:$B,"")) | C1091: =IF($A1091="","",_xlfn.XLOOKUP($A1091,HC!$A:$A,HC!$E:$E,"")) | D1091: =IF($A1091="","",_xlfn.XLOOKUP($A1091,HC!$A:$A,HC!$D:$D,"")) | E1091: =IF(OR($A1091="",$AE$3=""),"",IFERROR(IF(ISBLANK(INDEX('Agents Shift'!$F:$S,MATCH($A1091,'Agents Shift'!$B:$B,0),$AE$3)),"",INDEX('Agents Shift'!$F:$S,MATCH($A1091,'Agents Shift'!$B:$B,0),$AE$3)),"")) | F1091: =IF(OR($A1091="",$AE$3=""),"",IFERROR(IF(ISBLANK(INDEX('Agents Shift'!$F:$S,MATCH($A1091,'Agents Shift'!$B:$B,0),$AE$3+1)),"",INDEX('Agents Shift'!$F:$S,MATCH($A1091,'Agents Shift'!$B:$B,0),$AE$3+1)),"")) | G1091: =IF($A1091="","",_xlfn.XLOOKUP($A1091,HC!$A:$A,HC!$C:$C,"")) | H1091: =IF($G1091="","",_xlfn.XLOOKUP($G1091,$U:$U,$Z:$Z,"Not in Web Tool")) | I1091: =IF($G1091="","",_xlfn.XLOOKUP($G1091,$U:$U,$Y:$Y,"")) | J1091: =IF(OR($A1091="",$H1091=""),"",IF($H1091="Not in Web Tool","Unmatched",_xlfn.XLOOKUP($H1091,'RAW Data'!$E:$E,'RAW Data'!$F:$F,"Unmapped"))) | K1091: =_xlfn.IFS($J1091="Yes","YES",$J1091="","",$J1091="No","NO",$J1091="Not Productive",$H1091,TRUE,$J1091) | M1091: =IF(ISNUMBER($E1091),ROUND($E1091*1440,0),"") | N1091: =IF(AND(ISNUMBER($E1091),ISNUMBER($F1091)),ROUND($F1091*1440,0)+IF($F1091<=$E1091,1440,0),"") | Q1091: 1087 | R1091: =IF($C$3="Live Paste",IF($P1091="","",$P1091&""),IF($AD$3="","",INDEX('Extraction History'!$A$3:$DT$9102,$Q1091,$AD$3)&"")) | S1091: =S1090+6 -> 6519 | T1091: =_xlfn.XLOOKUP($S1091,$Q$5:$Q$9104,$R$5:$R$9104,"") | U1091: =IFERROR(_xlfn.TEXTBEFORE($T1091,_xlfn.UNICHAR(160),1),"") | V1091: =IF($U1091="","",_xlfn.TEXTAFTER($T1091,_xlfn.UNICHAR(160),1)) | W1091: =W1090+6 -> 6520 | X1091: =_xlfn.XLOOKUP($W1091,$Q$5:$Q$9104,$R$5:$R$9104,"") | Y1091: =IFERROR(IF($Z1091="","",TRIM(SUBSTITUTE(_xlfn.TEXTAFTER($X1091,_xlfn.UNICHAR(160)&"·",1),_xlfn.UNICHAR(160)," "))),"") | Z1091: =IFERROR(_xlfn.TEXTBEFORE($X1091,_xlfn.UNICHAR(160),1),$X1091) | AA1091: =IF($U1091="","",IF(COUNTIF(HC!$C:$C,$U1091)>0,"Y",IF(COUNTIF($U$5:$U1091,$U1091)=1,"N","dup")))
A1092: =IF(INDEX('Agents Shift'!$B:$B,ROW())="","",INDEX('Agents Shift'!$B:$B,ROW())) | B1092: =IF($A1092="","",_xlfn.XLOOKUP($A1092,HC!$A:$A,HC!$B:$B,"")) | C1092: =IF($A1092="","",_xlfn.XLOOKUP($A1092,HC!$A:$A,HC!$E:$E,"")) | D1092: =IF($A1092="","",_xlfn.XLOOKUP($A1092,HC!$A:$A,HC!$D:$D,"")) | E1092: =IF(OR($A1092="",$AE$3=""),"",IFERROR(IF(ISBLANK(INDEX('Agents Shift'!$F:$S,MATCH($A1092,'Agents Shift'!$B:$B,0),$AE$3)),"",INDEX('Agents Shift'!$F:$S,MATCH($A1092,'Agents Shift'!$B:$B,0),$AE$3)),"")) | F1092: =IF(OR($A1092="",$AE$3=""),"",IFERROR(IF(ISBLANK(INDEX('Agents Shift'!$F:$S,MATCH($A1092,'Agents Shift'!$B:$B,0),$AE$3+1)),"",INDEX('Agents Shift'!$F:$S,MATCH($A1092,'Agents Shift'!$B:$B,0),$AE$3+1)),"")) | G1092: =IF($A1092="","",_xlfn.XLOOKUP($A1092,HC!$A:$A,HC!$C:$C,"")) | H1092: =IF($G1092="","",_xlfn.XLOOKUP($G1092,$U:$U,$Z:$Z,"Not in Web Tool")) | I1092: =IF($G1092="","",_xlfn.XLOOKUP($G1092,$U:$U,$Y:$Y,"")) | J1092: =IF(OR($A1092="",$H1092=""),"",IF($H1092="Not in Web Tool","Unmatched",_xlfn.XLOOKUP($H1092,'RAW Data'!$E:$E,'RAW Data'!$F:$F,"Unmapped"))) | K1092: =_xlfn.IFS($J1092="Yes","YES",$J1092="","",$J1092="No","NO",$J1092="Not Productive",$H1092,TRUE,$J1092) | M1092: =IF(ISNUMBER($E1092),ROUND($E1092*1440,0),"") | N1092: =IF(AND(ISNUMBER($E1092),ISNUMBER($F1092)),ROUND($F1092*1440,0)+IF($F1092<=$E1092,1440,0),"") | Q1092: 1088 | R1092: =IF($C$3="Live Paste",IF($P1092="","",$P1092&""),IF($AD$3="","",INDEX('Extraction History'!$A$3:$DT$9102,$Q1092,$AD$3)&"")) | S1092: =S1091+6 -> 6525 | T1092: =_xlfn.XLOOKUP($S1092,$Q$5:$Q$9104,$R$5:$R$9104,"") | U1092: =IFERROR(_xlfn.TEXTBEFORE($T1092,_xlfn.UNICHAR(160),1),"") | V1092: =IF($U1092="","",_xlfn.TEXTAFTER($T1092,_xlfn.UNICHAR(160),1)) | W1092: =W1091+6 -> 6526 | X1092: =_xlfn.XLOOKUP($W1092,$Q$5:$Q$9104,$R$5:$R$9104,"") | Y1092: =IFERROR(IF($Z1092="","",TRIM(SUBSTITUTE(_xlfn.TEXTAFTER($X1092,_xlfn.UNICHAR(160)&"·",1),_xlfn.UNICHAR(160)," "))),"") | Z1092: =IFERROR(_xlfn.TEXTBEFORE($X1092,_xlfn.UNICHAR(160),1),$X1092) | AA1092: =IF($U1092="","",IF(COUNTIF(HC!$C:$C,$U1092)>0,"Y",IF(COUNTIF($U$5:$U1092,$U1092)=1,"N","dup")))
